Workbook

Sheet Welcome
H1: https://tinyurl.com/2025OCAAProv
C2: Seneca Polytechnic
C3: OCAA Provincial Championships | K3: On Deck
B5: Court 1 | C5: =IFERROR(VLOOKUP(1,Matches!B:M,6,FALSE),"") | E5: Court 5 | F5: =IFERROR(VLOOKUP(5,Matches!B:M,6,FALSE),"") | H5: 1st Available | I5: =IFERROR(VLOOKUP("1st avail",Matches!B:M,3,FALSE),"") | J5: =IFERROR(VLOOKUP("1st avail",Matches!B:M,4,FALSE),"") | K5: =IFERROR(VLOOKUP("1st avail",Matches!B:M,6,FALSE) & " vs " & VLOOKUP("1st avail",Matches!B:M,11,FALSE),"")
B6: =IFERROR(VLOOKUP(1,Matches!B:M,3,FALSE),"") | C6: vs | E6: =IFERROR(VLOOKUP(4,Matches!B:M,3,FALSE),"") | F6: vs
B7: =IFERROR(VLOOKUP(1,Matches!B:M,4,FALSE),"") | C7: =IFERROR(VLOOKUP(1,Matches!B:M,11,FALSE),"") | E7: =IFERROR(VLOOKUP(4,Matches!B:M,4,FALSE),"") | F7: =IFERROR(VLOOKUP(5,Matches!B:M,11,FALSE),"") | H7: 2nd Available | I7: =IFERROR(VLOOKUP("2nd avail",Matches!B:M,3,FALSE),"") | J7: =IFERROR(VLOOKUP("2nd avail",Matches!B:M,4,FALSE),"") | K7: =IFERROR(VLOOKUP("2nd avail",Matches!B:M,6,FALSE) & " vs " & VLOOKUP("2nd avail",Matches!B:M,11,FALSE),"")
B9: Court 2 | C9: =IFERROR(VLOOKUP(2,Matches!B:M,6,FALSE),"") | E9: Court 6 | F9: =IFERROR(VLOOKUP(6,Matches!B:M,6,FALSE),"") | H9: 3rd Available | I9: =IFERROR(VLOOKUP("3rd avail",Matches!B:M,3,FALSE),"") | J9: =IFERROR(VLOOKUP("3rd avail",Matches!B:M,4,FALSE),"") | K9: =IFERROR(VLOOKUP("3rd avail",Matches!B:M,6,FALSE) & " vs " & VLOOKUP("3rd avail",Matches!B:M,11,FALSE),"")
B10: =IFERROR(VLOOKUP(2,Matches!B:M,3,FALSE),"") | C10: vs | E10: =IFERROR(VLOOKUP(5,Matches!B:M,3,FALSE),"") | F10: vs
B11: =IFERROR(VLOOKUP(2,Matches!B:M,4,FALSE),"") | C11: =IFERROR(VLOOKUP(2,Matches!B:M,11,FALSE),"") | E11: =IFERROR(VLOOKUP(5,Matches!B:M,4,FALSE),"") | F11: =IFERROR(VLOOKUP(6,Matches!B:M,11,FALSE),"") | H11: 4th Available | I11: =IFERROR(VLOOKUP("4th avail",Matches!B:M,3,FALSE),"") | J11: =IFERROR(VLOOKUP("4th avail",Matches!B:M,4,FALSE),"") | K11: =IFERROR(VLOOKUP("4th avail",Matches!B:M,6,FALSE) & " vs " & VLOOKUP("4th avail",Matches!B:M,11,FALSE),"")
B13: Court 3 | C13: =IFERROR(VLOOKUP(3,Matches!B:M,6,FALSE),"") | E13: Court 7 | F13: =IFERROR(VLOOKUP(7,Matches!B:M,6,FALSE),"") | H13: 5th Available | I13: =IFERROR(VLOOKUP("5th avail",Matches!B:M,3,FALSE),"") | J13: =IFERROR(VLOOKUP("5th avail",Matches!B:M,4,FALSE),"") | K13: =IFERROR(VLOOKUP("5th avail",Matches!B:M,6,FALSE) & " vs " & VLOOKUP("5th avail",Matches!B:M,11,FALSE),"")
B14: =IFERROR(VLOOKUP(3,Matches!B:M,3,FALSE),"") | C14: vs | E14: =IFERROR(VLOOKUP(6,Matches!B:M,3,FALSE),"") | F14: vs
B15: =IFERROR(VLOOKUP(3,Matches!B:M,4,FALSE),"") | C15: =IFERROR(VLOOKUP(3,Matches!B:M,11,FALSE),"") | E15: =IFERROR(VLOOKUP(6,Matches!B:M,4,FALSE),"") | F15: =IFERROR(VLOOKUP(7,Matches!B:M,11,FALSE),"") | H15: 6th Available | I15: =IFERROR(VLOOKUP("6th avail",Matches!B:M,3,FALSE),"") | J15: =IFERROR(VLOOKUP("6th avail",Matches!B:M,4,FALSE),"") | K15: =IFERROR(VLOOKUP("6th avail",Matches!B:M,6,FALSE) & " vs " & VLOOKUP("6th avail",Matches!B:M,11,FALSE),"")
B17: Court 4 | C17: =IFERROR(VLOOKUP(4,Matches!B:M,6,FALSE),"") | E17: Court 8 | F17: =IFERROR(VLOOKUP(8,Matches!B:M,6,FALSE),"") | H17: Love All. Play!
B18: =IFERROR(VLOOKUP(3,Matches!B:M,3,FALSE),"") | C18: vs | E18: =IFERROR(VLOOKUP(6,Matches!B:M,3,FALSE),"") | F18: vs | H18: For scorekeepers, line judges or any discrepancies, please see our Officials: Head Referee: Umpires:
B19: =IFERROR(VLOOKUP(3,Matches!B:M,4,FALSE),"") | C19: =IFERROR(VLOOKUP(4,Matches!B:M,11,FALSE),"") | E19: =IFERROR(VLOOKUP(6,Matches!B:M,4,FALSE),"") | F19: =IFERROR(VLOOKUP(8,Matches!B:M,11,FALSE),"") | K19: https://ocaa.com/members/files/Badminton.pdf

Sheet Winners
B1: 2026 OCAA Provincial Championships
C2: 🥇 Gold Medalist | F2: 🥈 Silver Medalist | I2: 🥉 Bronze Medalist | L2: 🏅 4th Place
B3: Men's Singles | C3: Tim Lock, HUM | F3: Arpi Sinha, FAN | I3: Ram Ng, FAN | L3: Maulik Jain, SEN
B4: Women's Singles | C4: Rachel Chan, HUM | F4: Chincco Lai, SEN | I4: Elena Meng, HUM | L4: Tiffany Amper, SEN
B5: Men's Doubles | C5: B. Lai & J. Lau, SEN | F5: T. Le & T. Nguyen, FAN | I5: M. Barnes & R. Tu, CON | L5: T. Vicente-Pereira & Miranda, HUM
B6: Women's Doubles | C6: S. Wu & S. Joshi, HUM | F6: A. Xing & V. Lam, SEN | I6: T. Vaidya & N. Kim, FAN | L6: S. Godek & L. Goldsack, LAM
B7: Mixed Doubles | C7: J. Ronahan & C. Choi, HUM | F7: A. Tso & A. Iran, SEN | I7: S. Mohammad & X. Niu, FAN | L7: D. Brunette-Royer & J. Hopkins, CAM
C9: MS | D9: MD | E9: XD | F9: Total | G9: Rank | H9: COLLEGE | I9: WS | J9: WD | K9: XD | L9: Total | M9: Rank
A10: [BOR] | B10: Men's Team Banner | C10: 0 | D10: 0 | E10: 0 | F10: =SUM(C10:E10) -> 0 | H10: Boreal | I10: 0 | J10: 0 | K10: 0 | L10: =SUM(H10:K10) -> 0 | M10: 0 | N10: Women's Team Banner
A11: [CAM] | C11: 0 | D11: 0 | E11: 3 | F11: =SUM(C11:E11) -> 3 | H11: Cambrian | I11: 0 | J11: 0 | K11: 3 | L11: =SUM(H11:K11) -> 3
A12: [CON] | C12: 0 | D12: 5 | E12: 0 | F12: =SUM(C12:E12) -> 5 | H12: Conestoga | I12: 0 | J12: 0 | K12: 0 | L12: =SUM(H12:K12) -> 0
A13: [FAN] | C13: 12 | D13: 7 | E13: 5 | F13: =SUM(C13:E13) -> 24 | H13: Fanshawe | I13: 0 | J13: 5 | K13: 5 | L13: =SUM(H13:K13) -> 10
A14: [HUM] | C14: 10 | D14: 3 | E14: 10 | F14: =SUM(C14:E14) -> 23 | H14: Humber | I14: 15 | J14: 10 | K14: 10 | L14: =SUM(H14:K14) -> 35
A15: [LAM] | C15: 0 | D15: 0 | E15: 0 | F15: =SUM(C15:E15) -> 0 | H15: Lambton | I15: 0 | J15: 3 | K15: 0 | L15: =SUM(H15:K15) -> 3
A16: [SEN] | C16: 3 | D16: 10 | E16: 7 | F16: =SUM(C16:E16) -> 20 | H16: Seneca | I16: 10 | J16: 7 | K16: 7 | L16: =SUM(H16:K16) -> 24
D18: Men's Team Winner | E18: Fanshawe Falcons | I18: Congratulations to all participants!
D19: Women's Team Winner | E19: Humber Hawks
D20: Male Player of the Year | E20: Bosco Lai, SEN
D21: Female Player of the Year | E21: Shruti Joshi, HUM
D22: Coach of the Year | E22: Chloe Rowe, HUM
D23: Fair Play Award | E23: Maxwell Barnes, CON

Sheet Matches
A1: Match | B1: Court | D1: Event | E1: Round | F1: Team | G1: Team | K1: Team | L1: Team | M1: Winner's Score | N1: Notes | O1: I got no clue | P1: Players on Court | Q1: One player is already on court | R1: LEFT CONFLICT | S1: RIGHT CONFLICT
A2: 1 | D2: MS B | E2: 1 | G2: Arpi Sinha, FAN | I2: v | L2: Grey Pope, BOR | M2: 21-2, 21-4 | N2: ROUND 1 BYES: D. Collins, CAM, T. Amper, SEN, MD FAN, XD LAM | O2: =IFERROR(__xludf.DUMMYFUNCTION("IF(ROW(B13) > MAX(IFERROR(MATCH(1, B:B, 0), 0), IFERROR(MATCH(2, B:B, 0), 0), IFERROR(MATCH(3, B:B, 0), 0), IFERROR(MATCH(4, B:B, 0), 0), IFERROR(MATCH(5, B:B, 0), 0), IFERROR(MATCH(6, B:B, 0), 0), IFERROR(MATCH(7, B:B, 0), 0), IFERROR(MATCH(8, B:B, 1), 0"&")),NOT(ISERROR(FILTER(ARRAYFORMULA(IFERROR(SEARCH(INDIRECT(""$P$2:$P"" & TEXT(COUNTIF(($P$2:P146), ""<>""), ""0"")),G2 & "" "" & L2),"""")), ARRAYFORMULA(IFERROR(SEARCH(INDIRECT(""$P$2:$P"" & TEXT(COUNTIF(($P$2:P146), ""<>""), ""0"")),G2 & "" "" & L2),"""&""")) <> """"))), 0)"),FALSE) -> FALSE | P2: =IFERROR(__xludf.DUMMYFUNCTION("Arrayformula(TRIM(REGEXREPLACE(REGEXREPLACE(FILTER(FLATTEN(ARRAYFORMULA(SPLIT({FILTER({G2:G146}, N(B3:B146) >= 1, N(B3:B146)<= 8); FILTER({L2:L146}, N(B3:B146) >= 1, N(B3:B146)<= 8)},""/""))), FLATTEN(ARRAYFORMULA(SPLIT({FILTER({G2:G146}, N(B3:B146) >= 1,"&" N(B3:B146)<= 8); FILTER({L2:L146}, N(B3:B146) >= 1, N(B3:B146)<= 8)},""/"")) <> """")), ""\[.*\]"", """"),""\(.*\)"","""")))"),"#N/A") -> #N/A | Q2: =IFERROR(__xludf.DUMMYFUNCTION("IF(AND(OR(COUNTA(FILTER($P$2:$P146, ARRAYFORMULA(ISNUMBER(FIND($P$2:$P146, G2))))) > 0, COUNTA(FILTER($P$2:$P146, ARRAYFORMULA(ISNUMBER(FIND($P$2:$P146, L2))))) > 0), NOT(ISNUMBER(#REF!))), TRUE(), FALSE())"),FALSE) -> FALSE | R2: =IFERROR(__xludf.DUMMYFUNCTION("IF(ISNA(JOIN("", "", FILTER($P$2:$P146, ARRAYFORMULA(ISNUMBER(FIND($P$2:$P146, G2))), NOT(ISBLANK($P$2:$P146))))), "" "", JOIN("", "", FILTER($P$2:$P146, ARRAYFORMULA(ISNUMBER(FIND($P$2:$P146, G2))), NOT(ISBLANK($P$2:$P146)))))")," ") | S2: =IFERROR(__xludf.DUMMYFUNCTION("IF(ISNA(JOIN("", "", FILTER($P$2:$P146, ARRAYFORMULA(ISNUMBER(FIND($P$2:$P146, L2))), NOT(ISBLANK($P$2:$P146))))), "" "", JOIN("", "", FILTER($P$2:$P146, ARRAYFORMULA(ISNUMBER(FIND($P$2:$P146, L2))), NOT(ISBLANK($P$2:$P146)))))")," ")
A3: 2 | D3: MS B | E3: 1 | G3: Maulik Jain, SEN | I3: v | L3: Milton Smith, LAM | M3: 21-8, 21-10 | O3: =IFERROR(__xludf.DUMMYFUNCTION("IF(ROW(B10) > MAX(IFERROR(MATCH(1, B:B, 0), 0), IFERROR(MATCH(2, B:B, 0), 0), IFERROR(MATCH(3, B:B, 0), 0), IFERROR(MATCH(4, B:B, 0), 0), IFERROR(MATCH(5, B:B, 0), 0), IFERROR(MATCH(6, B:B, 0), 0), IFERROR(MATCH(7, B:B, 0), 0), IFERROR(MATCH(8, B:B, 1), 0"&")),NOT(ISERROR(FILTER(ARRAYFORMULA(IFERROR(SEARCH(INDIRECT(""$P$2:$P"" & TEXT(COUNTIF(($P$2:P146), ""<>""), ""0"")),G3 & "" "" & L3),"""")), ARRAYFORMULA(IFERROR(SEARCH(INDIRECT(""$P$2:$P"" & TEXT(COUNTIF(($P$2:P146), ""<>""), ""0"")),G3 & "" "" & L3),"""&""")) <> """"))), 0)"),FALSE) -> FALSE | Q3: =IFERROR(__xludf.DUMMYFUNCTION("IF(AND(OR(COUNTA(FILTER($P$2:$P146, ARRAYFORMULA(ISNUMBER(FIND($P$2:$P146, G3))))) > 0, COUNTA(FILTER($P$2:$P146, ARRAYFORMULA(ISNUMBER(FIND($P$2:$P146, L3))))) > 0), NOT(ISNUMBER(B3))), TRUE(), FALSE())"),FALSE) -> FALSE | R3: =IFERROR(__xludf.DUMMYFUNCTION("IF(ISNA(JOIN("", "", FILTER($P$2:$P146, ARRAYFORMULA(ISNUMBER(FIND($P$2:$P146, G3))), NOT(ISBLANK($P$2:$P146))))), "" "", JOIN("", "", FILTER($P$2:$P146, ARRAYFORMULA(ISNUMBER(FIND($P$2:$P146, G3))), NOT(ISBLANK($P$2:$P146)))))")," ") | S3: =IFERROR(__xludf.DUMMYFUNCTION("IF(ISNA(JOIN("", "", FILTER($P$2:$P146, ARRAYFORMULA(ISNUMBER(FIND($P$2:$P146, L3))), NOT(ISBLANK($P$2:$P146))))), "" "", JOIN("", "", FILTER($P$2:$P146, ARRAYFORMULA(ISNUMBER(FIND($P$2:$P146, L3))), NOT(ISBLANK($P$2:$P146)))))")," ")
A4: 3 | D4: MS B | E4: 1 | G4: Reanbert Valentino, HUM | I4: v | L4: Thinh Nguyen, CON | M4: 12-21, 14-21 | O4: =IFERROR(__xludf.DUMMYFUNCTION("IF(ROW(#REF!) > MAX(IFERROR(MATCH(1, B:B, 0), 0), IFERROR(MATCH(2, B:B, 0), 0), IFERROR(MATCH(3, B:B, 0), 0), IFERROR(MATCH(4, B:B, 0), 0), IFERROR(MATCH(5, B:B, 0), 0), IFERROR(MATCH(6, B:B, 0), 0), IFERROR(MATCH(7, B:B, 0), 0), IFERROR(MATCH(8, B:B, 1),"&" 0)),NOT(ISERROR(FILTER(ARRAYFORMULA(IFERROR(SEARCH(INDIRECT(""$P$2:$P"" & TEXT(COUNTIF(($P$2:P146), ""<>""), ""0"")),G4 & "" "" & L4),"""")), ARRAYFORMULA(IFERROR(SEARCH(INDIRECT(""$P$2:$P"" & TEXT(COUNTIF(($P$2:P146), ""<>""), ""0"")),G4 & "" "" & L4),"&""""")) <> """"))), 0)"),"#REF!") -> #REF! | Q4: =IFERROR(__xludf.DUMMYFUNCTION("IF(AND(OR(COUNTA(FILTER($P$2:$P146, ARRAYFORMULA(ISNUMBER(FIND($P$2:$P146, G4))))) > 0, COUNTA(FILTER($P$2:$P146, ARRAYFORMULA(ISNUMBER(FIND($P$2:$P146, L4))))) > 0), NOT(ISNUMBER(B4))), TRUE(), FALSE())"),FALSE) -> FALSE | R4: =IFERROR(__xludf.DUMMYFUNCTION("IF(ISNA(JOIN("", "", FILTER($P$2:$P146, ARRAYFORMULA(ISNUMBER(FIND($P$2:$P146, G4))), NOT(ISBLANK($P$2:$P146))))), "" "", JOIN("", "", FILTER($P$2:$P146, ARRAYFORMULA(ISNUMBER(FIND($P$2:$P146, G4))), NOT(ISBLANK($P$2:$P146)))))")," ") | S4: =IFERROR(__xludf.DUMMYFUNCTION("IF(ISNA(JOIN("", "", FILTER($P$2:$P146, ARRAYFORMULA(ISNUMBER(FIND($P$2:$P146, L4))), NOT(ISBLANK($P$2:$P146))))), "" "", JOIN("", "", FILTER($P$2:$P146, ARRAYFORMULA(ISNUMBER(FIND($P$2:$P146, L4))), NOT(ISBLANK($P$2:$P146)))))")," ")
A5: 4 | D5: MS A | E5: 1 | G5: Tim Lock, HUM | I5: v | L5: Dalton Baxter, LAM | M5: 21-2, 21-1 | O5: =IFERROR(__xludf.DUMMYFUNCTION("IF(ROW(B3) > MAX(IFERROR(MATCH(1, B:B, 0), 0), IFERROR(MATCH(2, B:B, 0), 0), IFERROR(MATCH(3, B:B, 0), 0), IFERROR(MATCH(4, B:B, 0), 0), IFERROR(MATCH(5, B:B, 0), 0), IFERROR(MATCH(6, B:B, 0), 0), IFERROR(MATCH(7, B:B, 0), 0), IFERROR(MATCH(8, B:B, 1), 0)"&"),NOT(ISERROR(FILTER(ARRAYFORMULA(IFERROR(SEARCH(INDIRECT(""$P$2:$P"" & TEXT(COUNTIF(($P$2:P146), ""<>""), ""0"")),G5 & "" "" & L5),"""")), ARRAYFORMULA(IFERROR(SEARCH(INDIRECT(""$P$2:$P"" & TEXT(COUNTIF(($P$2:P146), ""<>""), ""0"")),G5 & "" "" & L5),"""""&")) <> """"))), 0)"),FALSE) -> FALSE | Q5: =IFERROR(__xludf.DUMMYFUNCTION("IF(AND(OR(COUNTA(FILTER($P$2:$P146, ARRAYFORMULA(ISNUMBER(FIND($P$2:$P146, G5))))) > 0, COUNTA(FILTER($P$2:$P146, ARRAYFORMULA(ISNUMBER(FIND($P$2:$P146, L5))))) > 0), NOT(ISNUMBER(B5))), TRUE(), FALSE())"),FALSE) -> FALSE | R5: =IFERROR(__xludf.DUMMYFUNCTION("IF(ISNA(JOIN("", "", FILTER($P$2:$P146, ARRAYFORMULA(ISNUMBER(FIND($P$2:$P146, G5))), NOT(ISBLANK($P$2:$P146))))), "" "", JOIN("", "", FILTER($P$2:$P146, ARRAYFORMULA(ISNUMBER(FIND($P$2:$P146, G5))), NOT(ISBLANK($P$2:$P146)))))")," ") | S5: =IFERROR(__xludf.DUMMYFUNCTION("IF(ISNA(JOIN("", "", FILTER($P$2:$P146, ARRAYFORMULA(ISNUMBER(FIND($P$2:$P146, L5))), NOT(ISBLANK($P$2:$P146))))), "" "", JOIN("", "", FILTER($P$2:$P146, ARRAYFORMULA(ISNUMBER(FIND($P$2:$P146, L5))), NOT(ISBLANK($P$2:$P146)))))")," ")
A6: 5 | D6: MS A | E6: 1 | G6: Sebastien Liu, SEN | I6: v | L6: Akashdeep Singh, CON | M6: 21-17, 21-8 | O6: =IFERROR(__xludf.DUMMYFUNCTION("IF(ROW(B4) > MAX(IFERROR(MATCH(1, B:B, 0), 0), IFERROR(MATCH(2, B:B, 0), 0), IFERROR(MATCH(3, B:B, 0), 0), IFERROR(MATCH(4, B:B, 0), 0), IFERROR(MATCH(5, B:B, 0), 0), IFERROR(MATCH(6, B:B, 0), 0), IFERROR(MATCH(7, B:B, 0), 0), IFERROR(MATCH(8, B:B, 1), 0)"&"),NOT(ISERROR(FILTER(ARRAYFORMULA(IFERROR(SEARCH(INDIRECT(""$P$2:$P"" & TEXT(COUNTIF(($P$2:P146), ""<>""), ""0"")),G6 & "" "" & L6),"""")), ARRAYFORMULA(IFERROR(SEARCH(INDIRECT(""$P$2:$P"" & TEXT(COUNTIF(($P$2:P146), ""<>""), ""0"")),G6 & "" "" & L6),"""""&")) <> """"))), 0)"),FALSE) -> FALSE | Q6: =IFERROR(__xludf.DUMMYFUNCTION("IF(AND(OR(COUNTA(FILTER($P$2:$P146, ARRAYFORMULA(ISNUMBER(FIND($P$2:$P146, G6))))) > 0, COUNTA(FILTER($P$2:$P146, ARRAYFORMULA(ISNUMBER(FIND($P$2:$P146, L6))))) > 0), NOT(ISNUMBER(B6))), TRUE(), FALSE())"),FALSE) -> FALSE | R6: =IFERROR(__xludf.DUMMYFUNCTION("IF(ISNA(JOIN("", "", FILTER($P$2:$P146, ARRAYFORMULA(ISNUMBER(FIND($P$2:$P146, G6))), NOT(ISBLANK($P$2:$P146))))), "" "", JOIN("", "", FILTER($P$2:$P146, ARRAYFORMULA(ISNUMBER(FIND($P$2:$P146, G6))), NOT(ISBLANK($P$2:$P146)))))")," ") | S6: =IFERROR(__xludf.DUMMYFUNCTION("IF(ISNA(JOIN("", "", FILTER($P$2:$P146, ARRAYFORMULA(ISNUMBER(FIND($P$2:$P146, L6))), NOT(ISBLANK($P$2:$P146))))), "" "", JOIN("", "", FILTER($P$2:$P146, ARRAYFORMULA(ISNUMBER(FIND($P$2:$P146, L6))), NOT(ISBLANK($P$2:$P146)))))")," ")
A7: 6 | D7: MS A | E7: 1 | G7: Ram Ng, FAN | I7: v | L7: Prabhkirat Singh, CAM | M7: 21-5, 21-4 | O7: =IFERROR(__xludf.DUMMYFUNCTION("IF(ROW(B5) > MAX(IFERROR(MATCH(1, B:B, 0), 0), IFERROR(MATCH(2, B:B, 0), 0), IFERROR(MATCH(3, B:B, 0), 0), IFERROR(MATCH(4, B:B, 0), 0), IFERROR(MATCH(5, B:B, 0), 0), IFERROR(MATCH(6, B:B, 0), 0), IFERROR(MATCH(7, B:B, 0), 0), IFERROR(MATCH(8, B:B, 1), 0)"&"),NOT(ISERROR(FILTER(ARRAYFORMULA(IFERROR(SEARCH(INDIRECT(""$P$2:$P"" & TEXT(COUNTIF(($P$2:P146), ""<>""), ""0"")),G7 & "" "" & L7),"""")), ARRAYFORMULA(IFERROR(SEARCH(INDIRECT(""$P$2:$P"" & TEXT(COUNTIF(($P$2:P146), ""<>""), ""0"")),G7 & "" "" & L7),"""""&")) <> """"))), 0)"),FALSE) -> FALSE | Q7: =IFERROR(__xludf.DUMMYFUNCTION("IF(AND(OR(COUNTA(FILTER($P$2:$P146, ARRAYFORMULA(ISNUMBER(FIND($P$2:$P146, G7))))) > 0, COUNTA(FILTER($P$2:$P146, ARRAYFORMULA(ISNUMBER(FIND($P$2:$P146, L7))))) > 0), NOT(ISNUMBER(B7))), TRUE(), FALSE())"),FALSE) -> FALSE | R7: =IFERROR(__xludf.DUMMYFUNCTION("IF(ISNA(JOIN("", "", FILTER($P$2:$P146, ARRAYFORMULA(ISNUMBER(FIND($P$2:$P146, G7))), NOT(ISBLANK($P$2:$P146))))), "" "", JOIN("", "", FILTER($P$2:$P146, ARRAYFORMULA(ISNUMBER(FIND($P$2:$P146, G7))), NOT(ISBLANK($P$2:$P146)))))")," ") | S7: =IFERROR(__xludf.DUMMYFUNCTION("IF(ISNA(JOIN("", "", FILTER($P$2:$P146, ARRAYFORMULA(ISNUMBER(FIND($P$2:$P146, L7))), NOT(ISBLANK($P$2:$P146))))), "" "", JOIN("", "", FILTER($P$2:$P146, ARRAYFORMULA(ISNUMBER(FIND($P$2:$P146, L7))), NOT(ISBLANK($P$2:$P146)))))")," ")
A8: 7 | D8: WS B | E8: 1 | G8: Elena Meng, HUM | I8: v | L8: Mackenzie Pilon, BOR | M8: 21-10, 21-3 | O8: =IFERROR(__xludf.DUMMYFUNCTION("IF(ROW(B6) > MAX(IFERROR(MATCH(1, B:B, 0), 0), IFERROR(MATCH(2, B:B, 0), 0), IFERROR(MATCH(3, B:B, 0), 0), IFERROR(MATCH(4, B:B, 0), 0), IFERROR(MATCH(5, B:B, 0), 0), IFERROR(MATCH(6, B:B, 0), 0), IFERROR(MATCH(7, B:B, 0), 0), IFERROR(MATCH(8, B:B, 1), 0)"&"),NOT(ISERROR(FILTER(ARRAYFORMULA(IFERROR(SEARCH(INDIRECT(""$P$2:$P"" & TEXT(COUNTIF(($P$2:P146), ""<>""), ""0"")),G8 & "" "" & L8),"""")), ARRAYFORMULA(IFERROR(SEARCH(INDIRECT(""$P$2:$P"" & TEXT(COUNTIF(($P$2:P146), ""<>""), ""0"")),G8 & "" "" & L8),"""""&")) <> """"))), 0)"),FALSE) -> FALSE | Q8: =IFERROR(__xludf.DUMMYFUNCTION("IF(AND(OR(COUNTA(FILTER($P$2:$P146, ARRAYFORMULA(ISNUMBER(FIND($P$2:$P146, G8))))) > 0, COUNTA(FILTER($P$2:$P146, ARRAYFORMULA(ISNUMBER(FIND($P$2:$P146, L8))))) > 0), NOT(ISNUMBER(B8))), TRUE(), FALSE())"),FALSE) -> FALSE | R8: =IFERROR(__xludf.DUMMYFUNCTION("IF(ISNA(JOIN("", "", FILTER($P$2:$P146, ARRAYFORMULA(ISNUMBER(FIND($P$2:$P146, G8))), NOT(ISBLANK($P$2:$P146))))), "" "", JOIN("", "", FILTER($P$2:$P146, ARRAYFORMULA(ISNUMBER(FIND($P$2:$P146, G8))), NOT(ISBLANK($P$2:$P146)))))")," ") | S8: =IFERROR(__xludf.DUMMYFUNCTION("IF(ISNA(JOIN("", "", FILTER($P$2:$P146, ARRAYFORMULA(ISNUMBER(FIND($P$2:$P146, L8))), NOT(ISBLANK($P$2:$P146))))), "" "", JOIN("", "", FILTER($P$2:$P146, ARRAYFORMULA(ISNUMBER(FIND($P$2:$P146, L8))), NOT(ISBLANK($P$2:$P146)))))")," ")
A9: 8 | D9: WS B | E9: 1 | G9: Chincco Lai, SEN | I9: v | L9: Alexa Clark, CAM | M9: 21-4, 21-6 | O9: =IFERROR(__xludf.DUMMYFUNCTION("IF(ROW(B7) > MAX(IFERROR(MATCH(1, B:B, 0), 0), IFERROR(MATCH(2, B:B, 0), 0), IFERROR(MATCH(3, B:B, 0), 0), IFERROR(MATCH(4, B:B, 0), 0), IFERROR(MATCH(5, B:B, 0), 0), IFERROR(MATCH(6, B:B, 0), 0), IFERROR(MATCH(7, B:B, 0), 0), IFERROR(MATCH(8, B:B, 1), 0)"&"),NOT(ISERROR(FILTER(ARRAYFORMULA(IFERROR(SEARCH(INDIRECT(""$P$2:$P"" & TEXT(COUNTIF(($P$2:P146), ""<>""), ""0"")),G9 & "" "" & L9),"""")), ARRAYFORMULA(IFERROR(SEARCH(INDIRECT(""$P$2:$P"" & TEXT(COUNTIF(($P$2:P146), ""<>""), ""0"")),G9 & "" "" & L9),"""""&")) <> """"))), 0)"),FALSE) -> FALSE | Q9: =IFERROR(__xludf.DUMMYFUNCTION("IF(AND(OR(COUNTA(FILTER($P$2:$P146, ARRAYFORMULA(ISNUMBER(FIND($P$2:$P146, G9))))) > 0, COUNTA(FILTER($P$2:$P146, ARRAYFORMULA(ISNUMBER(FIND($P$2:$P146, L9))))) > 0), NOT(ISNUMBER(B9))), TRUE(), FALSE())"),FALSE) -> FALSE | R9: =IFERROR(__xludf.DUMMYFUNCTION("IF(ISNA(JOIN("", "", FILTER($P$2:$P146, ARRAYFORMULA(ISNUMBER(FIND($P$2:$P146, G9))), NOT(ISBLANK($P$2:$P146))))), "" "", JOIN("", "", FILTER($P$2:$P146, ARRAYFORMULA(ISNUMBER(FIND($P$2:$P146, G9))), NOT(ISBLANK($P$2:$P146)))))")," ") | S9: =IFERROR(__xludf.DUMMYFUNCTION("IF(ISNA(JOIN("", "", FILTER($P$2:$P146, ARRAYFORMULA(ISNUMBER(FIND($P$2:$P146, L9))), NOT(ISBLANK($P$2:$P146))))), "" "", JOIN("", "", FILTER($P$2:$P146, ARRAYFORMULA(ISNUMBER(FIND($P$2:$P146, L9))), NOT(ISBLANK($P$2:$P146)))))")," ")
A10: 9 | D10: WS B | E10: 1 | G10: Shubhi Yadav, CON | I10: v | L10: Rejoice Nwokedi, FAN | M10: CON WITHDRAWAL | N10: CON WITHDRAWAL | O10: =IFERROR(__xludf.DUMMYFUNCTION("IF(ROW(#REF!) > MAX(IFERROR(MATCH(1, B:B, 0), 0), IFERROR(MATCH(2, B:B, 0), 0), IFERROR(MATCH(3, B:B, 0), 0), IFERROR(MATCH(4, B:B, 0), 0), IFERROR(MATCH(5, B:B, 0), 0), IFERROR(MATCH(6, B:B, 0), 0), IFERROR(MATCH(7, B:B, 0), 0), IFERROR(MATCH(8, B:B, 1),"&" 0)),NOT(ISERROR(FILTER(ARRAYFORMULA(IFERROR(SEARCH(INDIRECT(""$P$2:$P"" & TEXT(COUNTIF(($P$2:P146), ""<>""), ""0"")),G10 & "" "" & L10),"""")), ARRAYFORMULA(IFERROR(SEARCH(INDIRECT(""$P$2:$P"" & TEXT(COUNTIF(($P$2:P146), ""<>""), ""0"")),G10 & "" "" & L1"&"0),"""")) <> """"))), 0)"),"#REF!") -> #REF! | Q10: =IFERROR(__xludf.DUMMYFUNCTION("IF(AND(OR(COUNTA(FILTER($P$2:$P146, ARRAYFORMULA(ISNUMBER(FIND($P$2:$P146, G10))))) > 0, COUNTA(FILTER($P$2:$P146, ARRAYFORMULA(ISNUMBER(FIND($P$2:$P146, L10))))) > 0), NOT(ISNUMBER(B10))), TRUE(), FALSE())"),FALSE) -> FALSE | R10: =IFERROR(__xludf.DUMMYFUNCTION("IF(ISNA(JOIN("", "", FILTER($P$2:$P146, ARRAYFORMULA(ISNUMBER(FIND($P$2:$P146, G10))), NOT(ISBLANK($P$2:$P146))))), "" "", JOIN("", "", FILTER($P$2:$P146, ARRAYFORMULA(ISNUMBER(FIND($P$2:$P146, G10))), NOT(ISBLANK($P$2:$P146)))))")," ") | S10: =IFERROR(__xludf.DUMMYFUNCTION("IF(ISNA(JOIN("", "", FILTER($P$2:$P146, ARRAYFORMULA(ISNUMBER(FIND($P$2:$P146, L10))), NOT(ISBLANK($P$2:$P146))))), "" "", JOIN("", "", FILTER($P$2:$P146, ARRAYFORMULA(ISNUMBER(FIND($P$2:$P146, L10))), NOT(ISBLANK($P$2:$P146)))))")," ")
A11: 10 | D11: WS A | E11: 1 | G11: Rachel Chan, HUM | I11: v | L11: Alyssa Gagne, BOR | M11: 21-1, 21-2 | O11: =IFERROR(__xludf.DUMMYFUNCTION("IF(ROW(#REF!) > MAX(IFERROR(MATCH(1, B:B, 0), 0), IFERROR(MATCH(2, B:B, 0), 0), IFERROR(MATCH(3, B:B, 0), 0), IFERROR(MATCH(4, B:B, 0), 0), IFERROR(MATCH(5, B:B, 0), 0), IFERROR(MATCH(6, B:B, 0), 0), IFERROR(MATCH(7, B:B, 0), 0), IFERROR(MATCH(8, B:B, 1),"&" 0)),NOT(ISERROR(FILTER(ARRAYFORMULA(IFERROR(SEARCH(INDIRECT(""$P$2:$P"" & TEXT(COUNTIF(($P$2:P146), ""<>""), ""0"")),G11 & "" "" & L11),"""")), ARRAYFORMULA(IFERROR(SEARCH(INDIRECT(""$P$2:$P"" & TEXT(COUNTIF(($P$2:P146), ""<>""), ""0"")),G11 & "" "" & L1"&"1),"""")) <> """"))), 0)"),"#REF!") -> #REF! | Q11: =IFERROR(__xludf.DUMMYFUNCTION("IF(AND(OR(COUNTA(FILTER($P$2:$P146, ARRAYFORMULA(ISNUMBER(FIND($P$2:$P146, G11))))) > 0, COUNTA(FILTER($P$2:$P146, ARRAYFORMULA(ISNUMBER(FIND($P$2:$P146, L11))))) > 0), NOT(ISNUMBER(B11))), TRUE(), FALSE())"),FALSE) -> FALSE | R11: =IFERROR(__xludf.DUMMYFUNCTION("IF(ISNA(JOIN("", "", FILTER($P$2:$P146, ARRAYFORMULA(ISNUMBER(FIND($P$2:$P146, G11))), NOT(ISBLANK($P$2:$P146))))), "" "", JOIN("", "", FILTER($P$2:$P146, ARRAYFORMULA(ISNUMBER(FIND($P$2:$P146, G11))), NOT(ISBLANK($P$2:$P146)))))")," ") | S11: =IFERROR(__xludf.DUMMYFUNCTION("IF(ISNA(JOIN("", "", FILTER($P$2:$P146, ARRAYFORMULA(ISNUMBER(FIND($P$2:$P146, L11))), NOT(ISBLANK($P$2:$P146))))), "" "", JOIN("", "", FILTER($P$2:$P146, ARRAYFORMULA(ISNUMBER(FIND($P$2:$P146, L11))), NOT(ISBLANK($P$2:$P146)))))")," ")
A12: 11 | D12: WS A | E12: 1 | G12: Samantha Darby, FAN | I12: v | L12: Chelsea Kennedy, CAM | M12: 21-19, 21-14 | O12: =IFERROR(__xludf.DUMMYFUNCTION("IF(ROW(#REF!) > MAX(IFERROR(MATCH(1, B:B, 0), 0), IFERROR(MATCH(2, B:B, 0), 0), IFERROR(MATCH(3, B:B, 0), 0), IFERROR(MATCH(4, B:B, 0), 0), IFERROR(MATCH(5, B:B, 0), 0), IFERROR(MATCH(6, B:B, 0), 0), IFERROR(MATCH(7, B:B, 0), 0), IFERROR(MATCH(8, B:B, 1),"&" 0)),NOT(ISERROR(FILTER(ARRAYFORMULA(IFERROR(SEARCH(INDIRECT(""$P$2:$P"" & TEXT(COUNTIF(($P$2:P146), ""<>""), ""0"")),G12 & "" "" & L12),"""")), ARRAYFORMULA(IFERROR(SEARCH(INDIRECT(""$P$2:$P"" & TEXT(COUNTIF(($P$2:P146), ""<>""), ""0"")),G12 & "" "" & L1"&"2),"""")) <> """"))), 0)"),"#REF!") -> #REF! | Q12: =IFERROR(__xludf.DUMMYFUNCTION("IF(AND(OR(COUNTA(FILTER($P$2:$P146, ARRAYFORMULA(ISNUMBER(FIND($P$2:$P146, G12))))) > 0, COUNTA(FILTER($P$2:$P146, ARRAYFORMULA(ISNUMBER(FIND($P$2:$P146, L12))))) > 0), NOT(ISNUMBER(B12))), TRUE(), FALSE())"),FALSE) -> FALSE | R12: =IFERROR(__xludf.DUMMYFUNCTION("IF(ISNA(JOIN("", "", FILTER($P$2:$P146, ARRAYFORMULA(ISNUMBER(FIND($P$2:$P146, G12))), NOT(ISBLANK($P$2:$P146))))), "" "", JOIN("", "", FILTER($P$2:$P146, ARRAYFORMULA(ISNUMBER(FIND($P$2:$P146, G12))), NOT(ISBLANK($P$2:$P146)))))")," ") | S12: =IFERROR(__xludf.DUMMYFUNCTION("IF(ISNA(JOIN("", "", FILTER($P$2:$P146, ARRAYFORMULA(ISNUMBER(FIND($P$2:$P146, L12))), NOT(ISBLANK($P$2:$P146))))), "" "", JOIN("", "", FILTER($P$2:$P146, ARRAYFORMULA(ISNUMBER(FIND($P$2:$P146, L12))), NOT(ISBLANK($P$2:$P146)))))")," ")
A13: 12 | D13: WD | E13: 1 | G13: V. Somaroo & M. Mercier, BOR | I13: v | L13: A. Xing & V. Lam, SEN | M13: 8-21, 5-21 | O13: =IFERROR(__xludf.DUMMYFUNCTION("IF(ROW(#REF!) > MAX(IFERROR(MATCH(1, B:B, 0), 0), IFERROR(MATCH(2, B:B, 0), 0), IFERROR(MATCH(3, B:B, 0), 0), IFERROR(MATCH(4, B:B, 0), 0), IFERROR(MATCH(5, B:B, 0), 0), IFERROR(MATCH(6, B:B, 0), 0), IFERROR(MATCH(7, B:B, 0), 0), IFERROR(MATCH(8, B:B, 1),"&" 0)),NOT(ISERROR(FILTER(ARRAYFORMULA(IFERROR(SEARCH(INDIRECT(""$P$2:$P"" & TEXT(COUNTIF(($P$2:P146), ""<>""), ""0"")),G13 & "" "" & L13),"""")), ARRAYFORMULA(IFERROR(SEARCH(INDIRECT(""$P$2:$P"" & TEXT(COUNTIF(($P$2:P146), ""<>""), ""0"")),G13 & "" "" & L1"&"3),"""")) <> """"))), 0)"),"#REF!") -> #REF! | Q13: =IFERROR(__xludf.DUMMYFUNCTION("IF(AND(OR(COUNTA(FILTER($P$2:$P146, ARRAYFORMULA(ISNUMBER(FIND($P$2:$P146, G13))))) > 0, COUNTA(FILTER($P$2:$P146, ARRAYFORMULA(ISNUMBER(FIND($P$2:$P146, L13))))) > 0), NOT(ISNUMBER(B13))), TRUE(), FALSE())"),FALSE) -> FALSE | R13: =IFERROR(__xludf.DUMMYFUNCTION("IF(ISNA(JOIN("", "", FILTER($P$2:$P146, ARRAYFORMULA(ISNUMBER(FIND($P$2:$P146, G13))), NOT(ISBLANK($P$2:$P146))))), "" "", JOIN("", "", FILTER($P$2:$P146, ARRAYFORMULA(ISNUMBER(FIND($P$2:$P146, G13))), NOT(ISBLANK($P$2:$P146)))))")," ") | S13: =IFERROR(__xludf.DUMMYFUNCTION("IF(ISNA(JOIN("", "", FILTER($P$2:$P146, ARRAYFORMULA(ISNUMBER(FIND($P$2:$P146, L13))), NOT(ISBLANK($P$2:$P146))))), "" "", JOIN("", "", FILTER($P$2:$P146, ARRAYFORMULA(ISNUMBER(FIND($P$2:$P146, L13))), NOT(ISBLANK($P$2:$P146)))))")," ")
A14: 13 | D14: WD | E14: 1 | G14: S. Wu & S. Joshi, HUM | I14: v | L14: S. Godek & L. Goldsack, LAM | M14: 21-4, 21-7 | O14: =IFERROR(__xludf.DUMMYFUNCTION("IF(ROW(B25) > MAX(IFERROR(MATCH(1, B:B, 0), 0), IFERROR(MATCH(2, B:B, 0), 0), IFERROR(MATCH(3, B:B, 0), 0), IFERROR(MATCH(4, B:B, 0), 0), IFERROR(MATCH(5, B:B, 0), 0), IFERROR(MATCH(6, B:B, 0), 0), IFERROR(MATCH(7, B:B, 0), 0), IFERROR(MATCH(8, B:B, 1), 0"&")),NOT(ISERROR(FILTER(ARRAYFORMULA(IFERROR(SEARCH(INDIRECT(""$P$2:$P"" & TEXT(COUNTIF(($P$2:P146), ""<>""), ""0"")),G14 & "" "" & L14),"""")), ARRAYFORMULA(IFERROR(SEARCH(INDIRECT(""$P$2:$P"" & TEXT(COUNTIF(($P$2:P146), ""<>""), ""0"")),G14 & "" "" & L14)"&","""")) <> """"))), 0)"),FALSE) -> FALSE | Q14: =IFERROR(__xludf.DUMMYFUNCTION("IF(AND(OR(COUNTA(FILTER($P$2:$P146, ARRAYFORMULA(ISNUMBER(FIND($P$2:$P146, G14))))) > 0, COUNTA(FILTER($P$2:$P146, ARRAYFORMULA(ISNUMBER(FIND($P$2:$P146, L14))))) > 0), NOT(ISNUMBER(B14))), TRUE(), FALSE())"),FALSE) -> FALSE | R14: =IFERROR(__xludf.DUMMYFUNCTION("IF(ISNA(JOIN("", "", FILTER($P$2:$P146, ARRAYFORMULA(ISNUMBER(FIND($P$2:$P146, G14))), NOT(ISBLANK($P$2:$P146))))), "" "", JOIN("", "", FILTER($P$2:$P146, ARRAYFORMULA(ISNUMBER(FIND($P$2:$P146, G14))), NOT(ISBLANK($P$2:$P146)))))")," ") | S14: =IFERROR(__xludf.DUMMYFUNCTION("IF(ISNA(JOIN("", "", FILTER($P$2:$P146, ARRAYFORMULA(ISNUMBER(FIND($P$2:$P146, L14))), NOT(ISBLANK($P$2:$P146))))), "" "", JOIN("", "", FILTER($P$2:$P146, ARRAYFORMULA(ISNUMBER(FIND($P$2:$P146, L14))), NOT(ISBLANK($P$2:$P146)))))")," ")
A15: 14 | D15: WD | E15: 1 | G15: T. Vaidya & N. Kim, FAN | I15: v | L15: A. Janybek & A. Kai, CON | M15: 21-4, 21-0 | O15: =IFERROR(__xludf.DUMMYFUNCTION("IF(ROW(B24) > MAX(IFERROR(MATCH(1, B:B, 0), 0), IFERROR(MATCH(2, B:B, 0), 0), IFERROR(MATCH(3, B:B, 0), 0), IFERROR(MATCH(4, B:B, 0), 0), IFERROR(MATCH(5, B:B, 0), 0), IFERROR(MATCH(6, B:B, 0), 0), IFERROR(MATCH(7, B:B, 0), 0), IFERROR(MATCH(8, B:B, 1), 0"&")),NOT(ISERROR(FILTER(ARRAYFORMULA(IFERROR(SEARCH(INDIRECT(""$P$2:$P"" & TEXT(COUNTIF(($P$2:P146), ""<>""), ""0"")),G15 & "" "" & L15),"""")), ARRAYFORMULA(IFERROR(SEARCH(INDIRECT(""$P$2:$P"" & TEXT(COUNTIF(($P$2:P146), ""<>""), ""0"")),G15 & "" "" & L15)"&","""")) <> """"))), 0)"),FALSE) -> FALSE | Q15: =IFERROR(__xludf.DUMMYFUNCTION("IF(AND(OR(COUNTA(FILTER($P$2:$P146, ARRAYFORMULA(ISNUMBER(FIND($P$2:$P146, G15))))) > 0, COUNTA(FILTER($P$2:$P146, ARRAYFORMULA(ISNUMBER(FIND($P$2:$P146, L15))))) > 0), NOT(ISNUMBER(B15))), TRUE(), FALSE())"),FALSE) -> FALSE | R15: =IFERROR(__xludf.DUMMYFUNCTION("IF(ISNA(JOIN("", "", FILTER($P$2:$P146, ARRAYFORMULA(ISNUMBER(FIND($P$2:$P146, G15))), NOT(ISBLANK($P$2:$P146))))), "" "", JOIN("", "", FILTER($P$2:$P146, ARRAYFORMULA(ISNUMBER(FIND($P$2:$P146, G15))), NOT(ISBLANK($P$2:$P146)))))")," ") | S15: =IFERROR(__xludf.DUMMYFUNCTION("IF(ISNA(JOIN("", "", FILTER($P$2:$P146, ARRAYFORMULA(ISNUMBER(FIND($P$2:$P146, L15))), NOT(ISBLANK($P$2:$P146))))), "" "", JOIN("", "", FILTER($P$2:$P146, ARRAYFORMULA(ISNUMBER(FIND($P$2:$P146, L15))), NOT(ISBLANK($P$2:$P146)))))")," ")
A16: 15 | D16: MD | E16: 1 | G16: A. Atkins & E. Leduc, BOR | I16: v | L16: B. Lai & J. Lau, SEN | M16: 6-21, 3-21 | O16: =IFERROR(__xludf.DUMMYFUNCTION("IF(ROW(#REF!) > MAX(IFERROR(MATCH(1, B:B, 0), 0), IFERROR(MATCH(2, B:B, 0), 0), IFERROR(MATCH(3, B:B, 0), 0), IFERROR(MATCH(4, B:B, 0), 0), IFERROR(MATCH(5, B:B, 0), 0), IFERROR(MATCH(6, B:B, 0), 0), IFERROR(MATCH(7, B:B, 0), 0), IFERROR(MATCH(8, B:B, 1),"&" 0)),NOT(ISERROR(FILTER(ARRAYFORMULA(IFERROR(SEARCH(INDIRECT(""$P$2:$P"" & TEXT(COUNTIF(($P$2:P146), ""<>""), ""0"")),G16 & "" "" & L16),"""")), ARRAYFORMULA(IFERROR(SEARCH(INDIRECT(""$P$2:$P"" & TEXT(COUNTIF(($P$2:P146), ""<>""), ""0"")),G16 & "" "" & L1"&"6),"""")) <> """"))), 0)"),"#REF!") -> #REF! | Q16: =IFERROR(__xludf.DUMMYFUNCTION("IF(AND(OR(COUNTA(FILTER($P$2:$P146, ARRAYFORMULA(ISNUMBER(FIND($P$2:$P146, G16))))) > 0, COUNTA(FILTER($P$2:$P146, ARRAYFORMULA(ISNUMBER(FIND($P$2:$P146, L16))))) > 0), NOT(ISNUMBER(#REF!))), TRUE(), FALSE())"),FALSE) -> FALSE | R16: =IFERROR(__xludf.DUMMYFUNCTION("IF(ISNA(JOIN("", "", FILTER($P$2:$P146, ARRAYFORMULA(ISNUMBER(FIND($P$2:$P146, G16))), NOT(ISBLANK($P$2:$P146))))), "" "", JOIN("", "", FILTER($P$2:$P146, ARRAYFORMULA(ISNUMBER(FIND($P$2:$P146, G16))), NOT(ISBLANK($P$2:$P146)))))")," ") | S16: =IFERROR(__xludf.DUMMYFUNCTION("IF(ISNA(JOIN("", "", FILTER($P$2:$P146, ARRAYFORMULA(ISNUMBER(FIND($P$2:$P146, L16))), NOT(ISBLANK($P$2:$P146))))), "" "", JOIN("", "", FILTER($P$2:$P146, ARRAYFORMULA(ISNUMBER(FIND($P$2:$P146, L16))), NOT(ISBLANK($P$2:$P146)))))")," ")
A17: 16 | D17: MD | E17: 1 | G17: H. Joshy John & G. Hebner, CAM | I17: v | L17: T. Vicente-Pereira & Miranda, HUM | M17: 19-21, 19-21 | O17: =IFERROR(__xludf.DUMMYFUNCTION("IF(ROW(#REF!) > MAX(IFERROR(MATCH(1, B:B, 0), 0), IFERROR(MATCH(2, B:B, 0), 0), IFERROR(MATCH(3, B:B, 0), 0), IFERROR(MATCH(4, B:B, 0), 0), IFERROR(MATCH(5, B:B, 0), 0), IFERROR(MATCH(6, B:B, 0), 0), IFERROR(MATCH(7, B:B, 0), 0), IFERROR(MATCH(8, B:B, 1),"&" 0)),NOT(ISERROR(FILTER(ARRAYFORMULA(IFERROR(SEARCH(INDIRECT(""$P$2:$P"" & TEXT(COUNTIF(($P$2:P146), ""<>""), ""0"")),G17 & "" "" & L17),"""")), ARRAYFORMULA(IFERROR(SEARCH(INDIRECT(""$P$2:$P"" & TEXT(COUNTIF(($P$2:P146), ""<>""), ""0"")),G17 & "" "" & L1"&"7),"""")) <> """"))), 0)"),"#REF!") -> #REF! | Q17: =IFERROR(__xludf.DUMMYFUNCTION("IF(AND(OR(COUNTA(FILTER($P$2:$P146, ARRAYFORMULA(ISNUMBER(FIND($P$2:$P146, G17))))) > 0, COUNTA(FILTER($P$2:$P146, ARRAYFORMULA(ISNUMBER(FIND($P$2:$P146, L17))))) > 0), NOT(ISNUMBER(#REF!))), TRUE(), FALSE())"),FALSE) -> FALSE | R17: =IFERROR(__xludf.DUMMYFUNCTION("IF(ISNA(JOIN("", "", FILTER($P$2:$P146, ARRAYFORMULA(ISNUMBER(FIND($P$2:$P146, G17))), NOT(ISBLANK($P$2:$P146))))), "" "", JOIN("", "", FILTER($P$2:$P146, ARRAYFORMULA(ISNUMBER(FIND($P$2:$P146, G17))), NOT(ISBLANK($P$2:$P146)))))")," ") | S17: =IFERROR(__xludf.DUMMYFUNCTION("IF(ISNA(JOIN("", "", FILTER($P$2:$P146, ARRAYFORMULA(ISNUMBER(FIND($P$2:$P146, L17))), NOT(ISBLANK($P$2:$P146))))), "" "", JOIN("", "", FILTER($P$2:$P146, ARRAYFORMULA(ISNUMBER(FIND($P$2:$P146, L17))), NOT(ISBLANK($P$2:$P146)))))")," ")
A18: 17 | D18: MD | E18: 1 | G18: M. Barnes & R. Tu, CON | I18: v | L18: G. Clark & L. Aarts, LAM | M18: 21-7, 21-12 | O18: =IFERROR(__xludf.DUMMYFUNCTION("IF(ROW(#REF!) > MAX(IFERROR(MATCH(1, B:B, 0), 0), IFERROR(MATCH(2, B:B, 0), 0), IFERROR(MATCH(3, B:B, 0), 0), IFERROR(MATCH(4, B:B, 0), 0), IFERROR(MATCH(5, B:B, 0), 0), IFERROR(MATCH(6, B:B, 0), 0), IFERROR(MATCH(7, B:B, 0), 0), IFERROR(MATCH(8, B:B, 1),"&" 0)),NOT(ISERROR(FILTER(ARRAYFORMULA(IFERROR(SEARCH(INDIRECT(""$P$2:$P"" & TEXT(COUNTIF(($P$2:P146), ""<>""), ""0"")),G18 & "" "" & L18),"""")), ARRAYFORMULA(IFERROR(SEARCH(INDIRECT(""$P$2:$P"" & TEXT(COUNTIF(($P$2:P146), ""<>""), ""0"")),G18 & "" "" & L1"&"8),"""")) <> """"))), 0)"),"#REF!") -> #REF! | Q18: =IFERROR(__xludf.DUMMYFUNCTION("IF(AND(OR(COUNTA(FILTER($P$2:$P146, ARRAYFORMULA(ISNUMBER(FIND($P$2:$P146, G18))))) > 0, COUNTA(FILTER($P$2:$P146, ARRAYFORMULA(ISNUMBER(FIND($P$2:$P146, L18))))) > 0), NOT(ISNUMBER(B18))), TRUE(), FALSE())"),FALSE) -> FALSE | R18: =IFERROR(__xludf.DUMMYFUNCTION("IF(ISNA(JOIN("", "", FILTER($P$2:$P146, ARRAYFORMULA(ISNUMBER(FIND($P$2:$P146, G18))), NOT(ISBLANK($P$2:$P146))))), "" "", JOIN("", "", FILTER($P$2:$P146, ARRAYFORMULA(ISNUMBER(FIND($P$2:$P146, G18))), NOT(ISBLANK($P$2:$P146)))))")," ") | S18: =IFERROR(__xludf.DUMMYFUNCTION("IF(ISNA(JOIN("", "", FILTER($P$2:$P146, ARRAYFORMULA(ISNUMBER(FIND($P$2:$P146, L18))), NOT(ISBLANK($P$2:$P146))))), "" "", JOIN("", "", FILTER($P$2:$P146, ARRAYFORMULA(ISNUMBER(FIND($P$2:$P146, L18))), NOT(ISBLANK($P$2:$P146)))))")," ")
A19: 18 | D19: XD | E19: 1 | G19: J. Atkins & L. Richards, BOR | I19: v | L19: A. Tso & A. Iran, SEN | M19: 6-21, 8-21 | O19: =IFERROR(__xludf.DUMMYFUNCTION("IF(ROW(#REF!) > MAX(IFERROR(MATCH(1, B:B, 0), 0), IFERROR(MATCH(2, B:B, 0), 0), IFERROR(MATCH(3, B:B, 0), 0), IFERROR(MATCH(4, B:B, 0), 0), IFERROR(MATCH(5, B:B, 0), 0), IFERROR(MATCH(6, B:B, 0), 0), IFERROR(MATCH(7, B:B, 0), 0), IFERROR(MATCH(8, B:B, 1),"&" 0)),NOT(ISERROR(FILTER(ARRAYFORMULA(IFERROR(SEARCH(INDIRECT(""$P$2:$P"" & TEXT(COUNTIF(($P$2:P146), ""<>""), ""0"")),G19 & "" "" & L19),"""")), ARRAYFORMULA(IFERROR(SEARCH(INDIRECT(""$P$2:$P"" & TEXT(COUNTIF(($P$2:P146), ""<>""), ""0"")),G19 & "" "" & L1"&"9),"""")) <> """"))), 0)"),"#REF!") -> #REF! | Q19: =IFERROR(__xludf.DUMMYFUNCTION("IF(AND(OR(COUNTA(FILTER($P$2:$P146, ARRAYFORMULA(ISNUMBER(FIND($P$2:$P146, G19))))) > 0, COUNTA(FILTER($P$2:$P146, ARRAYFORMULA(ISNUMBER(FIND($P$2:$P146, L19))))) > 0), NOT(ISNUMBER(B19))), TRUE(), FALSE())"),FALSE) -> FALSE | R19: =IFERROR(__xludf.DUMMYFUNCTION("IF(ISNA(JOIN("", "", FILTER($P$2:$P146, ARRAYFORMULA(ISNUMBER(FIND($P$2:$P146, G19))), NOT(ISBLANK($P$2:$P146))))), "" "", JOIN("", "", FILTER($P$2:$P146, ARRAYFORMULA(ISNUMBER(FIND($P$2:$P146, G19))), NOT(ISBLANK($P$2:$P146)))))")," ") | S19: =IFERROR(__xludf.DUMMYFUNCTION("IF(ISNA(JOIN("", "", FILTER($P$2:$P146, ARRAYFORMULA(ISNUMBER(FIND($P$2:$P146, L19))), NOT(ISBLANK($P$2:$P146))))), "" "", JOIN("", "", FILTER($P$2:$P146, ARRAYFORMULA(ISNUMBER(FIND($P$2:$P146, L19))), NOT(ISBLANK($P$2:$P146)))))")," ")
A20: 19 | D20: XD | E20: 1 | G20: J. Ronahan & C. Choi, HUM | I20: v | L20: N. Bridge & M. Muqeem, CON | M20: 21-4, 21-7 | O20: =IFERROR(__xludf.DUMMYFUNCTION("IF(ROW(#REF!) > MAX(IFERROR(MATCH(1, B:B, 0), 0), IFERROR(MATCH(2, B:B, 0), 0), IFERROR(MATCH(3, B:B, 0), 0), IFERROR(MATCH(4, B:B, 0), 0), IFERROR(MATCH(5, B:B, 0), 0), IFERROR(MATCH(6, B:B, 0), 0), IFERROR(MATCH(7, B:B, 0), 0), IFERROR(MATCH(8, B:B, 1),"&" 0)),NOT(ISERROR(FILTER(ARRAYFORMULA(IFERROR(SEARCH(INDIRECT(""$P$2:$P"" & TEXT(COUNTIF(($P$2:P146), ""<>""), ""0"")),G20 & "" "" & L20),"""")), ARRAYFORMULA(IFERROR(SEARCH(INDIRECT(""$P$2:$P"" & TEXT(COUNTIF(($P$2:P146), ""<>""), ""0"")),G20 & "" "" & L2"&"0),"""")) <> """"))), 0)"),"#REF!") -> #REF! | Q20: =IFERROR(__xludf.DUMMYFUNCTION("IF(AND(OR(COUNTA(FILTER($P$2:$P146, ARRAYFORMULA(ISNUMBER(FIND($P$2:$P146, G20))))) > 0, COUNTA(FILTER($P$2:$P146, ARRAYFORMULA(ISNUMBER(FIND($P$2:$P146, L20))))) > 0), NOT(ISNUMBER(B20))), TRUE(), FALSE())"),FALSE) -> FALSE | R20: =IFERROR(__xludf.DUMMYFUNCTION("IF(ISNA(JOIN("", "", FILTER($P$2:$P146, ARRAYFORMULA(ISNUMBER(FIND($P$2:$P146, G20))), NOT(ISBLANK($P$2:$P146))))), "" "", JOIN("", "", FILTER($P$2:$P146, ARRAYFORMULA(ISNUMBER(FIND($P$2:$P146, G20))), NOT(ISBLANK($P$2:$P146)))))")," ") | S20: =IFERROR(__xludf.DUMMYFUNCTION("IF(ISNA(JOIN("", "", FILTER($P$2:$P146, ARRAYFORMULA(ISNUMBER(FIND($P$2:$P146, L20))), NOT(ISBLANK($P$2:$P146))))), "" "", JOIN("", "", FILTER($P$2:$P146, ARRAYFORMULA(ISNUMBER(FIND($P$2:$P146, L20))), NOT(ISBLANK($P$2:$P146)))))")," ")
A21: 20 | D21: XD | E21: 1 | G21: D. Brunette-Royer & J. Hopkins, CAM | I21: v | L21: S. Mohammad & X. Niu, FAN | M21: 12-21, 12-21 | O21: =IFERROR(__xludf.DUMMYFUNCTION("IF(ROW(#REF!) > MAX(IFERROR(MATCH(1, B:B, 0), 0), IFERROR(MATCH(2, B:B, 0), 0), IFERROR(MATCH(3, B:B, 0), 0), IFERROR(MATCH(4, B:B, 0), 0), IFERROR(MATCH(5, B:B, 0), 0), IFERROR(MATCH(6, B:B, 0), 0), IFERROR(MATCH(7, B:B, 0), 0), IFERROR(MATCH(8, B:B, 1),"&" 0)),NOT(ISERROR(FILTER(ARRAYFORMULA(IFERROR(SEARCH(INDIRECT(""$P$2:$P"" & TEXT(COUNTIF(($P$2:P146), ""<>""), ""0"")),G21 & "" "" & L21),"""")), ARRAYFORMULA(IFERROR(SEARCH(INDIRECT(""$P$2:$P"" & TEXT(COUNTIF(($P$2:P146), ""<>""), ""0"")),G21 & "" "" & L2"&"1),"""")) <> """"))), 0)"),"#REF!") -> #REF! | Q21: =IFERROR(__xludf.DUMMYFUNCTION("IF(AND(OR(COUNTA(FILTER($P$2:$P146, ARRAYFORMULA(ISNUMBER(FIND($P$2:$P146, G21))))) > 0, COUNTA(FILTER($P$2:$P146, ARRAYFORMULA(ISNUMBER(FIND($P$2:$P146, L21))))) > 0), NOT(ISNUMBER(B21))), TRUE(), FALSE())"),FALSE) -> FALSE | R21: =IFERROR(__xludf.DUMMYFUNCTION("IF(ISNA(JOIN("", "", FILTER($P$2:$P146, ARRAYFORMULA(ISNUMBER(FIND($P$2:$P146, G21))), NOT(ISBLANK($P$2:$P146))))), "" "", JOIN("", "", FILTER($P$2:$P146, ARRAYFORMULA(ISNUMBER(FIND($P$2:$P146, G21))), NOT(ISBLANK($P$2:$P146)))))")," ") | S21: =IFERROR(__xludf.DUMMYFUNCTION("IF(ISNA(JOIN("", "", FILTER($P$2:$P146, ARRAYFORMULA(ISNUMBER(FIND($P$2:$P146, L21))), NOT(ISBLANK($P$2:$P146))))), "" "", JOIN("", "", FILTER($P$2:$P146, ARRAYFORMULA(ISNUMBER(FIND($P$2:$P146, L21))), NOT(ISBLANK($P$2:$P146)))))")," ")
A22: 21 | D22: MS B | E22: 2 | G22: Daniel Collins, CAM | I22: v | L22: Thinh Nguyen, CON | N22: ROUND 2 BYES: M.Jain, SEN, R. Chan, HUM, MD HUM, XD CAM | O22: =IFERROR(__xludf.DUMMYFUNCTION("IF(ROW(#REF!) > MAX(IFERROR(MATCH(1, B:B, 0), 0), IFERROR(MATCH(2, B:B, 0), 0), IFERROR(MATCH(3, B:B, 0), 0), IFERROR(MATCH(4, B:B, 0), 0), IFERROR(MATCH(5, B:B, 0), 0), IFERROR(MATCH(6, B:B, 0), 0), IFERROR(MATCH(7, B:B, 0), 0), IFERROR(MATCH(8, B:B, 1),"&" 0)),NOT(ISERROR(FILTER(ARRAYFORMULA(IFERROR(SEARCH(INDIRECT(""$P$2:$P"" & TEXT(COUNTIF(($P$2:P146), ""<>""), ""0"")),G22 & "" "" & L22),"""")), ARRAYFORMULA(IFERROR(SEARCH(INDIRECT(""$P$2:$P"" & TEXT(COUNTIF(($P$2:P146), ""<>""), ""0"")),G22 & "" "" & L2"&"2),"""")) <> """"))), 0)"),"#REF!") -> #REF! | Q22: =IFERROR(__xludf.DUMMYFUNCTION("IF(AND(OR(COUNTA(FILTER($P$2:$P146, ARRAYFORMULA(ISNUMBER(FIND($P$2:$P146, G22))))) > 0, COUNTA(FILTER($P$2:$P146, ARRAYFORMULA(ISNUMBER(FIND($P$2:$P146, L22))))) > 0), NOT(ISNUMBER(B22))), TRUE(), FALSE())"),FALSE) -> FALSE | R22: =IFERROR(__xludf.DUMMYFUNCTION("IF(ISNA(JOIN("", "", FILTER($P$2:$P146, ARRAYFORMULA(ISNUMBER(FIND($P$2:$P146, G22))), NOT(ISBLANK($P$2:$P146))))), "" "", JOIN("", "", FILTER($P$2:$P146, ARRAYFORMULA(ISNUMBER(FIND($P$2:$P146, G22))), NOT(ISBLANK($P$2:$P146)))))")," ") | S22: =IFERROR(__xludf.DUMMYFUNCTION("IF(ISNA(JOIN("", "", FILTER($P$2:$P146, ARRAYFORMULA(ISNUMBER(FIND($P$2:$P146, L22))), NOT(ISBLANK($P$2:$P146))))), "" "", JOIN("", "", FILTER($P$2:$P146, ARRAYFORMULA(ISNUMBER(FIND($P$2:$P146, L22))), NOT(ISBLANK($P$2:$P146)))))")," ")
A23: 22 | D23: MS B | E23: 2 | G23: Reanbert Valentino, HUM | I23: v | L23: Grey Pope, BOR | M23: 21-16, 15-21, 21-18 | O23: =IFERROR(__xludf.DUMMYFUNCTION("IF(ROW(#REF!) > MAX(IFERROR(MATCH(1, B:B, 0), 0), IFERROR(MATCH(2, B:B, 0), 0), IFERROR(MATCH(3, B:B, 0), 0), IFERROR(MATCH(4, B:B, 0), 0), IFERROR(MATCH(5, B:B, 0), 0), IFERROR(MATCH(6, B:B, 0), 0), IFERROR(MATCH(7, B:B, 0), 0), IFERROR(MATCH(8, B:B, 1),"&" 0)),NOT(ISERROR(FILTER(ARRAYFORMULA(IFERROR(SEARCH(INDIRECT(""$P$2:$P"" & TEXT(COUNTIF(($P$2:P146), ""<>""), ""0"")),G23 & "" "" & L23),"""")), ARRAYFORMULA(IFERROR(SEARCH(INDIRECT(""$P$2:$P"" & TEXT(COUNTIF(($P$2:P146), ""<>""), ""0"")),G23 & "" "" & L2"&"3),"""")) <> """"))), 0)"),"#REF!") -> #REF! | Q23: =IFERROR(__xludf.DUMMYFUNCTION("IF(AND(OR(COUNTA(FILTER($P$2:$P146, ARRAYFORMULA(ISNUMBER(FIND($P$2:$P146, G23))))) > 0, COUNTA(FILTER($P$2:$P146, ARRAYFORMULA(ISNUMBER(FIND($P$2:$P146, L23))))) > 0), NOT(ISNUMBER(B23))), TRUE(), FALSE())"),FALSE) -> FALSE | R23: =IFERROR(__xludf.DUMMYFUNCTION("IF(ISNA(JOIN("", "", FILTER($P$2:$P146, ARRAYFORMULA(ISNUMBER(FIND($P$2:$P146, G23))), NOT(ISBLANK($P$2:$P146))))), "" "", JOIN("", "", FILTER($P$2:$P146, ARRAYFORMULA(ISNUMBER(FIND($P$2:$P146, G23))), NOT(ISBLANK($P$2:$P146)))))")," ") | S23: =IFERROR(__xludf.DUMMYFUNCTION("IF(ISNA(JOIN("", "", FILTER($P$2:$P146, ARRAYFORMULA(ISNUMBER(FIND($P$2:$P146, L23))), NOT(ISBLANK($P$2:$P146))))), "" "", JOIN("", "", FILTER($P$2:$P146, ARRAYFORMULA(ISNUMBER(FIND($P$2:$P146, L23))), NOT(ISBLANK($P$2:$P146)))))")," ")
A24: 23 | D24: MS B | E24: 2 | G24: Arpi Sinha, FAN | I24: v | L24: Milton Smith, LAM | M24: 21-4, 21-9 | O24: =IFERROR(__xludf.DUMMYFUNCTION("IF(ROW(#REF!) > MAX(IFERROR(MATCH(1, B:B, 0), 0), IFERROR(MATCH(2, B:B, 0), 0), IFERROR(MATCH(3, B:B, 0), 0), IFERROR(MATCH(4, B:B, 0), 0), IFERROR(MATCH(5, B:B, 0), 0), IFERROR(MATCH(6, B:B, 0), 0), IFERROR(MATCH(7, B:B, 0), 0), IFERROR(MATCH(8, B:B, 1),"&" 0)),NOT(ISERROR(FILTER(ARRAYFORMULA(IFERROR(SEARCH(INDIRECT(""$P$2:$P"" & TEXT(COUNTIF(($P$2:P146), ""<>""), ""0"")),G24 & "" "" & L24),"""")), ARRAYFORMULA(IFERROR(SEARCH(INDIRECT(""$P$2:$P"" & TEXT(COUNTIF(($P$2:P146), ""<>""), ""0"")),G24 & "" "" & L2"&"4),"""")) <> """"))), 0)"),"#REF!") -> #REF! | Q24: =IFERROR(__xludf.DUMMYFUNCTION("IF(AND(OR(COUNTA(FILTER($P$2:$P146, ARRAYFORMULA(ISNUMBER(FIND($P$2:$P146, G24))))) > 0, COUNTA(FILTER($P$2:$P146, ARRAYFORMULA(ISNUMBER(FIND($P$2:$P146, L24))))) > 0), NOT(ISNUMBER(B24))), TRUE(), FALSE())"),FALSE) -> FALSE | R24: =IFERROR(__xludf.DUMMYFUNCTION("IF(ISNA(JOIN("", "", FILTER($P$2:$P146, ARRAYFORMULA(ISNUMBER(FIND($P$2:$P146, G24))), NOT(ISBLANK($P$2:$P146))))), "" "", JOIN("", "", FILTER($P$2:$P146, ARRAYFORMULA(ISNUMBER(FIND($P$2:$P146, G24))), NOT(ISBLANK($P$2:$P146)))))")," ") | S24: =IFERROR(__xludf.DUMMYFUNCTION("IF(ISNA(JOIN("", "", FILTER($P$2:$P146, ARRAYFORMULA(ISNUMBER(FIND($P$2:$P146, L24))), NOT(ISBLANK($P$2:$P146))))), "" "", JOIN("", "", FILTER($P$2:$P146, ARRAYFORMULA(ISNUMBER(FIND($P$2:$P146, L24))), NOT(ISBLANK($P$2:$P146)))))")," ")
A25: 24 | D25: MS A | E25: 2 | G25: Sebastien Liu, SEN | I25: v | L25: Prabhkirat Singh, CAM | M25: 21-17, 21-13 | O25: =IFERROR(__xludf.DUMMYFUNCTION("IF(ROW(B32) > MAX(IFERROR(MATCH(1, B:B, 0), 0), IFERROR(MATCH(2, B:B, 0), 0), IFERROR(MATCH(3, B:B, 0), 0), IFERROR(MATCH(4, B:B, 0), 0), IFERROR(MATCH(5, B:B, 0), 0), IFERROR(MATCH(6, B:B, 0), 0), IFERROR(MATCH(7, B:B, 0), 0), IFERROR(MATCH(8, B:B, 1), 0"&")),NOT(ISERROR(FILTER(ARRAYFORMULA(IFERROR(SEARCH(INDIRECT(""$P$2:$P"" & TEXT(COUNTIF(($P$2:P146), ""<>""), ""0"")),G25 & "" "" & L25),"""")), ARRAYFORMULA(IFERROR(SEARCH(INDIRECT(""$P$2:$P"" & TEXT(COUNTIF(($P$2:P146), ""<>""), ""0"")),G25 & "" "" & L25)"&","""")) <> """"))), 0)"),FALSE) -> FALSE | Q25: =IFERROR(__xludf.DUMMYFUNCTION("IF(AND(OR(COUNTA(FILTER($P$2:$P146, ARRAYFORMULA(ISNUMBER(FIND($P$2:$P146, G25))))) > 0, COUNTA(FILTER($P$2:$P146, ARRAYFORMULA(ISNUMBER(FIND($P$2:$P146, L25))))) > 0), NOT(ISNUMBER(B25))), TRUE(), FALSE())"),FALSE) -> FALSE | R25: =IFERROR(__xludf.DUMMYFUNCTION("IF(ISNA(JOIN("", "", FILTER($P$2:$P146, ARRAYFORMULA(ISNUMBER(FIND($P$2:$P146, G25))), NOT(ISBLANK($P$2:$P146))))), "" "", JOIN("", "", FILTER($P$2:$P146, ARRAYFORMULA(ISNUMBER(FIND($P$2:$P146, G25))), NOT(ISBLANK($P$2:$P146)))))")," ") | S25: =IFERROR(__xludf.DUMMYFUNCTION("IF(ISNA(JOIN("", "", FILTER($P$2:$P146, ARRAYFORMULA(ISNUMBER(FIND($P$2:$P146, L25))), NOT(ISBLANK($P$2:$P146))))), "" "", JOIN("", "", FILTER($P$2:$P146, ARRAYFORMULA(ISNUMBER(FIND($P$2:$P146, L25))), NOT(ISBLANK($P$2:$P146)))))")," ")
A26: 25 | D26: MS A | E26: 2 | G26: Akashdeep Singh, CON | I26: v | L26: Tim Lock, HUM | M26: 3-21, 6-21 | O26: =IFERROR(__xludf.DUMMYFUNCTION("IF(ROW(#REF!) > MAX(IFERROR(MATCH(1, B:B, 0), 0), IFERROR(MATCH(2, B:B, 0), 0), IFERROR(MATCH(3, B:B, 0), 0), IFERROR(MATCH(4, B:B, 0), 0), IFERROR(MATCH(5, B:B, 0), 0), IFERROR(MATCH(6, B:B, 0), 0), IFERROR(MATCH(7, B:B, 0), 0), IFERROR(MATCH(8, B:B, 1),"&" 0)),NOT(ISERROR(FILTER(ARRAYFORMULA(IFERROR(SEARCH(INDIRECT(""$P$2:$P"" & TEXT(COUNTIF(($P$2:P146), ""<>""), ""0"")),G26 & "" "" & L26),"""")), ARRAYFORMULA(IFERROR(SEARCH(INDIRECT(""$P$2:$P"" & TEXT(COUNTIF(($P$2:P146), ""<>""), ""0"")),G26 & "" "" & L2"&"6),"""")) <> """"))), 0)"),"#REF!") -> #REF! | Q26: =IFERROR(__xludf.DUMMYFUNCTION("IF(AND(OR(COUNTA(FILTER($P$2:$P146, ARRAYFORMULA(ISNUMBER(FIND($P$2:$P146, G26))))) > 0, COUNTA(FILTER($P$2:$P146, ARRAYFORMULA(ISNUMBER(FIND($P$2:$P146, L26))))) > 0), NOT(ISNUMBER(B26))), TRUE(), FALSE())"),FALSE) -> FALSE | R26: =IFERROR(__xludf.DUMMYFUNCTION("IF(ISNA(JOIN("", "", FILTER($P$2:$P146, ARRAYFORMULA(ISNUMBER(FIND($P$2:$P146, G26))), NOT(ISBLANK($P$2:$P146))))), "" "", JOIN("", "", FILTER($P$2:$P146, ARRAYFORMULA(ISNUMBER(FIND($P$2:$P146, G26))), NOT(ISBLANK($P$2:$P146)))))")," ") | S26: =IFERROR(__xludf.DUMMYFUNCTION("IF(ISNA(JOIN("", "", FILTER($P$2:$P146, ARRAYFORMULA(ISNUMBER(FIND($P$2:$P146, L26))), NOT(ISBLANK($P$2:$P146))))), "" "", JOIN("", "", FILTER($P$2:$P146, ARRAYFORMULA(ISNUMBER(FIND($P$2:$P146, L26))), NOT(ISBLANK($P$2:$P146)))))")," ")
A27: 26 | D27: MS A | E27: 2 | G27: Ram Ng, FAN | I27: v | L27: Dalton Baxter, LAM | M27: 21-6, 21-8 | O27: =IFERROR(__xludf.DUMMYFUNCTION("IF(ROW(#REF!) > MAX(IFERROR(MATCH(1, B:B, 0), 0), IFERROR(MATCH(2, B:B, 0), 0), IFERROR(MATCH(3, B:B, 0), 0), IFERROR(MATCH(4, B:B, 0), 0), IFERROR(MATCH(5, B:B, 0), 0), IFERROR(MATCH(6, B:B, 0), 0), IFERROR(MATCH(7, B:B, 0), 0), IFERROR(MATCH(8, B:B, 1),"&" 0)),NOT(ISERROR(FILTER(ARRAYFORMULA(IFERROR(SEARCH(INDIRECT(""$P$2:$P"" & TEXT(COUNTIF(($P$2:P146), ""<>""), ""0"")),G27 & "" "" & L27),"""")), ARRAYFORMULA(IFERROR(SEARCH(INDIRECT(""$P$2:$P"" & TEXT(COUNTIF(($P$2:P146), ""<>""), ""0"")),G27 & "" "" & L2"&"7),"""")) <> """"))), 0)"),"#REF!") -> #REF! | Q27: =IFERROR(__xludf.DUMMYFUNCTION("IF(AND(OR(COUNTA(FILTER($P$2:$P146, ARRAYFORMULA(ISNUMBER(FIND($P$2:$P146, G27))))) > 0, COUNTA(FILTER($P$2:$P146, ARRAYFORMULA(ISNUMBER(FIND($P$2:$P146, L27))))) > 0), NOT(ISNUMBER(B27))), TRUE(), FALSE())"),FALSE) -> FALSE | R27: =IFERROR(__xludf.DUMMYFUNCTION("IF(ISNA(JOIN("", "", FILTER($P$2:$P146, ARRAYFORMULA(ISNUMBER(FIND($P$2:$P146, G27))), NOT(ISBLANK($P$2:$P146))))), "" "", JOIN("", "", FILTER($P$2:$P146, ARRAYFORMULA(ISNUMBER(FIND($P$2:$P146, G27))), NOT(ISBLANK($P$2:$P146)))))")," ") | S27: =IFERROR(__xludf.DUMMYFUNCTION("IF(ISNA(JOIN("", "", FILTER($P$2:$P146, ARRAYFORMULA(ISNUMBER(FIND($P$2:$P146, L27))), NOT(ISBLANK($P$2:$P146))))), "" "", JOIN("", "", FILTER($P$2:$P146, ARRAYFORMULA(ISNUMBER(FIND($P$2:$P146, L27))), NOT(ISBLANK($P$2:$P146)))))")," ")
A28: 27 | D28: WS B | E28: 2 | G28: Shubhi Yadav, CON | I28: v | L28: Chincco Lai, SEN | M28: CON WITHDRAWAL | N28: CON WITHDRAWAL | O28: =IFERROR(__xludf.DUMMYFUNCTION("IF(ROW(#REF!) > MAX(IFERROR(MATCH(1, B:B, 0), 0), IFERROR(MATCH(2, B:B, 0), 0), IFERROR(MATCH(3, B:B, 0), 0), IFERROR(MATCH(4, B:B, 0), 0), IFERROR(MATCH(5, B:B, 0), 0), IFERROR(MATCH(6, B:B, 0), 0), IFERROR(MATCH(7, B:B, 0), 0), IFERROR(MATCH(8, B:B, 1),"&" 0)),NOT(ISERROR(FILTER(ARRAYFORMULA(IFERROR(SEARCH(INDIRECT(""$P$2:$P"" & TEXT(COUNTIF(($P$2:P146), ""<>""), ""0"")),G28 & "" "" & L28),"""")), ARRAYFORMULA(IFERROR(SEARCH(INDIRECT(""$P$2:$P"" & TEXT(COUNTIF(($P$2:P146), ""<>""), ""0"")),G28 & "" "" & L2"&"8),"""")) <> """"))), 0)"),"#REF!") -> #REF! | Q28: =IFERROR(__xludf.DUMMYFUNCTION("IF(AND(OR(COUNTA(FILTER($P$2:$P146, ARRAYFORMULA(ISNUMBER(FIND($P$2:$P146, G28))))) > 0, COUNTA(FILTER($P$2:$P146, ARRAYFORMULA(ISNUMBER(FIND($P$2:$P146, L28))))) > 0), NOT(ISNUMBER(B28))), TRUE(), FALSE())"),FALSE) -> FALSE | R28: =IFERROR(__xludf.DUMMYFUNCTION("IF(ISNA(JOIN("", "", FILTER($P$2:$P146, ARRAYFORMULA(ISNUMBER(FIND($P$2:$P146, G28))), NOT(ISBLANK($P$2:$P146))))), "" "", JOIN("", "", FILTER($P$2:$P146, ARRAYFORMULA(ISNUMBER(FIND($P$2:$P146, G28))), NOT(ISBLANK($P$2:$P146)))))")," ") | S28: =IFERROR(__xludf.DUMMYFUNCTION("IF(ISNA(JOIN("", "", FILTER($P$2:$P146, ARRAYFORMULA(ISNUMBER(FIND($P$2:$P146, L28))), NOT(ISBLANK($P$2:$P146))))), "" "", JOIN("", "", FILTER($P$2:$P146, ARRAYFORMULA(ISNUMBER(FIND($P$2:$P146, L28))), NOT(ISBLANK($P$2:$P146)))))")," ")
A29: 28 | D29: WS B | E29: 2 | G29: Elena Meng, HUM | I29: v | L29: Alexa Clark, CAM | M29: 21-6, 21-3 | O29: =IFERROR(__xludf.DUMMYFUNCTION("IF(ROW(B29) > MAX(IFERROR(MATCH(1, B:B, 0), 0), IFERROR(MATCH(2, B:B, 0), 0), IFERROR(MATCH(3, B:B, 0), 0), IFERROR(MATCH(4, B:B, 0), 0), IFERROR(MATCH(5, B:B, 0), 0), IFERROR(MATCH(6, B:B, 0), 0), IFERROR(MATCH(7, B:B, 0), 0), IFERROR(MATCH(8, B:B, 1), 0"&")),NOT(ISERROR(FILTER(ARRAYFORMULA(IFERROR(SEARCH(INDIRECT(""$P$2:$P"" & TEXT(COUNTIF(($P$2:P146), ""<>""), ""0"")),G29 & "" "" & L29),"""")), ARRAYFORMULA(IFERROR(SEARCH(INDIRECT(""$P$2:$P"" & TEXT(COUNTIF(($P$2:P146), ""<>""), ""0"")),G29 & "" "" & L29)"&","""")) <> """"))), 0)"),FALSE) -> FALSE | Q29: =IFERROR(__xludf.DUMMYFUNCTION("IF(AND(OR(COUNTA(FILTER($P$2:$P146, ARRAYFORMULA(ISNUMBER(FIND($P$2:$P146, G29))))) > 0, COUNTA(FILTER($P$2:$P146, ARRAYFORMULA(ISNUMBER(FIND($P$2:$P146, L29))))) > 0), NOT(ISNUMBER(B29))), TRUE(), FALSE())"),FALSE) -> FALSE | R29: =IFERROR(__xludf.DUMMYFUNCTION("IF(ISNA(JOIN("", "", FILTER($P$2:$P146, ARRAYFORMULA(ISNUMBER(FIND($P$2:$P146, G29))), NOT(ISBLANK($P$2:$P146))))), "" "", JOIN("", "", FILTER($P$2:$P146, ARRAYFORMULA(ISNUMBER(FIND($P$2:$P146, G29))), NOT(ISBLANK($P$2:$P146)))))")," ") | S29: =IFERROR(__xludf.DUMMYFUNCTION("IF(ISNA(JOIN("", "", FILTER($P$2:$P146, ARRAYFORMULA(ISNUMBER(FIND($P$2:$P146, L29))), NOT(ISBLANK($P$2:$P146))))), "" "", JOIN("", "", FILTER($P$2:$P146, ARRAYFORMULA(ISNUMBER(FIND($P$2:$P146, L29))), NOT(ISBLANK($P$2:$P146)))))")," ")
A30: 29 | D30: WS B | E30: 2 | G30: Rejoice Nwokedi, FAN | I30: v | L30: Mackenzie Pilon, BOR | M30: 21-14, 21-11 | O30: =IFERROR(__xludf.DUMMYFUNCTION("IF(ROW(B36) > MAX(IFERROR(MATCH(1, B:B, 0), 0), IFERROR(MATCH(2, B:B, 0), 0), IFERROR(MATCH(3, B:B, 0), 0), IFERROR(MATCH(4, B:B, 0), 0), IFERROR(MATCH(5, B:B, 0), 0), IFERROR(MATCH(6, B:B, 0), 0), IFERROR(MATCH(7, B:B, 0), 0), IFERROR(MATCH(8, B:B, 1), 0"&")),NOT(ISERROR(FILTER(ARRAYFORMULA(IFERROR(SEARCH(INDIRECT(""$P$2:$P"" & TEXT(COUNTIF(($P$2:P146), ""<>""), ""0"")),G30 & "" "" & L30),"""")), ARRAYFORMULA(IFERROR(SEARCH(INDIRECT(""$P$2:$P"" & TEXT(COUNTIF(($P$2:P146), ""<>""), ""0"")),G30 & "" "" & L30)"&","""")) <> """"))), 0)"),FALSE) -> FALSE | Q30: =IFERROR(__xludf.DUMMYFUNCTION("IF(AND(OR(COUNTA(FILTER($P$2:$P146, ARRAYFORMULA(ISNUMBER(FIND($P$2:$P146, G30))))) > 0, COUNTA(FILTER($P$2:$P146, ARRAYFORMULA(ISNUMBER(FIND($P$2:$P146, L30))))) > 0), NOT(ISNUMBER(B30))), TRUE(), FALSE())"),FALSE) -> FALSE | R30: =IFERROR(__xludf.DUMMYFUNCTION("IF(ISNA(JOIN("", "", FILTER($P$2:$P146, ARRAYFORMULA(ISNUMBER(FIND($P$2:$P146, G30))), NOT(ISBLANK($P$2:$P146))))), "" "", JOIN("", "", FILTER($P$2:$P146, ARRAYFORMULA(ISNUMBER(FIND($P$2:$P146, G30))), NOT(ISBLANK($P$2:$P146)))))")," ") | S30: =IFERROR(__xludf.DUMMYFUNCTION("IF(ISNA(JOIN("", "", FILTER($P$2:$P146, ARRAYFORMULA(ISNUMBER(FIND($P$2:$P146, L30))), NOT(ISBLANK($P$2:$P146))))), "" "", JOIN("", "", FILTER($P$2:$P146, ARRAYFORMULA(ISNUMBER(FIND($P$2:$P146, L30))), NOT(ISBLANK($P$2:$P146)))))")," ")
A31: 30 | D31: WS A | E31: 2 | G31: Tiffany Amper, SEN | I31: v | L31: Chelsea Kennedy, CAM | M31: 24-22, 21-10 | O31: =IFERROR(__xludf.DUMMYFUNCTION("IF(ROW(#REF!) > MAX(IFERROR(MATCH(1, B:B, 0), 0), IFERROR(MATCH(2, B:B, 0), 0), IFERROR(MATCH(3, B:B, 0), 0), IFERROR(MATCH(4, B:B, 0), 0), IFERROR(MATCH(5, B:B, 0), 0), IFERROR(MATCH(6, B:B, 0), 0), IFERROR(MATCH(7, B:B, 0), 0), IFERROR(MATCH(8, B:B, 1),"&" 0)),NOT(ISERROR(FILTER(ARRAYFORMULA(IFERROR(SEARCH(INDIRECT(""$P$2:$P"" & TEXT(COUNTIF(($P$2:P146), ""<>""), ""0"")),G31 & "" "" & L31),"""")), ARRAYFORMULA(IFERROR(SEARCH(INDIRECT(""$P$2:$P"" & TEXT(COUNTIF(($P$2:P146), ""<>""), ""0"")),G31 & "" "" & L3"&"1),"""")) <> """"))), 0)"),"#REF!") -> #REF! | Q31: =IFERROR(__xludf.DUMMYFUNCTION("IF(AND(OR(COUNTA(FILTER($P$2:$P146, ARRAYFORMULA(ISNUMBER(FIND($P$2:$P146, G31))))) > 0, COUNTA(FILTER($P$2:$P146, ARRAYFORMULA(ISNUMBER(FIND($P$2:$P146, L31))))) > 0), NOT(ISNUMBER(B31))), TRUE(), FALSE())"),FALSE) -> FALSE | R31: =IFERROR(__xludf.DUMMYFUNCTION("IF(ISNA(JOIN("", "", FILTER($P$2:$P146, ARRAYFORMULA(ISNUMBER(FIND($P$2:$P146, G31))), NOT(ISBLANK($P$2:$P146))))), "" "", JOIN("", "", FILTER($P$2:$P146, ARRAYFORMULA(ISNUMBER(FIND($P$2:$P146, G31))), NOT(ISBLANK($P$2:$P146)))))")," ") | S31: =IFERROR(__xludf.DUMMYFUNCTION("IF(ISNA(JOIN("", "", FILTER($P$2:$P146, ARRAYFORMULA(ISNUMBER(FIND($P$2:$P146, L31))), NOT(ISBLANK($P$2:$P146))))), "" "", JOIN("", "", FILTER($P$2:$P146, ARRAYFORMULA(ISNUMBER(FIND($P$2:$P146, L31))), NOT(ISBLANK($P$2:$P146)))))")," ")
A32: 31 | D32: WS A | E32: 2 | G32: Samantha Darby, FAN | I32: v | L32: Alyssa Gagne, BOR | M32: 21-3, 21-5 | O32: =IFERROR(__xludf.DUMMYFUNCTION("IF(ROW(B27) > MAX(IFERROR(MATCH(1, B:B, 0), 0), IFERROR(MATCH(2, B:B, 0), 0), IFERROR(MATCH(3, B:B, 0), 0), IFERROR(MATCH(4, B:B, 0), 0), IFERROR(MATCH(5, B:B, 0), 0), IFERROR(MATCH(6, B:B, 0), 0), IFERROR(MATCH(7, B:B, 0), 0), IFERROR(MATCH(8, B:B, 1), 0"&")),NOT(ISERROR(FILTER(ARRAYFORMULA(IFERROR(SEARCH(INDIRECT(""$P$2:$P"" & TEXT(COUNTIF(($P$2:P146), ""<>""), ""0"")),G32 & "" "" & L32),"""")), ARRAYFORMULA(IFERROR(SEARCH(INDIRECT(""$P$2:$P"" & TEXT(COUNTIF(($P$2:P146), ""<>""), ""0"")),G32 & "" "" & L32)"&","""")) <> """"))), 0)"),FALSE) -> FALSE | Q32: =IFERROR(__xludf.DUMMYFUNCTION("IF(AND(OR(COUNTA(FILTER($P$2:$P146, ARRAYFORMULA(ISNUMBER(FIND($P$2:$P146, G32))))) > 0, COUNTA(FILTER($P$2:$P146, ARRAYFORMULA(ISNUMBER(FIND($P$2:$P146, L32))))) > 0), NOT(ISNUMBER(B32))), TRUE(), FALSE())"),FALSE) -> FALSE | R32: =IFERROR(__xludf.DUMMYFUNCTION("IF(ISNA(JOIN("", "", FILTER($P$2:$P146, ARRAYFORMULA(ISNUMBER(FIND($P$2:$P146, G32))), NOT(ISBLANK($P$2:$P146))))), "" "", JOIN("", "", FILTER($P$2:$P146, ARRAYFORMULA(ISNUMBER(FIND($P$2:$P146, G32))), NOT(ISBLANK($P$2:$P146)))))")," ") | S32: =IFERROR(__xludf.DUMMYFUNCTION("IF(ISNA(JOIN("", "", FILTER($P$2:$P146, ARRAYFORMULA(ISNUMBER(FIND($P$2:$P146, L32))), NOT(ISBLANK($P$2:$P146))))), "" "", JOIN("", "", FILTER($P$2:$P146, ARRAYFORMULA(ISNUMBER(FIND($P$2:$P146, L32))), NOT(ISBLANK($P$2:$P146)))))")," ")
A33: 32 | D33: WD | E33: 2 | G33: A. Janybek & A. Kai, CON | I33: v | L33: S. Wu & S. Joshi, HUM | M33: 4-21, 6-21 | O33: =IFERROR(__xludf.DUMMYFUNCTION("IF(ROW(B35) > MAX(IFERROR(MATCH(1, B:B, 0), 0), IFERROR(MATCH(2, B:B, 0), 0), IFERROR(MATCH(3, B:B, 0), 0), IFERROR(MATCH(4, B:B, 0), 0), IFERROR(MATCH(5, B:B, 0), 0), IFERROR(MATCH(6, B:B, 0), 0), IFERROR(MATCH(7, B:B, 0), 0), IFERROR(MATCH(8, B:B, 1), 0"&")),NOT(ISERROR(FILTER(ARRAYFORMULA(IFERROR(SEARCH(INDIRECT(""$P$2:$P"" & TEXT(COUNTIF(($P$2:P146), ""<>""), ""0"")),G33 & "" "" & L33),"""")), ARRAYFORMULA(IFERROR(SEARCH(INDIRECT(""$P$2:$P"" & TEXT(COUNTIF(($P$2:P146), ""<>""), ""0"")),G33 & "" "" & L33)"&","""")) <> """"))), 0)"),FALSE) -> FALSE | Q33: =IFERROR(__xludf.DUMMYFUNCTION("IF(AND(OR(COUNTA(FILTER($P$2:$P146, ARRAYFORMULA(ISNUMBER(FIND($P$2:$P146, G33))))) > 0, COUNTA(FILTER($P$2:$P146, ARRAYFORMULA(ISNUMBER(FIND($P$2:$P146, L33))))) > 0), NOT(ISNUMBER(B33))), TRUE(), FALSE())"),FALSE) -> FALSE | R33: =IFERROR(__xludf.DUMMYFUNCTION("IF(ISNA(JOIN("", "", FILTER($P$2:$P146, ARRAYFORMULA(ISNUMBER(FIND($P$2:$P146, G33))), NOT(ISBLANK($P$2:$P146))))), "" "", JOIN("", "", FILTER($P$2:$P146, ARRAYFORMULA(ISNUMBER(FIND($P$2:$P146, G33))), NOT(ISBLANK($P$2:$P146)))))")," ") | S33: =IFERROR(__xludf.DUMMYFUNCTION("IF(ISNA(JOIN("", "", FILTER($P$2:$P146, ARRAYFORMULA(ISNUMBER(FIND($P$2:$P146, L33))), NOT(ISBLANK($P$2:$P146))))), "" "", JOIN("", "", FILTER($P$2:$P146, ARRAYFORMULA(ISNUMBER(FIND($P$2:$P146, L33))), NOT(ISBLANK($P$2:$P146)))))")," ")
A34: 33 | D34: WD | E34: 2 | G34: T. Vaidya & N. Kim, FAN | I34: v | L34: A. Xing & V. Lam, SEN | M34: 19-21, 21-15, 19-21 | O34: =IFERROR(__xludf.DUMMYFUNCTION("IF(ROW(#REF!) > MAX(IFERROR(MATCH(1, B:B, 0), 0), IFERROR(MATCH(2, B:B, 0), 0), IFERROR(MATCH(3, B:B, 0), 0), IFERROR(MATCH(4, B:B, 0), 0), IFERROR(MATCH(5, B:B, 0), 0), IFERROR(MATCH(6, B:B, 0), 0), IFERROR(MATCH(7, B:B, 0), 0), IFERROR(MATCH(8, B:B, 1),"&" 0)),NOT(ISERROR(FILTER(ARRAYFORMULA(IFERROR(SEARCH(INDIRECT(""$P$2:$P"" & TEXT(COUNTIF(($P$2:P146), ""<>""), ""0"")),G34 & "" "" & L34),"""")), ARRAYFORMULA(IFERROR(SEARCH(INDIRECT(""$P$2:$P"" & TEXT(COUNTIF(($P$2:P146), ""<>""), ""0"")),G34 & "" "" & L3"&"4),"""")) <> """"))), 0)"),"#REF!") -> #REF! | Q34: =IFERROR(__xludf.DUMMYFUNCTION("IF(AND(OR(COUNTA(FILTER($P$2:$P146, ARRAYFORMULA(ISNUMBER(FIND($P$2:$P146, G34))))) > 0, COUNTA(FILTER($P$2:$P146, ARRAYFORMULA(ISNUMBER(FIND($P$2:$P146, L34))))) > 0), NOT(ISNUMBER(B34))), TRUE(), FALSE())"),FALSE) -> FALSE | R34: =IFERROR(__xludf.DUMMYFUNCTION("IF(ISNA(JOIN("", "", FILTER($P$2:$P146, ARRAYFORMULA(ISNUMBER(FIND($P$2:$P146, G34))), NOT(ISBLANK($P$2:$P146))))), "" "", JOIN("", "", FILTER($P$2:$P146, ARRAYFORMULA(ISNUMBER(FIND($P$2:$P146, G34))), NOT(ISBLANK($P$2:$P146)))))")," ") | S34: =IFERROR(__xludf.DUMMYFUNCTION("IF(ISNA(JOIN("", "", FILTER($P$2:$P146, ARRAYFORMULA(ISNUMBER(FIND($P$2:$P146, L34))), NOT(ISBLANK($P$2:$P146))))), "" "", JOIN("", "", FILTER($P$2:$P146, ARRAYFORMULA(ISNUMBER(FIND($P$2:$P146, L34))), NOT(ISBLANK($P$2:$P146)))))")," ")
A35: 34 | D35: WD | E35: 2 | G35: S. Godek & L. Goldsack, LAM | I35: v | L35: V. Somaroo & M. Mercier, BOR | M35: 20-22, 21-17, 21-13 | O35: =IFERROR(__xludf.DUMMYFUNCTION("IF(ROW(#REF!) > MAX(IFERROR(MATCH(1, B:B, 0), 0), IFERROR(MATCH(2, B:B, 0), 0), IFERROR(MATCH(3, B:B, 0), 0), IFERROR(MATCH(4, B:B, 0), 0), IFERROR(MATCH(5, B:B, 0), 0), IFERROR(MATCH(6, B:B, 0), 0), IFERROR(MATCH(7, B:B, 0), 0), IFERROR(MATCH(8, B:B, 1),"&" 0)),NOT(ISERROR(FILTER(ARRAYFORMULA(IFERROR(SEARCH(INDIRECT(""$P$2:$P"" & TEXT(COUNTIF(($P$2:P146), ""<>""), ""0"")),G35 & "" "" & L35),"""")), ARRAYFORMULA(IFERROR(SEARCH(INDIRECT(""$P$2:$P"" & TEXT(COUNTIF(($P$2:P146), ""<>""), ""0"")),G35 & "" "" & L3"&"5),"""")) <> """"))), 0)"),"#REF!") -> #REF! | Q35: =IFERROR(__xludf.DUMMYFUNCTION("IF(AND(OR(COUNTA(FILTER($P$2:$P146, ARRAYFORMULA(ISNUMBER(FIND($P$2:$P146, G35))))) > 0, COUNTA(FILTER($P$2:$P146, ARRAYFORMULA(ISNUMBER(FIND($P$2:$P146, L35))))) > 0), NOT(ISNUMBER(B35))), TRUE(), FALSE())"),FALSE) -> FALSE | R35: =IFERROR(__xludf.DUMMYFUNCTION("IF(ISNA(JOIN("", "", FILTER($P$2:$P146, ARRAYFORMULA(ISNUMBER(FIND($P$2:$P146, G35))), NOT(ISBLANK($P$2:$P146))))), "" "", JOIN("", "", FILTER($P$2:$P146, ARRAYFORMULA(ISNUMBER(FIND($P$2:$P146, G35))), NOT(ISBLANK($P$2:$P146)))))")," ") | S35: =IFERROR(__xludf.DUMMYFUNCTION("IF(ISNA(JOIN("", "", FILTER($P$2:$P146, ARRAYFORMULA(ISNUMBER(FIND($P$2:$P146, L35))), NOT(ISBLANK($P$2:$P146))))), "" "", JOIN("", "", FILTER($P$2:$P146, ARRAYFORMULA(ISNUMBER(FIND($P$2:$P146, L35))), NOT(ISBLANK($P$2:$P146)))))")," ")
