Workbook

Sheet Welcome
H1: https://tinyurl.com/2025OCAAProv
C2: Seneca Polytechnic
C3: OCAA Provincial Championships | K3: On Deck
B5: Court 1 | C5: =IFERROR(VLOOKUP(1,Matches!B:M,6,FALSE),"") | E5: Court 5 | F5: =IFERROR(VLOOKUP(5,Matches!B:M,6,FALSE),"") | H5: 1st Available | I5: =IFERROR(VLOOKUP("1st avail",Matches!B:M,3,FALSE),"") | J5: =IFERROR(VLOOKUP("1st avail",Matches!B:M,4,FALSE),"") | K5: =IFERROR(VLOOKUP("1st avail",Matches!B:M,6,FALSE) & " vs " & VLOOKUP("1st avail",Matches!B:M,11,FALSE),"")
B6: =IFERROR(VLOOKUP(1,Matches!B:M,3,FALSE),"") | C6: vs | E6: =IFERROR(VLOOKUP(4,Matches!B:M,3,FALSE),"") | F6: vs
B7: =IFERROR(VLOOKUP(1,Matches!B:M,4,FALSE),"") | C7: =IFERROR(VLOOKUP(1,Matches!B:M,11,FALSE),"") | E7: =IFERROR(VLOOKUP(4,Matches!B:M,4,FALSE),"") | F7: =IFERROR(VLOOKUP(5,Matches!B:M,11,FALSE),"") | H7: 2nd Available | I7: =IFERROR(VLOOKUP("2nd avail",Matches!B:M,3,FALSE),"") | J7: =IFERROR(VLOOKUP("2nd avail",Matches!B:M,4,FALSE),"") | K7: =IFERROR(VLOOKUP("2nd avail",Matches!B:M,6,FALSE) & " vs " & VLOOKUP("2nd avail",Matches!B:M,11,FALSE),"")
B9: Court 2 | C9: =IFERROR(VLOOKUP(2,Matches!B:M,6,FALSE),"") | E9: Court 6 | F9: =IFERROR(VLOOKUP(6,Matches!B:M,6,FALSE),"") | H9: 3rd Available | I9: =IFERROR(VLOOKUP("3rd avail",Matches!B:M,3,FALSE),"") | J9: =IFERROR(VLOOKUP("3rd avail",Matches!B:M,4,FALSE),"") | K9: =IFERROR(VLOOKUP("3rd avail",Matches!B:M,6,FALSE) & " vs " & VLOOKUP("3rd avail",Matches!B:M,11,FALSE),"")
B10: =IFERROR(VLOOKUP(2,Matches!B:M,3,FALSE),"") | C10: vs | E10: =IFERROR(VLOOKUP(5,Matches!B:M,3,FALSE),"") | F10: vs
B11: =IFERROR(VLOOKUP(2,Matches!B:M,4,FALSE),"") | C11: =IFERROR(VLOOKUP(2,Matches!B:M,11,FALSE),"") | E11: =IFERROR(VLOOKUP(5,Matches!B:M,4,FALSE),"") | F11: =IFERROR(VLOOKUP(6,Matches!B:M,11,FALSE),"") | H11: 4th Available | I11: =IFERROR(VLOOKUP("4th avail",Matches!B:M,3,FALSE),"") | J11: =IFERROR(VLOOKUP("4th avail",Matches!B:M,4,FALSE),"") | K11: =IFERROR(VLOOKUP("4th avail",Matches!B:M,6,FALSE) & " vs " & VLOOKUP("4th avail",Matches!B:M,11,FALSE),"")
B13: Court 3 | C13: =IFERROR(VLOOKUP(3,Matches!B:M,6,FALSE),"") | E13: Court 7 | F13: =IFERROR(VLOOKUP(7,Matches!B:M,6,FALSE),"") | H13: 5th Available | I13: =IFERROR(VLOOKUP("5th avail",Matches!B:M,3,FALSE),"") | J13: =IFERROR(VLOOKUP("5th avail",Matches!B:M,4,FALSE),"") | K13: =IFERROR(VLOOKUP("5th avail",Matches!B:M,6,FALSE) & " vs " & VLOOKUP("5th avail",Matches!B:M,11,FALSE),"")
B14: =IFERROR(VLOOKUP(3,Matches!B:M,3,FALSE),"") | C14: vs | E14: =IFERROR(VLOOKUP(6,Matches!B:M,3,FALSE),"") | F14: vs
B15: =IFERROR(VLOOKUP(3,Matches!B:M,4,FALSE),"") | C15: =IFERROR(VLOOKUP(3,Matches!B:M,11,FALSE),"") | E15: =IFERROR(VLOOKUP(6,Matches!B:M,4,FALSE),"") | F15: =IFERROR(VLOOKUP(7,Matches!B:M,11,FALSE),"") | H15: 6th Available | I15: =IFERROR(VLOOKUP("6th avail",Matches!B:M,3,FALSE),"") | J15: =IFERROR(VLOOKUP("6th avail",Matches!B:M,4,FALSE),"") | K15: =IFERROR(VLOOKUP("6th avail",Matches!B:M,6,FALSE) & " vs " & VLOOKUP("6th avail",Matches!B:M,11,FALSE),"")
B17: Court 4 | C17: =IFERROR(VLOOKUP(4,Matches!B:M,6,FALSE),"") | E17: Court 8 | F17: =IFERROR(VLOOKUP(8,Matches!B:M,6,FALSE),"") | H17: Love All. Play!
B18: =IFERROR(VLOOKUP(3,Matches!B:M,3,FALSE),"") | C18: vs | E18: =IFERROR(VLOOKUP(6,Matches!B:M,3,FALSE),"") | F18: vs | H18: For scorekeepers, line judges or any discrepancies, please see our Officials: Head Referee: Umpires:
B19: =IFERROR(VLOOKUP(3,Matches!B:M,4,FALSE),"") | C19: =IFERROR(VLOOKUP(4,Matches!B:M,11,FALSE),"") | E19: =IFERROR(VLOOKUP(6,Matches!B:M,4,FALSE),"") | F19: =IFERROR(VLOOKUP(8,Matches!B:M,11,FALSE),"") | K19: https://ocaa.com/members/files/Badminton.pdf

Sheet Winners
B1: 2026 OCAA Provincial Championships
C2: 🥇 Gold Medalist | F2: 🥈 Silver Medalist | I2: 🥉 Bronze Medalist | L2: 🏅 4th Place
B3: Men's Singles | C3: Tim Lock, HUM | F3: Arpi Sinha, FAN | I3: Ram Ng, FAN | L3: Maulik Jain, SEN
B4: Women's Singles | C4: Rachel Chan, HUM | F4: Chincco Lai, SEN | I4: Elena Meng, HUM | L4: Tiffany Amper, SEN
B5: Men's Doubles | C5: B. Lai & J. Lau, SEN | F5: T. Le & T. Nguyen, FAN | I5: M. Barnes & R. Tu, CON | L5: T. Vicente-Pereira & Miranda, HUM
B6: Women's Doubles | C6: S. Wu & S. Joshi, HUM | F6: A. Xing & V. Lam, SEN | I6: T. Vaidya & N. Kim, FAN | L6: S. Godek & L. Goldsack, LAM
B7: Mixed Doubles | C7: J. Ronahan & C. Choi, HUM | F7: A. Tso & A. Iran, SEN | I7: S. Mohammad & X. Niu, FAN | L7: D. Brunette-Royer & J. Hopkins, CAM
C9: MS | D9: MD | E9: XD | F9: Total | G9: Rank | H9: COLLEGE | I9: WS | J9: WD | K9: XD | L9: Total | M9: Rank
A10: [BOR] | B10: Men's Team Banner | C10: 0 | D10: 0 | E10: 0 | F10: =SUM(C10:E10) -> 0 | H10: Boreal | I10: 0 | J10: 0 | K10: 0 | L10: =SUM(H10:K10) -> 0 | M10: 0 | N10: Women's Team Banner
A11: [CAM] | C11: 0 | D11: 0 | E11: 3 | F11: =SUM(C11:E11) -> 3 | H11: Cambrian | I11: 0 | J11: 0 | K11: 3 | L11: =SUM(H11:K11) -> 3
A12: [CON] | C12: 0 | D12: 5 | E12: 0 | F12: =SUM(C12:E12) -> 5 | H12: Conestoga | I12: 0 | J12: 0 | K12: 0 | L12: =SUM(H12:K12) -> 0
A13: [FAN] | C13: 12 | D13: 7 | E13: 5 | F13: =SUM(C13:E13) -> 24 | H13: Fanshawe | I13: 0 | J13: 5 | K13: 5 | L13: =SUM(H13:K13) -> 10
A14: [HUM] | C14: 10 | D14: 3 | E14: 10 | F14: =SUM(C14:E14) -> 23 | H14: Humber | I14: 15 | J14: 10 | K14: 10 | L14: =SUM(H14:K14) -> 35
A15: [LAM] | C15: 0 | D15: 0 | E15: 0 | F15: =SUM(C15:E15) -> 0 | H15: Lambton | I15: 0 | J15: 3 | K15: 0 | L15: =SUM(H15:K15) -> 3
A16: [SEN] | C16: 3 | D16: 10 | E16: 7 | F16: =SUM(C16:E16) -> 20 | H16: Seneca | I16: 10 | J16: 7 | K16: 7 | L16: =SUM(H16:K16) -> 24
D18: Men's Team Winner | E18: Fanshawe Falcons | I18: Congratulations to all participants!
D19: Women's Team Winner | E19: Humber Hawks
D20: Male Player of the Year | E20: Bosco Lai, SEN
D21: Female Player of the Year | E21: Shruti Joshi, HUM
D22: Coach of the Year | E22: Chloe Rowe, HUM
D23: Fair Play Award | E23: Maxwell Barnes, CON

Sheet Matches
A1: Match | B1: Court | D1: Event | E1: Round | F1: Team | G1: Team | K1: Team | L1: Team | M1: Winner's Score | N1: Notes | O1: I got no clue | P1: Players on Court | Q1: One player is already on court | R1: LEFT CONFLICT | S1: RIGHT CONFLICT
A2: 1 | D2: MS B | E2: 1 | G2: Arpi Sinha, FAN | I2: v | L2: Grey Pope, BOR | M2: 21-2, 21-4 | N2: ROUND 1 BYES: D. Collins, CAM, T. Amper, SEN, MD FAN, XD LAM | O2: =IFERROR(__xludf.DUMMYFUNCTION("IF(ROW(B13) > MAX(IFERROR(MATCH(1, B:B, 0), 0), IFERROR(MATCH(2, B:B, 0), 0), IFERROR(MATCH(3, B:B, 0), 0), IFERROR(MATCH(4, B:B, 0), 0), IFERROR(MATCH(5, B:B, 0), 0), IFERROR(MATCH(6, B:B, 0), 0), IFERROR(MATCH(7, B:B, 0), 0), IFERROR(MATCH(8, B:B, 1), 0"&")),NOT(ISERROR(FILTER(ARRAYFORMULA(IFERROR(SEARCH(INDIRECT(""$P$2:$P"" & TEXT(COUNTIF(($P$2:P146), ""<>""), ""0"")),G2 & "" "" & L2),"""")), ARRAYFORMULA(IFERROR(SEARCH(INDIRECT(""$P$2:$P"" & TEXT(COUNTIF(($P$2:P146), ""<>""), ""0"")),G2 & "" "" & L2),"""&""")) <> """"))), 0)"),FALSE) -> FALSE | P2: =IFERROR(__xludf.DUMMYFUNCTION("Arrayformula(TRIM(REGEXREPLACE(REGEXREPLACE(FILTER(FLATTEN(ARRAYFORMULA(SPLIT({FILTER({G2:G146}, N(B3:B146) >= 1, N(B3:B146)<= 8); FILTER({L2:L146}, N(B3:B146) >= 1, N(B3:B146)<= 8)},""/""))), FLATTEN(ARRAYFORMULA(SPLIT({FILTER({G2:G146}, N(B3:B146) >= 1,"&" N(B3:B146)<= 8); FILTER({L2:L146}, N(B3:B146) >= 1, N(B3:B146)<= 8)},""/"")) <> """")), ""\[.*\]"", """"),""\(.*\)"","""")))"),"#N/A") -> #N/A | Q2: =IFERROR(__xludf.DUMMYFUNCTION("IF(AND(OR(COUNTA(FILTER($P$2:$P146, ARRAYFORMULA(ISNUMBER(FIND($P$2:$P146, G2))))) > 0, COUNTA(FILTER($P$2:$P146, ARRAYFORMULA(ISNUMBER(FIND($P$2:$P146, L2))))) > 0), NOT(ISNUMBER(#REF!))), TRUE(), FALSE())"),FALSE) -> FALSE | R2: =IFERROR(__xludf.DUMMYFUNCTION("IF(ISNA(JOIN("", "", FILTER($P$2:$P146, ARRAYFORMULA(ISNUMBER(FIND($P$2:$P146, G2))), NOT(ISBLANK($P$2:$P146))))), "" "", JOIN("", "", FILTER($P$2:$P146, ARRAYFORMULA(ISNUMBER(FIND($P$2:$P146, G2))), NOT(ISBLANK($P$2:$P146)))))")," ") | S2: =IFERROR(__xludf.DUMMYFUNCTION("IF(ISNA(JOIN("", "", FILTER($P$2:$P146, ARRAYFORMULA(ISNUMBER(FIND($P$2:$P146, L2))), NOT(ISBLANK($P$2:$P146))))), "" "", JOIN("", "", FILTER($P$2:$P146, ARRAYFORMULA(ISNUMBER(FIND($P$2:$P146, L2))), NOT(ISBLANK($P$2:$P146)))))")," ")
A3: 2 | D3: MS B | E3: 1 | G3: Maulik Jain, SEN | I3: v | L3: Milton Smith, LAM | M3: 21-8, 21-10 | O3: =IFERROR(__xludf.DUMMYFUNCTION("IF(ROW(B10) > MAX(IFERROR(MATCH(1, B:B, 0), 0), IFERROR(MATCH(2, B:B, 0), 0), IFERROR(MATCH(3, B:B, 0), 0), IFERROR(MATCH(4, B:B, 0), 0), IFERROR(MATCH(5, B:B, 0), 0), IFERROR(MATCH(6, B:B, 0), 0), IFERROR(MATCH(7, B:B, 0), 0), IFERROR(MATCH(8, B:B, 1), 0"&")),NOT(ISERROR(FILTER(ARRAYFORMULA(IFERROR(SEARCH(INDIRECT(""$P$2:$P"" & TEXT(COUNTIF(($P$2:P146), ""<>""), ""0"")),G3 & "" "" & L3),"""")), ARRAYFORMULA(IFERROR(SEARCH(INDIRECT(""$P$2:$P"" & TEXT(COUNTIF(($P$2:P146), ""<>""), ""0"")),G3 & "" "" & L3),"""&""")) <> """"))), 0)"),FALSE) -> FALSE | Q3: =IFERROR(__xludf.DUMMYFUNCTION("IF(AND(OR(COUNTA(FILTER($P$2:$P146, ARRAYFORMULA(ISNUMBER(FIND($P$2:$P146, G3))))) > 0, COUNTA(FILTER($P$2:$P146, ARRAYFORMULA(ISNUMBER(FIND($P$2:$P146, L3))))) > 0), NOT(ISNUMBER(B3))), TRUE(), FALSE())"),FALSE) -> FALSE | R3: =IFERROR(__xludf.DUMMYFUNCTION("IF(ISNA(JOIN("", "", FILTER($P$2:$P146, ARRAYFORMULA(ISNUMBER(FIND($P$2:$P146, G3))), NOT(ISBLANK($P$2:$P146))))), "" "", JOIN("", "", FILTER($P$2:$P146, ARRAYFORMULA(ISNUMBER(FIND($P$2:$P146, G3))), NOT(ISBLANK($P$2:$P146)))))")," ") | S3: =IFERROR(__xludf.DUMMYFUNCTION("IF(ISNA(JOIN("", "", FILTER($P$2:$P146, ARRAYFORMULA(ISNUMBER(FIND($P$2:$P146, L3))), NOT(ISBLANK($P$2:$P146))))), "" "", JOIN("", "", FILTER($P$2:$P146, ARRAYFORMULA(ISNUMBER(FIND($P$2:$P146, L3))), NOT(ISBLANK($P$2:$P146)))))")," ")
A4: 3 | D4: MS B | E4: 1 | G4: Reanbert Valentino, HUM | I4: v | L4: Thinh Nguyen, CON | M4: 12-21, 14-21 | O4: =IFERROR(__xludf.DUMMYFUNCTION("IF(ROW(#REF!) > MAX(IFERROR(MATCH(1, B:B, 0), 0), IFERROR(MATCH(2, B:B, 0), 0), IFERROR(MATCH(3, B:B, 0), 0), IFERROR(MATCH(4, B:B, 0), 0), IFERROR(MATCH(5, B:B, 0), 0), IFERROR(MATCH(6, B:B, 0), 0), IFERROR(MATCH(7, B:B, 0), 0), IFERROR(MATCH(8, B:B, 1),"&" 0)),NOT(ISERROR(FILTER(ARRAYFORMULA(IFERROR(SEARCH(INDIRECT(""$P$2:$P"" & TEXT(COUNTIF(($P$2:P146), ""<>""), ""0"")),G4 & "" "" & L4),"""")), ARRAYFORMULA(IFERROR(SEARCH(INDIRECT(""$P$2:$P"" & TEXT(COUNTIF(($P$2:P146), ""<>""), ""0"")),G4 & "" "" & L4),"&""""")) <> """"))), 0)"),"#REF!") -> #REF! | Q4: =IFERROR(__xludf.DUMMYFUNCTION("IF(AND(OR(COUNTA(FILTER($P$2:$P146, ARRAYFORMULA(ISNUMBER(FIND($P$2:$P146, G4))))) > 0, COUNTA(FILTER($P$2:$P146, ARRAYFORMULA(ISNUMBER(FIND($P$2:$P146, L4))))) > 0), NOT(ISNUMBER(B4))), TRUE(), FALSE())"),FALSE) -> FALSE | R4: =IFERROR(__xludf.DUMMYFUNCTION("IF(ISNA(JOIN("", "", FILTER($P$2:$P146, ARRAYFORMULA(ISNUMBER(FIND($P$2:$P146, G4))), NOT(ISBLANK($P$2:$P146))))), "" "", JOIN("", "", FILTER($P$2:$P146, ARRAYFORMULA(ISNUMBER(FIND($P$2:$P146, G4))), NOT(ISBLANK($P$2:$P146)))))")," ") | S4: =IFERROR(__xludf.DUMMYFUNCTION("IF(ISNA(JOIN("", "", FILTER($P$2:$P146, ARRAYFORMULA(ISNUMBER(FIND($P$2:$P146, L4))), NOT(ISBLANK($P$2:$P146))))), "" "", JOIN("", "", FILTER($P$2:$P146, ARRAYFORMULA(ISNUMBER(FIND($P$2:$P146, L4))), NOT(ISBLANK($P$2:$P146)))))")," ")
A5: 4 | D5: MS A | E5: 1 | G5: Tim Lock, HUM | I5: v | L5: Dalton Baxter, LAM | M5: 21-2, 21-1 | O5: =IFERROR(__xludf.DUMMYFUNCTION("IF(ROW(B3) > MAX(IFERROR(MATCH(1, B:B, 0), 0), IFERROR(MATCH(2, B:B, 0), 0), IFERROR(MATCH(3, B:B, 0), 0), IFERROR(MATCH(4, B:B, 0), 0), IFERROR(MATCH(5, B:B, 0), 0), IFERROR(MATCH(6, B:B, 0), 0), IFERROR(MATCH(7, B:B, 0), 0), IFERROR(MATCH(8, B:B, 1), 0)"&"),NOT(ISERROR(FILTER(ARRAYFORMULA(IFERROR(SEARCH(INDIRECT(""$P$2:$P"" & TEXT(COUNTIF(($P$2:P146), ""<>""), ""0"")),G5 & "" "" & L5),"""")), ARRAYFORMULA(IFERROR(SEARCH(INDIRECT(""$P$2:$P"" & TEXT(COUNTIF(($P$2:P146), ""<>""), ""0"")),G5 & "" "" & L5),"""""&")) <> """"))), 0)"),FALSE) -> FALSE | Q5: =IFERROR(__xludf.DUMMYFUNCTION("IF(AND(OR(COUNTA(FILTER($P$2:$P146, ARRAYFORMULA(ISNUMBER(FIND($P$2:$P146, G5))))) > 0, COUNTA(FILTER($P$2:$P146, ARRAYFORMULA(ISNUMBER(FIND($P$2:$P146, L5))))) > 0), NOT(ISNUMBER(B5))), TRUE(), FALSE())"),FALSE) -> FALSE | R5: =IFERROR(__xludf.DUMMYFUNCTION("IF(ISNA(JOIN("", "", FILTER($P$2:$P146, ARRAYFORMULA(ISNUMBER(FIND($P$2:$P146, G5))), NOT(ISBLANK($P$2:$P146))))), "" "", JOIN("", "", FILTER($P$2:$P146, ARRAYFORMULA(ISNUMBER(FIND($P$2:$P146, G5))), NOT(ISBLANK($P$2:$P146)))))")," ") | S5: =IFERROR(__xludf.DUMMYFUNCTION("IF(ISNA(JOIN("", "", FILTER($P$2:$P146, ARRAYFORMULA(ISNUMBER(FIND($P$2:$P146, L5))), NOT(ISBLANK($P$2:$P146))))), "" "", JOIN("", "", FILTER($P$2:$P146, ARRAYFORMULA(ISNUMBER(FIND($P$2:$P146, L5))), NOT(ISBLANK($P$2:$P146)))))")," ")
A6: 5 | D6: MS A | E6: 1 | G6: Sebastien Liu, SEN | I6: v | L6: Akashdeep Singh, CON | M6: 21-17, 21-8 | O6: =IFERROR(__xludf.DUMMYFUNCTION("IF(ROW(B4) > MAX(IFERROR(MATCH(1, B:B, 0), 0), IFERROR(MATCH(2, B:B, 0), 0), IFERROR(MATCH(3, B:B, 0), 0), IFERROR(MATCH(4, B:B, 0), 0), IFERROR(MATCH(5, B:B, 0), 0), IFERROR(MATCH(6, B:B, 0), 0), IFERROR(MATCH(7, B:B, 0), 0), IFERROR(MATCH(8, B:B, 1), 0)"&"),NOT(ISERROR(FILTER(ARRAYFORMULA(IFERROR(SEARCH(INDIRECT(""$P$2:$P"" & TEXT(COUNTIF(($P$2:P146), ""<>""), ""0"")),G6 & "" "" & L6),"""")), ARRAYFORMULA(IFERROR(SEARCH(INDIRECT(""$P$2:$P"" & TEXT(COUNTIF(($P$2:P146), ""<>""), ""0"")),G6 & "" "" & L6),"""""&")) <> """"))), 0)"),FALSE) -> FALSE | Q6: =IFERROR(__xludf.DUMMYFUNCTION("IF(AND(OR(COUNTA(FILTER($P$2:$P146, ARRAYFORMULA(ISNUMBER(FIND($P$2:$P146, G6))))) > 0, COUNTA(FILTER($P$2:$P146, ARRAYFORMULA(ISNUMBER(FIND($P$2:$P146, L6))))) > 0), NOT(ISNUMBER(B6))), TRUE(), FALSE())"),FALSE) -> FALSE | R6: =IFERROR(__xludf.DUMMYFUNCTION("IF(ISNA(JOIN("", "", FILTER($P$2:$P146, ARRAYFORMULA(ISNUMBER(FIND($P$2:$P146, G6))), NOT(ISBLANK($P$2:$P146))))), "" "", JOIN("", "", FILTER($P$2:$P146, ARRAYFORMULA(ISNUMBER(FIND($P$2:$P146, G6))), NOT(ISBLANK($P$2:$P146)))))")," ") | S6: =IFERROR(__xludf.DUMMYFUNCTION("IF(ISNA(JOIN("", "", FILTER($P$2:$P146, ARRAYFORMULA(ISNUMBER(FIND($P$2:$P146, L6))), NOT(ISBLANK($P$2:$P146))))), "" "", JOIN("", "", FILTER($P$2:$P146, ARRAYFORMULA(ISNUMBER(FIND($P$2:$P146, L6))), NOT(ISBLANK($P$2:$P146)))))")," ")
A7: 6 | D7: MS A | E7: 1 | G7: Ram Ng, FAN | I7: v | L7: Prabhkirat Singh, CAM | M7: 21-5, 21-4 | O7: =IFERROR(__xludf.DUMMYFUNCTION("IF(ROW(B5) > MAX(IFERROR(MATCH(1, B:B, 0), 0), IFERROR(MATCH(2, B:B, 0), 0), IFERROR(MATCH(3, B:B, 0), 0), IFERROR(MATCH(4, B:B, 0), 0), IFERROR(MATCH(5, B:B, 0), 0), IFERROR(MATCH(6, B:B, 0), 0), IFERROR(MATCH(7, B:B, 0), 0), IFERROR(MATCH(8, B:B, 1), 0)"&"),NOT(ISERROR(FILTER(ARRAYFORMULA(IFERROR(SEARCH(INDIRECT(""$P$2:$P"" & TEXT(COUNTIF(($P$2:P146), ""<>""), ""0"")),G7 & "" "" & L7),"""")), ARRAYFORMULA(IFERROR(SEARCH(INDIRECT(""$P$2:$P"" & TEXT(COUNTIF(($P$2:P146), ""<>""), ""0"")),G7 & "" "" & L7),"""""&")) <> """"))), 0)"),FALSE) -> FALSE | Q7: =IFERROR(__xludf.DUMMYFUNCTION("IF(AND(OR(COUNTA(FILTER($P$2:$P146, ARRAYFORMULA(ISNUMBER(FIND($P$2:$P146, G7))))) > 0, COUNTA(FILTER($P$2:$P146, ARRAYFORMULA(ISNUMBER(FIND($P$2:$P146, L7))))) > 0), NOT(ISNUMBER(B7))), TRUE(), FALSE())"),FALSE) -> FALSE | R7: =IFERROR(__xludf.DUMMYFUNCTION("IF(ISNA(JOIN("", "", FILTER($P$2:$P146, ARRAYFORMULA(ISNUMBER(FIND($P$2:$P146, G7))), NOT(ISBLANK($P$2:$P146))))), "" "", JOIN("", "", FILTER($P$2:$P146, ARRAYFORMULA(ISNUMBER(FIND($P$2:$P146, G7))), NOT(ISBLANK($P$2:$P146)))))")," ") | S7: =IFERROR(__xludf.DUMMYFUNCTION("IF(ISNA(JOIN("", "", FILTER($P$2:$P146, ARRAYFORMULA(ISNUMBER(FIND($P$2:$P146, L7))), NOT(ISBLANK($P$2:$P146))))), "" "", JOIN("", "", FILTER($P$2:$P146, ARRAYFORMULA(ISNUMBER(FIND($P$2:$P146, L7))), NOT(ISBLANK($P$2:$P146)))))")," ")
A8: 7 | D8: WS B | E8: 1 | G8: Elena Meng, HUM | I8: v | L8: Mackenzie Pilon, BOR | M8: 21-10, 21-3 | O8: =IFERROR(__xludf.DUMMYFUNCTION("IF(ROW(B6) > MAX(IFERROR(MATCH(1, B:B, 0), 0), IFERROR(MATCH(2, B:B, 0), 0), IFERROR(MATCH(3, B:B, 0), 0), IFERROR(MATCH(4, B:B, 0), 0), IFERROR(MATCH(5, B:B, 0), 0), IFERROR(MATCH(6, B:B, 0), 0), IFERROR(MATCH(7, B:B, 0), 0), IFERROR(MATCH(8, B:B, 1), 0)"&"),NOT(ISERROR(FILTER(ARRAYFORMULA(IFERROR(SEARCH(INDIRECT(""$P$2:$P"" & TEXT(COUNTIF(($P$2:P146), ""<>""), ""0"")),G8 & "" "" & L8),"""")), ARRAYFORMULA(IFERROR(SEARCH(INDIRECT(""$P$2:$P"" & TEXT(COUNTIF(($P$2:P146), ""<>""), ""0"")),G8 & "" "" & L8),"""""&")) <> """"))), 0)"),FALSE) -> FALSE | Q8: =IFERROR(__xludf.DUMMYFUNCTION("IF(AND(OR(COUNTA(FILTER($P$2:$P146, ARRAYFORMULA(ISNUMBER(FIND($P$2:$P146, G8))))) > 0, COUNTA(FILTER($P$2:$P146, ARRAYFORMULA(ISNUMBER(FIND($P$2:$P146, L8))))) > 0), NOT(ISNUMBER(B8))), TRUE(), FALSE())"),FALSE) -> FALSE | R8: =IFERROR(__xludf.DUMMYFUNCTION("IF(ISNA(JOIN("", "", FILTER($P$2:$P146, ARRAYFORMULA(ISNUMBER(FIND($P$2:$P146, G8))), NOT(ISBLANK($P$2:$P146))))), "" "", JOIN("", "", FILTER($P$2:$P146, ARRAYFORMULA(ISNUMBER(FIND($P$2:$P146, G8))), NOT(ISBLANK($P$2:$P146)))))")," ") | S8: =IFERROR(__xludf.DUMMYFUNCTION("IF(ISNA(JOIN("", "", FILTER($P$2:$P146, ARRAYFORMULA(ISNUMBER(FIND($P$2:$P146, L8))), NOT(ISBLANK($P$2:$P146))))), "" "", JOIN("", "", FILTER($P$2:$P146, ARRAYFORMULA(ISNUMBER(FIND($P$2:$P146, L8))), NOT(ISBLANK($P$2:$P146)))))")," ")
A9: 8 | D9: WS B | E9: 1 | G9: Chincco Lai, SEN | I9: v | L9: Alexa Clark, CAM | M9: 21-4, 21-6 | O9: =IFERROR(__xludf.DUMMYFUNCTION("IF(ROW(B7) > MAX(IFERROR(MATCH(1, B:B, 0), 0), IFERROR(MATCH(2, B:B, 0), 0), IFERROR(MATCH(3, B:B, 0), 0), IFERROR(MATCH(4, B:B, 0), 0), IFERROR(MATCH(5, B:B, 0), 0), IFERROR(MATCH(6, B:B, 0), 0), IFERROR(MATCH(7, B:B, 0), 0), IFERROR(MATCH(8, B:B, 1), 0)"&"),NOT(ISERROR(FILTER(ARRAYFORMULA(IFERROR(SEARCH(INDIRECT(""$P$2:$P"" & TEXT(COUNTIF(($P$2:P146), ""<>""), ""0"")),G9 & "" "" & L9),"""")), ARRAYFORMULA(IFERROR(SEARCH(INDIRECT(""$P$2:$P"" & TEXT(COUNTIF(($P$2:P146), ""<>""), ""0"")),G9 & "" "" & L9),"""""&")) <> """"))), 0)"),FALSE) -> FALSE | Q9: =IFERROR(__xludf.DUMMYFUNCTION("IF(AND(OR(COUNTA(FILTER($P$2:$P146, ARRAYFORMULA(ISNUMBER(FIND($P$2:$P146, G9))))) > 0, COUNTA(FILTER($P$2:$P146, ARRAYFORMULA(ISNUMBER(FIND($P$2:$P146, L9))))) > 0), NOT(ISNUMBER(B9))), TRUE(), FALSE())"),FALSE) -> FALSE | R9: =IFERROR(__xludf.DUMMYFUNCTION("IF(ISNA(JOIN("", "", FILTER($P$2:$P146, ARRAYFORMULA(ISNUMBER(FIND($P$2:$P146, G9))), NOT(ISBLANK($P$2:$P146))))), "" "", JOIN("", "", FILTER($P$2:$P146, ARRAYFORMULA(ISNUMBER(FIND($P$2:$P146, G9))), NOT(ISBLANK($P$2:$P146)))))")," ") | S9: =IFERROR(__xludf.DUMMYFUNCTION("IF(ISNA(JOIN("", "", FILTER($P$2:$P146, ARRAYFORMULA(ISNUMBER(FIND($P$2:$P146, L9))), NOT(ISBLANK($P$2:$P146))))), "" "", JOIN("", "", FILTER($P$2:$P146, ARRAYFORMULA(ISNUMBER(FIND($P$2:$P146, L9))), NOT(ISBLANK($P$2:$P146)))))")," ")
A10: 9 | D10: WS B | E10: 1 | G10: Shubhi Yadav, CON | I10: v | L10: Rejoice Nwokedi, FAN | M10: CON WITHDRAWAL | N10: CON WITHDRAWAL | O10: =IFERROR(__xludf.DUMMYFUNCTION("IF(ROW(#REF!) > MAX(IFERROR(MATCH(1, B:B, 0), 0), IFERROR(MATCH(2, B:B, 0), 0), IFERROR(MATCH(3, B:B, 0), 0), IFERROR(MATCH(4, B:B, 0), 0), IFERROR(MATCH(5, B:B, 0), 0), IFERROR(MATCH(6, B:B, 0), 0), IFERROR(MATCH(7, B:B, 0), 0), IFERROR(MATCH(8, B:B, 1),"&" 0)),NOT(ISERROR(FILTER(ARRAYFORMULA(IFERROR(SEARCH(INDIRECT(""$P$2:$P"" & TEXT(COUNTIF(($P$2:P146), ""<>""), ""0"")),G10 & "" "" & L10),"""")), ARRAYFORMULA(IFERROR(SEARCH(INDIRECT(""$P$2:$P"" & TEXT(COUNTIF(($P$2:P146), ""<>""), ""0"")),G10 & "" "" & L1"&"0),"""")) <> """"))), 0)"),"#REF!") -> #REF! | Q10: =IFERROR(__xludf.DUMMYFUNCTION("IF(AND(OR(COUNTA(FILTER($P$2:$P146, ARRAYFORMULA(ISNUMBER(FIND($P$2:$P146, G10))))) > 0, COUNTA(FILTER($P$2:$P146, ARRAYFORMULA(ISNUMBER(FIND($P$2:$P146, L10))))) > 0), NOT(ISNUMBER(B10))), TRUE(), FALSE())"),FALSE) -> FALSE | R10: =IFERROR(__xludf.DUMMYFUNCTION("IF(ISNA(JOIN("", "", FILTER($P$2:$P146, ARRAYFORMULA(ISNUMBER(FIND($P$2:$P146, G10))), NOT(ISBLANK($P$2:$P146))))), "" "", JOIN("", "", FILTER($P$2:$P146, ARRAYFORMULA(ISNUMBER(FIND($P$2:$P146, G10))), NOT(ISBLANK($P$2:$P146)))))")," ") | S10: =IFERROR(__xludf.DUMMYFUNCTION("IF(ISNA(JOIN("", "", FILTER($P$2:$P146, ARRAYFORMULA(ISNUMBER(FIND($P$2:$P146, L10))), NOT(ISBLANK($P$2:$P146))))), "" "", JOIN("", "", FILTER($P$2:$P146, ARRAYFORMULA(ISNUMBER(FIND($P$2:$P146, L10))), NOT(ISBLANK($P$2:$P146)))))")," ")
A11: 10 | D11: WS A | E11: 1 | G11: Rachel Chan, HUM | I11: v | L11: Alyssa Gagne, BOR | M11: 21-1, 21-2 | O11: =IFERROR(__xludf.DUMMYFUNCTION("IF(ROW(#REF!) > MAX(IFERROR(MATCH(1, B:B, 0), 0), IFERROR(MATCH(2, B:B, 0), 0), IFERROR(MATCH(3, B:B, 0), 0), IFERROR(MATCH(4, B:B, 0), 0), IFERROR(MATCH(5, B:B, 0), 0), IFERROR(MATCH(6, B:B, 0), 0), IFERROR(MATCH(7, B:B, 0), 0), IFERROR(MATCH(8, B:B, 1),"&" 0)),NOT(ISERROR(FILTER(ARRAYFORMULA(IFERROR(SEARCH(INDIRECT(""$P$2:$P"" & TEXT(COUNTIF(($P$2:P146), ""<>""), ""0"")),G11 & "" "" & L11),"""")), ARRAYFORMULA(IFERROR(SEARCH(INDIRECT(""$P$2:$P"" & TEXT(COUNTIF(($P$2:P146), ""<>""), ""0"")),G11 & "" "" & L1"&"1),"""")) <> """"))), 0)"),"#REF!") -> #REF! | Q11: =IFERROR(__xludf.DUMMYFUNCTION("IF(AND(OR(COUNTA(FILTER($P$2:$P146, ARRAYFORMULA(ISNUMBER(FIND($P$2:$P146, G11))))) > 0, COUNTA(FILTER($P$2:$P146, ARRAYFORMULA(ISNUMBER(FIND($P$2:$P146, L11))))) > 0), NOT(ISNUMBER(B11))), TRUE(), FALSE())"),FALSE) -> FALSE | R11: =IFERROR(__xludf.DUMMYFUNCTION("IF(ISNA(JOIN("", "", FILTER($P$2:$P146, ARRAYFORMULA(ISNUMBER(FIND($P$2:$P146, G11))), NOT(ISBLANK($P$2:$P146))))), "" "", JOIN("", "", FILTER($P$2:$P146, ARRAYFORMULA(ISNUMBER(FIND($P$2:$P146, G11))), NOT(ISBLANK($P$2:$P146)))))")," ") | S11: =IFERROR(__xludf.DUMMYFUNCTION("IF(ISNA(JOIN("", "", FILTER($P$2:$P146, ARRAYFORMULA(ISNUMBER(FIND($P$2:$P146, L11))), NOT(ISBLANK($P$2:$P146))))), "" "", JOIN("", "", FILTER($P$2:$P146, ARRAYFORMULA(ISNUMBER(FIND($P$2:$P146, L11))), NOT(ISBLANK($P$2:$P146)))))")," ")
A12: 11 | D12: WS A | E12: 1 | G12: Samantha Darby, FAN | I12: v | L12: Chelsea Kennedy, CAM | M12: 21-19, 21-14 | O12: =IFERROR(__xludf.DUMMYFUNCTION("IF(ROW(#REF!) > MAX(IFERROR(MATCH(1, B:B, 0), 0), IFERROR(MATCH(2, B:B, 0), 0), IFERROR(MATCH(3, B:B, 0), 0), IFERROR(MATCH(4, B:B, 0), 0), IFERROR(MATCH(5, B:B, 0), 0), IFERROR(MATCH(6, B:B, 0), 0), IFERROR(MATCH(7, B:B, 0), 0), IFERROR(MATCH(8, B:B, 1),"&" 0)),NOT(ISERROR(FILTER(ARRAYFORMULA(IFERROR(SEARCH(INDIRECT(""$P$2:$P"" & TEXT(COUNTIF(($P$2:P146), ""<>""), ""0"")),G12 & "" "" & L12),"""")), ARRAYFORMULA(IFERROR(SEARCH(INDIRECT(""$P$2:$P"" & TEXT(COUNTIF(($P$2:P146), ""<>""), ""0"")),G12 & "" "" & L1"&"2),"""")) <> """"))), 0)"),"#REF!") -> #REF! | Q12: =IFERROR(__xludf.DUMMYFUNCTION("IF(AND(OR(COUNTA(FILTER($P$2:$P146, ARRAYFORMULA(ISNUMBER(FIND($P$2:$P146, G12))))) > 0, COUNTA(FILTER($P$2:$P146, ARRAYFORMULA(ISNUMBER(FIND($P$2:$P146, L12))))) > 0), NOT(ISNUMBER(B12))), TRUE(), FALSE())"),FALSE) -> FALSE | R12: =IFERROR(__xludf.DUMMYFUNCTION("IF(ISNA(JOIN("", "", FILTER($P$2:$P146, ARRAYFORMULA(ISNUMBER(FIND($P$2:$P146, G12))), NOT(ISBLANK($P$2:$P146))))), "" "", JOIN("", "", FILTER($P$2:$P146, ARRAYFORMULA(ISNUMBER(FIND($P$2:$P146, G12))), NOT(ISBLANK($P$2:$P146)))))")," ") | S12: =IFERROR(__xludf.DUMMYFUNCTION("IF(ISNA(JOIN("", "", FILTER($P$2:$P146, ARRAYFORMULA(ISNUMBER(FIND($P$2:$P146, L12))), NOT(ISBLANK($P$2:$P146))))), "" "", JOIN("", "", FILTER($P$2:$P146, ARRAYFORMULA(ISNUMBER(FIND($P$2:$P146, L12))), NOT(ISBLANK($P$2:$P146)))))")," ")
A13: 12 | D13: WD | E13: 1 | G13: V. Somaroo & M. Mercier, BOR | I13: v | L13: A. Xing & V. Lam, SEN | M13: 8-21, 5-21 | O13: =IFERROR(__xludf.DUMMYFUNCTION("IF(ROW(#REF!) > MAX(IFERROR(MATCH(1, B:B, 0), 0), IFERROR(MATCH(2, B:B, 0), 0), IFERROR(MATCH(3, B:B, 0), 0), IFERROR(MATCH(4, B:B, 0), 0), IFERROR(MATCH(5, B:B, 0), 0), IFERROR(MATCH(6, B:B, 0), 0), IFERROR(MATCH(7, B:B, 0), 0), IFERROR(MATCH(8, B:B, 1),"&" 0)),NOT(ISERROR(FILTER(ARRAYFORMULA(IFERROR(SEARCH(INDIRECT(""$P$2:$P"" & TEXT(COUNTIF(($P$2:P146), ""<>""), ""0"")),G13 & "" "" & L13),"""")), ARRAYFORMULA(IFERROR(SEARCH(INDIRECT(""$P$2:$P"" & TEXT(COUNTIF(($P$2:P146), ""<>""), ""0"")),G13 & "" "" & L1"&"3),"""")) <> """"))), 0)"),"#REF!") -> #REF! | Q13: =IFERROR(__xludf.DUMMYFUNCTION("IF(AND(OR(COUNTA(FILTER($P$2:$P146, ARRAYFORMULA(ISNUMBER(FIND($P$2:$P146, G13))))) > 0, COUNTA(FILTER($P$2:$P146, ARRAYFORMULA(ISNUMBER(FIND($P$2:$P146, L13))))) > 0), NOT(ISNUMBER(B13))), TRUE(), FALSE())"),FALSE) -> FALSE | R13: =IFERROR(__xludf.DUMMYFUNCTION("IF(ISNA(JOIN("", "", FILTER($P$2:$P146, ARRAYFORMULA(ISNUMBER(FIND($P$2:$P146, G13))), NOT(ISBLANK($P$2:$P146))))), "" "", JOIN("", "", FILTER($P$2:$P146, ARRAYFORMULA(ISNUMBER(FIND($P$2:$P146, G13))), NOT(ISBLANK($P$2:$P146)))))")," ") | S13: =IFERROR(__xludf.DUMMYFUNCTION("IF(ISNA(JOIN("", "", FILTER($P$2:$P146, ARRAYFORMULA(ISNUMBER(FIND($P$2:$P146, L13))), NOT(ISBLANK($P$2:$P146))))), "" "", JOIN("", "", FILTER($P$2:$P146, ARRAYFORMULA(ISNUMBER(FIND($P$2:$P146, L13))), NOT(ISBLANK($P$2:$P146)))))")," ")
A14: 13 | D14: WD | E14: 1 | G14: S. Wu & S. Joshi, HUM | I14: v | L14: S. Godek & L. Goldsack, LAM | M14: 21-4, 21-7 | O14: =IFERROR(__xludf.DUMMYFUNCTION("IF(ROW(B25) > MAX(IFERROR(MATCH(1, B:B, 0), 0), IFERROR(MATCH(2, B:B, 0), 0), IFERROR(MATCH(3, B:B, 0), 0), IFERROR(MATCH(4, B:B, 0), 0), IFERROR(MATCH(5, B:B, 0), 0), IFERROR(MATCH(6, B:B, 0), 0), IFERROR(MATCH(7, B:B, 0), 0), IFERROR(MATCH(8, B:B, 1), 0"&")),NOT(ISERROR(FILTER(ARRAYFORMULA(IFERROR(SEARCH(INDIRECT(""$P$2:$P"" & TEXT(COUNTIF(($P$2:P146), ""<>""), ""0"")),G14 & "" "" & L14),"""")), ARRAYFORMULA(IFERROR(SEARCH(INDIRECT(""$P$2:$P"" & TEXT(COUNTIF(($P$2:P146), ""<>""), ""0"")),G14 & "" "" & L14)"&","""")) <> """"))), 0)"),FALSE) -> FALSE | Q14: =IFERROR(__xludf.DUMMYFUNCTION("IF(AND(OR(COUNTA(FILTER($P$2:$P146, ARRAYFORMULA(ISNUMBER(FIND($P$2:$P146, G14))))) > 0, COUNTA(FILTER($P$2:$P146, ARRAYFORMULA(ISNUMBER(FIND($P$2:$P146, L14))))) > 0), NOT(ISNUMBER(B14))), TRUE(), FALSE())"),FALSE) -> FALSE | R14: =IFERROR(__xludf.DUMMYFUNCTION("IF(ISNA(JOIN("", "", FILTER($P$2:$P146, ARRAYFORMULA(ISNUMBER(FIND($P$2:$P146, G14))), NOT(ISBLANK($P$2:$P146))))), "" "", JOIN("", "", FILTER($P$2:$P146, ARRAYFORMULA(ISNUMBER(FIND($P$2:$P146, G14))), NOT(ISBLANK($P$2:$P146)))))")," ") | S14: =IFERROR(__xludf.DUMMYFUNCTION("IF(ISNA(JOIN("", "", FILTER($P$2:$P146, ARRAYFORMULA(ISNUMBER(FIND($P$2:$P146, L14))), NOT(ISBLANK($P$2:$P146))))), "" "", JOIN("", "", FILTER($P$2:$P146, ARRAYFORMULA(ISNUMBER(FIND($P$2:$P146, L14))), NOT(ISBLANK($P$2:$P146)))))")," ")
A15: 14 | D15: WD | E15: 1 | G15: T. Vaidya & N. Kim, FAN | I15: v | L15: A. Janybek & A. Kai, CON | M15: 21-4, 21-0 | O15: =IFERROR(__xludf.DUMMYFUNCTION("IF(ROW(B24) > MAX(IFERROR(MATCH(1, B:B, 0), 0), IFERROR(MATCH(2, B:B, 0), 0), IFERROR(MATCH(3, B:B, 0), 0), IFERROR(MATCH(4, B:B, 0), 0), IFERROR(MATCH(5, B:B, 0), 0), IFERROR(MATCH(6, B:B, 0), 0), IFERROR(MATCH(7, B:B, 0), 0), IFERROR(MATCH(8, B:B, 1), 0"&")),NOT(ISERROR(FILTER(ARRAYFORMULA(IFERROR(SEARCH(INDIRECT(""$P$2:$P"" & TEXT(COUNTIF(($P$2:P146), ""<>""), ""0"")),G15 & "" "" & L15),"""")), ARRAYFORMULA(IFERROR(SEARCH(INDIRECT(""$P$2:$P"" & TEXT(COUNTIF(($P$2:P146), ""<>""), ""0"")),G15 & "" "" & L15)"&","""")) <> """"))), 0)"),FALSE) -> FALSE | Q15: =IFERROR(__xludf.DUMMYFUNCTION("IF(AND(OR(COUNTA(FILTER($P$2:$P146, ARRAYFORMULA(ISNUMBER(FIND($P$2:$P146, G15))))) > 0, COUNTA(FILTER($P$2:$P146, ARRAYFORMULA(ISNUMBER(FIND($P$2:$P146, L15))))) > 0), NOT(ISNUMBER(B15))), TRUE(), FALSE())"),FALSE) -> FALSE | R15: =IFERROR(__xludf.DUMMYFUNCTION("IF(ISNA(JOIN("", "", FILTER($P$2:$P146, ARRAYFORMULA(ISNUMBER(FIND($P$2:$P146, G15))), NOT(ISBLANK($P$2:$P146))))), "" "", JOIN("", "", FILTER($P$2:$P146, ARRAYFORMULA(ISNUMBER(FIND($P$2:$P146, G15))), NOT(ISBLANK($P$2:$P146)))))")," ") | S15: =IFERROR(__xludf.DUMMYFUNCTION("IF(ISNA(JOIN("", "", FILTER($P$2:$P146, ARRAYFORMULA(ISNUMBER(FIND($P$2:$P146, L15))), NOT(ISBLANK($P$2:$P146))))), "" "", JOIN("", "", FILTER($P$2:$P146, ARRAYFORMULA(ISNUMBER(FIND($P$2:$P146, L15))), NOT(ISBLANK($P$2:$P146)))))")," ")
A16: 15 | D16: MD | E16: 1 | G16: A. Atkins & E. Leduc, BOR | I16: v | L16: B. Lai & J. Lau, SEN | M16: 6-21, 3-21 | O16: =IFERROR(__xludf.DUMMYFUNCTION("IF(ROW(#REF!) > MAX(IFERROR(MATCH(1, B:B, 0), 0), IFERROR(MATCH(2, B:B, 0), 0), IFERROR(MATCH(3, B:B, 0), 0), IFERROR(MATCH(4, B:B, 0), 0), IFERROR(MATCH(5, B:B, 0), 0), IFERROR(MATCH(6, B:B, 0), 0), IFERROR(MATCH(7, B:B, 0), 0), IFERROR(MATCH(8, B:B, 1),"&" 0)),NOT(ISERROR(FILTER(ARRAYFORMULA(IFERROR(SEARCH(INDIRECT(""$P$2:$P"" & TEXT(COUNTIF(($P$2:P146), ""<>""), ""0"")),G16 & "" "" & L16),"""")), ARRAYFORMULA(IFERROR(SEARCH(INDIRECT(""$P$2:$P"" & TEXT(COUNTIF(($P$2:P146), ""<>""), ""0"")),G16 & "" "" & L1"&"6),"""")) <> """"))), 0)"),"#REF!") -> #REF! | Q16: =IFERROR(__xludf.DUMMYFUNCTION("IF(AND(OR(COUNTA(FILTER($P$2:$P146, ARRAYFORMULA(ISNUMBER(FIND($P$2:$P146, G16))))) > 0, COUNTA(FILTER($P$2:$P146, ARRAYFORMULA(ISNUMBER(FIND($P$2:$P146, L16))))) > 0), NOT(ISNUMBER(#REF!))), TRUE(), FALSE())"),FALSE) -> FALSE | R16: =IFERROR(__xludf.DUMMYFUNCTION("IF(ISNA(JOIN("", "", FILTER($P$2:$P146, ARRAYFORMULA(ISNUMBER(FIND($P$2:$P146, G16))), NOT(ISBLANK($P$2:$P146))))), "" "", JOIN("", "", FILTER($P$2:$P146, ARRAYFORMULA(ISNUMBER(FIND($P$2:$P146, G16))), NOT(ISBLANK($P$2:$P146)))))")," ") | S16: =IFERROR(__xludf.DUMMYFUNCTION("IF(ISNA(JOIN("", "", FILTER($P$2:$P146, ARRAYFORMULA(ISNUMBER(FIND($P$2:$P146, L16))), NOT(ISBLANK($P$2:$P146))))), "" "", JOIN("", "", FILTER($P$2:$P146, ARRAYFORMULA(ISNUMBER(FIND($P$2:$P146, L16))), NOT(ISBLANK($P$2:$P146)))))")," ")
A17: 16 | D17: MD | E17: 1 | G17: H. Joshy John & G. Hebner, CAM | I17: v | L17: T. Vicente-Pereira & Miranda, HUM | M17: 19-21, 19-21 | O17: =IFERROR(__xludf.DUMMYFUNCTION("IF(ROW(#REF!) > MAX(IFERROR(MATCH(1, B:B, 0), 0), IFERROR(MATCH(2, B:B, 0), 0), IFERROR(MATCH(3, B:B, 0), 0), IFERROR(MATCH(4, B:B, 0), 0), IFERROR(MATCH(5, B:B, 0), 0), IFERROR(MATCH(6, B:B, 0), 0), IFERROR(MATCH(7, B:B, 0), 0), IFERROR(MATCH(8, B:B, 1),"&" 0)),NOT(ISERROR(FILTER(ARRAYFORMULA(IFERROR(SEARCH(INDIRECT(""$P$2:$P"" & TEXT(COUNTIF(($P$2:P146), ""<>""), ""0"")),G17 & "" "" & L17),"""")), ARRAYFORMULA(IFERROR(SEARCH(INDIRECT(""$P$2:$P"" & TEXT(COUNTIF(($P$2:P146), ""<>""), ""0"")),G17 & "" "" & L1"&"7),"""")) <> """"))), 0)"),"#REF!") -> #REF! | Q17: =IFERROR(__xludf.DUMMYFUNCTION("IF(AND(OR(COUNTA(FILTER($P$2:$P146, ARRAYFORMULA(ISNUMBER(FIND($P$2:$P146, G17))))) > 0, COUNTA(FILTER($P$2:$P146, ARRAYFORMULA(ISNUMBER(FIND($P$2:$P146, L17))))) > 0), NOT(ISNUMBER(#REF!))), TRUE(), FALSE())"),FALSE) -> FALSE | R17: =IFERROR(__xludf.DUMMYFUNCTION("IF(ISNA(JOIN("", "", FILTER($P$2:$P146, ARRAYFORMULA(ISNUMBER(FIND($P$2:$P146, G17))), NOT(ISBLANK($P$2:$P146))))), "" "", JOIN("", "", FILTER($P$2:$P146, ARRAYFORMULA(ISNUMBER(FIND($P$2:$P146, G17))), NOT(ISBLANK($P$2:$P146)))))")," ") | S17: =IFERROR(__xludf.DUMMYFUNCTION("IF(ISNA(JOIN("", "", FILTER($P$2:$P146, ARRAYFORMULA(ISNUMBER(FIND($P$2:$P146, L17))), NOT(ISBLANK($P$2:$P146))))), "" "", JOIN("", "", FILTER($P$2:$P146, ARRAYFORMULA(ISNUMBER(FIND($P$2:$P146, L17))), NOT(ISBLANK($P$2:$P146)))))")," ")
A18: 17 | D18: MD | E18: 1 | G18: M. Barnes & R. Tu, CON | I18: v | L18: G. Clark & L. Aarts, LAM | M18: 21-7, 21-12 | O18: =IFERROR(__xludf.DUMMYFUNCTION("IF(ROW(#REF!) > MAX(IFERROR(MATCH(1, B:B, 0), 0), IFERROR(MATCH(2, B:B, 0), 0), IFERROR(MATCH(3, B:B, 0), 0), IFERROR(MATCH(4, B:B, 0), 0), IFERROR(MATCH(5, B:B, 0), 0), IFERROR(MATCH(6, B:B, 0), 0), IFERROR(MATCH(7, B:B, 0), 0), IFERROR(MATCH(8, B:B, 1),"&" 0)),NOT(ISERROR(FILTER(ARRAYFORMULA(IFERROR(SEARCH(INDIRECT(""$P$2:$P"" & TEXT(COUNTIF(($P$2:P146), ""<>""), ""0"")),G18 & "" "" & L18),"""")), ARRAYFORMULA(IFERROR(SEARCH(INDIRECT(""$P$2:$P"" & TEXT(COUNTIF(($P$2:P146), ""<>""), ""0"")),G18 & "" "" & L1"&"8),"""")) <> """"))), 0)"),"#REF!") -> #REF! | Q18: =IFERROR(__xludf.DUMMYFUNCTION("IF(AND(OR(COUNTA(FILTER($P$2:$P146, ARRAYFORMULA(ISNUMBER(FIND($P$2:$P146, G18))))) > 0, COUNTA(FILTER($P$2:$P146, ARRAYFORMULA(ISNUMBER(FIND($P$2:$P146, L18))))) > 0), NOT(ISNUMBER(B18))), TRUE(), FALSE())"),FALSE) -> FALSE | R18: =IFERROR(__xludf.DUMMYFUNCTION("IF(ISNA(JOIN("", "", FILTER($P$2:$P146, ARRAYFORMULA(ISNUMBER(FIND($P$2:$P146, G18))), NOT(ISBLANK($P$2:$P146))))), "" "", JOIN("", "", FILTER($P$2:$P146, ARRAYFORMULA(ISNUMBER(FIND($P$2:$P146, G18))), NOT(ISBLANK($P$2:$P146)))))")," ") | S18: =IFERROR(__xludf.DUMMYFUNCTION("IF(ISNA(JOIN("", "", FILTER($P$2:$P146, ARRAYFORMULA(ISNUMBER(FIND($P$2:$P146, L18))), NOT(ISBLANK($P$2:$P146))))), "" "", JOIN("", "", FILTER($P$2:$P146, ARRAYFORMULA(ISNUMBER(FIND($P$2:$P146, L18))), NOT(ISBLANK($P$2:$P146)))))")," ")
A19: 18 | D19: XD | E19: 1 | G19: J. Atkins & L. Richards, BOR | I19: v | L19: A. Tso & A. Iran, SEN | M19: 6-21, 8-21 | O19: =IFERROR(__xludf.DUMMYFUNCTION("IF(ROW(#REF!) > MAX(IFERROR(MATCH(1, B:B, 0), 0), IFERROR(MATCH(2, B:B, 0), 0), IFERROR(MATCH(3, B:B, 0), 0), IFERROR(MATCH(4, B:B, 0), 0), IFERROR(MATCH(5, B:B, 0), 0), IFERROR(MATCH(6, B:B, 0), 0), IFERROR(MATCH(7, B:B, 0), 0), IFERROR(MATCH(8, B:B, 1),"&" 0)),NOT(ISERROR(FILTER(ARRAYFORMULA(IFERROR(SEARCH(INDIRECT(""$P$2:$P"" & TEXT(COUNTIF(($P$2:P146), ""<>""), ""0"")),G19 & "" "" & L19),"""")), ARRAYFORMULA(IFERROR(SEARCH(INDIRECT(""$P$2:$P"" & TEXT(COUNTIF(($P$2:P146), ""<>""), ""0"")),G19 & "" "" & L1"&"9),"""")) <> """"))), 0)"),"#REF!") -> #REF! | Q19: =IFERROR(__xludf.DUMMYFUNCTION("IF(AND(OR(COUNTA(FILTER($P$2:$P146, ARRAYFORMULA(ISNUMBER(FIND($P$2:$P146, G19))))) > 0, COUNTA(FILTER($P$2:$P146, ARRAYFORMULA(ISNUMBER(FIND($P$2:$P146, L19))))) > 0), NOT(ISNUMBER(B19))), TRUE(), FALSE())"),FALSE) -> FALSE | R19: =IFERROR(__xludf.DUMMYFUNCTION("IF(ISNA(JOIN("", "", FILTER($P$2:$P146, ARRAYFORMULA(ISNUMBER(FIND($P$2:$P146, G19))), NOT(ISBLANK($P$2:$P146))))), "" "", JOIN("", "", FILTER($P$2:$P146, ARRAYFORMULA(ISNUMBER(FIND($P$2:$P146, G19))), NOT(ISBLANK($P$2:$P146)))))")," ") | S19: =IFERROR(__xludf.DUMMYFUNCTION("IF(ISNA(JOIN("", "", FILTER($P$2:$P146, ARRAYFORMULA(ISNUMBER(FIND($P$2:$P146, L19))), NOT(ISBLANK($P$2:$P146))))), "" "", JOIN("", "", FILTER($P$2:$P146, ARRAYFORMULA(ISNUMBER(FIND($P$2:$P146, L19))), NOT(ISBLANK($P$2:$P146)))))")," ")
A20: 19 | D20: XD | E20: 1 | G20: J. Ronahan & C. Choi, HUM | I20: v | L20: N. Bridge & M. Muqeem, CON | M20: 21-4, 21-7 | O20: =IFERROR(__xludf.DUMMYFUNCTION("IF(ROW(#REF!) > MAX(IFERROR(MATCH(1, B:B, 0), 0), IFERROR(MATCH(2, B:B, 0), 0), IFERROR(MATCH(3, B:B, 0), 0), IFERROR(MATCH(4, B:B, 0), 0), IFERROR(MATCH(5, B:B, 0), 0), IFERROR(MATCH(6, B:B, 0), 0), IFERROR(MATCH(7, B:B, 0), 0), IFERROR(MATCH(8, B:B, 1),"&" 0)),NOT(ISERROR(FILTER(ARRAYFORMULA(IFERROR(SEARCH(INDIRECT(""$P$2:$P"" & TEXT(COUNTIF(($P$2:P146), ""<>""), ""0"")),G20 & "" "" & L20),"""")), ARRAYFORMULA(IFERROR(SEARCH(INDIRECT(""$P$2:$P"" & TEXT(COUNTIF(($P$2:P146), ""<>""), ""0"")),G20 & "" "" & L2"&"0),"""")) <> """"))), 0)"),"#REF!") -> #REF! | Q20: =IFERROR(__xludf.DUMMYFUNCTION("IF(AND(OR(COUNTA(FILTER($P$2:$P146, ARRAYFORMULA(ISNUMBER(FIND($P$2:$P146, G20))))) > 0, COUNTA(FILTER($P$2:$P146, ARRAYFORMULA(ISNUMBER(FIND($P$2:$P146, L20))))) > 0), NOT(ISNUMBER(B20))), TRUE(), FALSE())"),FALSE) -> FALSE | R20: =IFERROR(__xludf.DUMMYFUNCTION("IF(ISNA(JOIN("", "", FILTER($P$2:$P146, ARRAYFORMULA(ISNUMBER(FIND($P$2:$P146, G20))), NOT(ISBLANK($P$2:$P146))))), "" "", JOIN("", "", FILTER($P$2:$P146, ARRAYFORMULA(ISNUMBER(FIND($P$2:$P146, G20))), NOT(ISBLANK($P$2:$P146)))))")," ") | S20: =IFERROR(__xludf.DUMMYFUNCTION("IF(ISNA(JOIN("", "", FILTER($P$2:$P146, ARRAYFORMULA(ISNUMBER(FIND($P$2:$P146, L20))), NOT(ISBLANK($P$2:$P146))))), "" "", JOIN("", "", FILTER($P$2:$P146, ARRAYFORMULA(ISNUMBER(FIND($P$2:$P146, L20))), NOT(ISBLANK($P$2:$P146)))))")," ")
A21: 20 | D21: XD | E21: 1 | G21: D. Brunette-Royer & J. Hopkins, CAM | I21: v | L21: S. Mohammad & X. Niu, FAN | M21: 12-21, 12-21 | O21: =IFERROR(__xludf.DUMMYFUNCTION("IF(ROW(#REF!) > MAX(IFERROR(MATCH(1, B:B, 0), 0), IFERROR(MATCH(2, B:B, 0), 0), IFERROR(MATCH(3, B:B, 0), 0), IFERROR(MATCH(4, B:B, 0), 0), IFERROR(MATCH(5, B:B, 0), 0), IFERROR(MATCH(6, B:B, 0), 0), IFERROR(MATCH(7, B:B, 0), 0), IFERROR(MATCH(8, B:B, 1),"&" 0)),NOT(ISERROR(FILTER(ARRAYFORMULA(IFERROR(SEARCH(INDIRECT(""$P$2:$P"" & TEXT(COUNTIF(($P$2:P146), ""<>""), ""0"")),G21 & "" "" & L21),"""")), ARRAYFORMULA(IFERROR(SEARCH(INDIRECT(""$P$2:$P"" & TEXT(COUNTIF(($P$2:P146), ""<>""), ""0"")),G21 & "" "" & L2"&"1),"""")) <> """"))), 0)"),"#REF!") -> #REF! | Q21: =IFERROR(__xludf.DUMMYFUNCTION("IF(AND(OR(COUNTA(FILTER($P$2:$P146, ARRAYFORMULA(ISNUMBER(FIND($P$2:$P146, G21))))) > 0, COUNTA(FILTER($P$2:$P146, ARRAYFORMULA(ISNUMBER(FIND($P$2:$P146, L21))))) > 0), NOT(ISNUMBER(B21))), TRUE(), FALSE())"),FALSE) -> FALSE | R21: =IFERROR(__xludf.DUMMYFUNCTION("IF(ISNA(JOIN("", "", FILTER($P$2:$P146, ARRAYFORMULA(ISNUMBER(FIND($P$2:$P146, G21))), NOT(ISBLANK($P$2:$P146))))), "" "", JOIN("", "", FILTER($P$2:$P146, ARRAYFORMULA(ISNUMBER(FIND($P$2:$P146, G21))), NOT(ISBLANK($P$2:$P146)))))")," ") | S21: =IFERROR(__xludf.DUMMYFUNCTION("IF(ISNA(JOIN("", "", FILTER($P$2:$P146, ARRAYFORMULA(ISNUMBER(FIND($P$2:$P146, L21))), NOT(ISBLANK($P$2:$P146))))), "" "", JOIN("", "", FILTER($P$2:$P146, ARRAYFORMULA(ISNUMBER(FIND($P$2:$P146, L21))), NOT(ISBLANK($P$2:$P146)))))")," ")
A22: 21 | D22: MS B | E22: 2 | G22: Daniel Collins, CAM | I22: v | L22: Thinh Nguyen, CON | N22: ROUND 2 BYES: M.Jain, SEN, R. Chan, HUM, MD HUM, XD CAM | O22: =IFERROR(__xludf.DUMMYFUNCTION("IF(ROW(#REF!) > MAX(IFERROR(MATCH(1, B:B, 0), 0), IFERROR(MATCH(2, B:B, 0), 0), IFERROR(MATCH(3, B:B, 0), 0), IFERROR(MATCH(4, B:B, 0), 0), IFERROR(MATCH(5, B:B, 0), 0), IFERROR(MATCH(6, B:B, 0), 0), IFERROR(MATCH(7, B:B, 0), 0), IFERROR(MATCH(8, B:B, 1),"&" 0)),NOT(ISERROR(FILTER(ARRAYFORMULA(IFERROR(SEARCH(INDIRECT(""$P$2:$P"" & TEXT(COUNTIF(($P$2:P146), ""<>""), ""0"")),G22 & "" "" & L22),"""")), ARRAYFORMULA(IFERROR(SEARCH(INDIRECT(""$P$2:$P"" & TEXT(COUNTIF(($P$2:P146), ""<>""), ""0"")),G22 & "" "" & L2"&"2),"""")) <> """"))), 0)"),"#REF!") -> #REF! | Q22: =IFERROR(__xludf.DUMMYFUNCTION("IF(AND(OR(COUNTA(FILTER($P$2:$P146, ARRAYFORMULA(ISNUMBER(FIND($P$2:$P146, G22))))) > 0, COUNTA(FILTER($P$2:$P146, ARRAYFORMULA(ISNUMBER(FIND($P$2:$P146, L22))))) > 0), NOT(ISNUMBER(B22))), TRUE(), FALSE())"),FALSE) -> FALSE | R22: =IFERROR(__xludf.DUMMYFUNCTION("IF(ISNA(JOIN("", "", FILTER($P$2:$P146, ARRAYFORMULA(ISNUMBER(FIND($P$2:$P146, G22))), NOT(ISBLANK($P$2:$P146))))), "" "", JOIN("", "", FILTER($P$2:$P146, ARRAYFORMULA(ISNUMBER(FIND($P$2:$P146, G22))), NOT(ISBLANK($P$2:$P146)))))")," ") | S22: =IFERROR(__xludf.DUMMYFUNCTION("IF(ISNA(JOIN("", "", FILTER($P$2:$P146, ARRAYFORMULA(ISNUMBER(FIND($P$2:$P146, L22))), NOT(ISBLANK($P$2:$P146))))), "" "", JOIN("", "", FILTER($P$2:$P146, ARRAYFORMULA(ISNUMBER(FIND($P$2:$P146, L22))), NOT(ISBLANK($P$2:$P146)))))")," ")
A23: 22 | D23: MS B | E23: 2 | G23: Reanbert Valentino, HUM | I23: v | L23: Grey Pope, BOR | M23: 21-16, 15-21, 21-18 | O23: =IFERROR(__xludf.DUMMYFUNCTION("IF(ROW(#REF!) > MAX(IFERROR(MATCH(1, B:B, 0), 0), IFERROR(MATCH(2, B:B, 0), 0), IFERROR(MATCH(3, B:B, 0), 0), IFERROR(MATCH(4, B:B, 0), 0), IFERROR(MATCH(5, B:B, 0), 0), IFERROR(MATCH(6, B:B, 0), 0), IFERROR(MATCH(7, B:B, 0), 0), IFERROR(MATCH(8, B:B, 1),"&" 0)),NOT(ISERROR(FILTER(ARRAYFORMULA(IFERROR(SEARCH(INDIRECT(""$P$2:$P"" & TEXT(COUNTIF(($P$2:P146), ""<>""), ""0"")),G23 & "" "" & L23),"""")), ARRAYFORMULA(IFERROR(SEARCH(INDIRECT(""$P$2:$P"" & TEXT(COUNTIF(($P$2:P146), ""<>""), ""0"")),G23 & "" "" & L2"&"3),"""")) <> """"))), 0)"),"#REF!") -> #REF! | Q23: =IFERROR(__xludf.DUMMYFUNCTION("IF(AND(OR(COUNTA(FILTER($P$2:$P146, ARRAYFORMULA(ISNUMBER(FIND($P$2:$P146, G23))))) > 0, COUNTA(FILTER($P$2:$P146, ARRAYFORMULA(ISNUMBER(FIND($P$2:$P146, L23))))) > 0), NOT(ISNUMBER(B23))), TRUE(), FALSE())"),FALSE) -> FALSE | R23: =IFERROR(__xludf.DUMMYFUNCTION("IF(ISNA(JOIN("", "", FILTER($P$2:$P146, ARRAYFORMULA(ISNUMBER(FIND($P$2:$P146, G23))), NOT(ISBLANK($P$2:$P146))))), "" "", JOIN("", "", FILTER($P$2:$P146, ARRAYFORMULA(ISNUMBER(FIND($P$2:$P146, G23))), NOT(ISBLANK($P$2:$P146)))))")," ") | S23: =IFERROR(__xludf.DUMMYFUNCTION("IF(ISNA(JOIN("", "", FILTER($P$2:$P146, ARRAYFORMULA(ISNUMBER(FIND($P$2:$P146, L23))), NOT(ISBLANK($P$2:$P146))))), "" "", JOIN("", "", FILTER($P$2:$P146, ARRAYFORMULA(ISNUMBER(FIND($P$2:$P146, L23))), NOT(ISBLANK($P$2:$P146)))))")," ")
A24: 23 | D24: MS B | E24: 2 | G24: Arpi Sinha, FAN | I24: v | L24: Milton Smith, LAM | M24: 21-4, 21-9 | O24: =IFERROR(__xludf.DUMMYFUNCTION("IF(ROW(#REF!) > MAX(IFERROR(MATCH(1, B:B, 0), 0), IFERROR(MATCH(2, B:B, 0), 0), IFERROR(MATCH(3, B:B, 0), 0), IFERROR(MATCH(4, B:B, 0), 0), IFERROR(MATCH(5, B:B, 0), 0), IFERROR(MATCH(6, B:B, 0), 0), IFERROR(MATCH(7, B:B, 0), 0), IFERROR(MATCH(8, B:B, 1),"&" 0)),NOT(ISERROR(FILTER(ARRAYFORMULA(IFERROR(SEARCH(INDIRECT(""$P$2:$P"" & TEXT(COUNTIF(($P$2:P146), ""<>""), ""0"")),G24 & "" "" & L24),"""")), ARRAYFORMULA(IFERROR(SEARCH(INDIRECT(""$P$2:$P"" & TEXT(COUNTIF(($P$2:P146), ""<>""), ""0"")),G24 & "" "" & L2"&"4),"""")) <> """"))), 0)"),"#REF!") -> #REF! | Q24: =IFERROR(__xludf.DUMMYFUNCTION("IF(AND(OR(COUNTA(FILTER($P$2:$P146, ARRAYFORMULA(ISNUMBER(FIND($P$2:$P146, G24))))) > 0, COUNTA(FILTER($P$2:$P146, ARRAYFORMULA(ISNUMBER(FIND($P$2:$P146, L24))))) > 0), NOT(ISNUMBER(B24))), TRUE(), FALSE())"),FALSE) -> FALSE | R24: =IFERROR(__xludf.DUMMYFUNCTION("IF(ISNA(JOIN("", "", FILTER($P$2:$P146, ARRAYFORMULA(ISNUMBER(FIND($P$2:$P146, G24))), NOT(ISBLANK($P$2:$P146))))), "" "", JOIN("", "", FILTER($P$2:$P146, ARRAYFORMULA(ISNUMBER(FIND($P$2:$P146, G24))), NOT(ISBLANK($P$2:$P146)))))")," ") | S24: =IFERROR(__xludf.DUMMYFUNCTION("IF(ISNA(JOIN("", "", FILTER($P$2:$P146, ARRAYFORMULA(ISNUMBER(FIND($P$2:$P146, L24))), NOT(ISBLANK($P$2:$P146))))), "" "", JOIN("", "", FILTER($P$2:$P146, ARRAYFORMULA(ISNUMBER(FIND($P$2:$P146, L24))), NOT(ISBLANK($P$2:$P146)))))")," ")
A25: 24 | D25: MS A | E25: 2 | G25: Sebastien Liu, SEN | I25: v | L25: Prabhkirat Singh, CAM | M25: 21-17, 21-13 | O25: =IFERROR(__xludf.DUMMYFUNCTION("IF(ROW(B32) > MAX(IFERROR(MATCH(1, B:B, 0), 0), IFERROR(MATCH(2, B:B, 0), 0), IFERROR(MATCH(3, B:B, 0), 0), IFERROR(MATCH(4, B:B, 0), 0), IFERROR(MATCH(5, B:B, 0), 0), IFERROR(MATCH(6, B:B, 0), 0), IFERROR(MATCH(7, B:B, 0), 0), IFERROR(MATCH(8, B:B, 1), 0"&")),NOT(ISERROR(FILTER(ARRAYFORMULA(IFERROR(SEARCH(INDIRECT(""$P$2:$P"" & TEXT(COUNTIF(($P$2:P146), ""<>""), ""0"")),G25 & "" "" & L25),"""")), ARRAYFORMULA(IFERROR(SEARCH(INDIRECT(""$P$2:$P"" & TEXT(COUNTIF(($P$2:P146), ""<>""), ""0"")),G25 & "" "" & L25)"&","""")) <> """"))), 0)"),FALSE) -> FALSE | Q25: =IFERROR(__xludf.DUMMYFUNCTION("IF(AND(OR(COUNTA(FILTER($P$2:$P146, ARRAYFORMULA(ISNUMBER(FIND($P$2:$P146, G25))))) > 0, COUNTA(FILTER($P$2:$P146, ARRAYFORMULA(ISNUMBER(FIND($P$2:$P146, L25))))) > 0), NOT(ISNUMBER(B25))), TRUE(), FALSE())"),FALSE) -> FALSE | R25: =IFERROR(__xludf.DUMMYFUNCTION("IF(ISNA(JOIN("", "", FILTER($P$2:$P146, ARRAYFORMULA(ISNUMBER(FIND($P$2:$P146, G25))), NOT(ISBLANK($P$2:$P146))))), "" "", JOIN("", "", FILTER($P$2:$P146, ARRAYFORMULA(ISNUMBER(FIND($P$2:$P146, G25))), NOT(ISBLANK($P$2:$P146)))))")," ") | S25: =IFERROR(__xludf.DUMMYFUNCTION("IF(ISNA(JOIN("", "", FILTER($P$2:$P146, ARRAYFORMULA(ISNUMBER(FIND($P$2:$P146, L25))), NOT(ISBLANK($P$2:$P146))))), "" "", JOIN("", "", FILTER($P$2:$P146, ARRAYFORMULA(ISNUMBER(FIND($P$2:$P146, L25))), NOT(ISBLANK($P$2:$P146)))))")," ")
A26: 25 | D26: MS A | E26: 2 | G26: Akashdeep Singh, CON | I26: v | L26: Tim Lock, HUM | M26: 3-21, 6-21 | O26: =IFERROR(__xludf.DUMMYFUNCTION("IF(ROW(#REF!) > MAX(IFERROR(MATCH(1, B:B, 0), 0), IFERROR(MATCH(2, B:B, 0), 0), IFERROR(MATCH(3, B:B, 0), 0), IFERROR(MATCH(4, B:B, 0), 0), IFERROR(MATCH(5, B:B, 0), 0), IFERROR(MATCH(6, B:B, 0), 0), IFERROR(MATCH(7, B:B, 0), 0), IFERROR(MATCH(8, B:B, 1),"&" 0)),NOT(ISERROR(FILTER(ARRAYFORMULA(IFERROR(SEARCH(INDIRECT(""$P$2:$P"" & TEXT(COUNTIF(($P$2:P146), ""<>""), ""0"")),G26 & "" "" & L26),"""")), ARRAYFORMULA(IFERROR(SEARCH(INDIRECT(""$P$2:$P"" & TEXT(COUNTIF(($P$2:P146), ""<>""), ""0"")),G26 & "" "" & L2"&"6),"""")) <> """"))), 0)"),"#REF!") -> #REF! | Q26: =IFERROR(__xludf.DUMMYFUNCTION("IF(AND(OR(COUNTA(FILTER($P$2:$P146, ARRAYFORMULA(ISNUMBER(FIND($P$2:$P146, G26))))) > 0, COUNTA(FILTER($P$2:$P146, ARRAYFORMULA(ISNUMBER(FIND($P$2:$P146, L26))))) > 0), NOT(ISNUMBER(B26))), TRUE(), FALSE())"),FALSE) -> FALSE | R26: =IFERROR(__xludf.DUMMYFUNCTION("IF(ISNA(JOIN("", "", FILTER($P$2:$P146, ARRAYFORMULA(ISNUMBER(FIND($P$2:$P146, G26))), NOT(ISBLANK($P$2:$P146))))), "" "", JOIN("", "", FILTER($P$2:$P146, ARRAYFORMULA(ISNUMBER(FIND($P$2:$P146, G26))), NOT(ISBLANK($P$2:$P146)))))")," ") | S26: =IFERROR(__xludf.DUMMYFUNCTION("IF(ISNA(JOIN("", "", FILTER($P$2:$P146, ARRAYFORMULA(ISNUMBER(FIND($P$2:$P146, L26))), NOT(ISBLANK($P$2:$P146))))), "" "", JOIN("", "", FILTER($P$2:$P146, ARRAYFORMULA(ISNUMBER(FIND($P$2:$P146, L26))), NOT(ISBLANK($P$2:$P146)))))")," ")
A27: 26 | D27: MS A | E27: 2 | G27: Ram Ng, FAN | I27: v | L27: Dalton Baxter, LAM | M27: 21-6, 21-8 | O27: =IFERROR(__xludf.DUMMYFUNCTION("IF(ROW(#REF!) > MAX(IFERROR(MATCH(1, B:B, 0), 0), IFERROR(MATCH(2, B:B, 0), 0), IFERROR(MATCH(3, B:B, 0), 0), IFERROR(MATCH(4, B:B, 0), 0), IFERROR(MATCH(5, B:B, 0), 0), IFERROR(MATCH(6, B:B, 0), 0), IFERROR(MATCH(7, B:B, 0), 0), IFERROR(MATCH(8, B:B, 1),"&" 0)),NOT(ISERROR(FILTER(ARRAYFORMULA(IFERROR(SEARCH(INDIRECT(""$P$2:$P"" & TEXT(COUNTIF(($P$2:P146), ""<>""), ""0"")),G27 & "" "" & L27),"""")), ARRAYFORMULA(IFERROR(SEARCH(INDIRECT(""$P$2:$P"" & TEXT(COUNTIF(($P$2:P146), ""<>""), ""0"")),G27 & "" "" & L2"&"7),"""")) <> """"))), 0)"),"#REF!") -> #REF! | Q27: =IFERROR(__xludf.DUMMYFUNCTION("IF(AND(OR(COUNTA(FILTER($P$2:$P146, ARRAYFORMULA(ISNUMBER(FIND($P$2:$P146, G27))))) > 0, COUNTA(FILTER($P$2:$P146, ARRAYFORMULA(ISNUMBER(FIND($P$2:$P146, L27))))) > 0), NOT(ISNUMBER(B27))), TRUE(), FALSE())"),FALSE) -> FALSE | R27: =IFERROR(__xludf.DUMMYFUNCTION("IF(ISNA(JOIN("", "", FILTER($P$2:$P146, ARRAYFORMULA(ISNUMBER(FIND($P$2:$P146, G27))), NOT(ISBLANK($P$2:$P146))))), "" "", JOIN("", "", FILTER($P$2:$P146, ARRAYFORMULA(ISNUMBER(FIND($P$2:$P146, G27))), NOT(ISBLANK($P$2:$P146)))))")," ") | S27: =IFERROR(__xludf.DUMMYFUNCTION("IF(ISNA(JOIN("", "", FILTER($P$2:$P146, ARRAYFORMULA(ISNUMBER(FIND($P$2:$P146, L27))), NOT(ISBLANK($P$2:$P146))))), "" "", JOIN("", "", FILTER($P$2:$P146, ARRAYFORMULA(ISNUMBER(FIND($P$2:$P146, L27))), NOT(ISBLANK($P$2:$P146)))))")," ")
A28: 27 | D28: WS B | E28: 2 | G28: Shubhi Yadav, CON | I28: v | L28: Chincco Lai, SEN | M28: CON WITHDRAWAL | N28: CON WITHDRAWAL | O28: =IFERROR(__xludf.DUMMYFUNCTION("IF(ROW(#REF!) > MAX(IFERROR(MATCH(1, B:B, 0), 0), IFERROR(MATCH(2, B:B, 0), 0), IFERROR(MATCH(3, B:B, 0), 0), IFERROR(MATCH(4, B:B, 0), 0), IFERROR(MATCH(5, B:B, 0), 0), IFERROR(MATCH(6, B:B, 0), 0), IFERROR(MATCH(7, B:B, 0), 0), IFERROR(MATCH(8, B:B, 1),"&" 0)),NOT(ISERROR(FILTER(ARRAYFORMULA(IFERROR(SEARCH(INDIRECT(""$P$2:$P"" & TEXT(COUNTIF(($P$2:P146), ""<>""), ""0"")),G28 & "" "" & L28),"""")), ARRAYFORMULA(IFERROR(SEARCH(INDIRECT(""$P$2:$P"" & TEXT(COUNTIF(($P$2:P146), ""<>""), ""0"")),G28 & "" "" & L2"&"8),"""")) <> """"))), 0)"),"#REF!") -> #REF! | Q28: =IFERROR(__xludf.DUMMYFUNCTION("IF(AND(OR(COUNTA(FILTER($P$2:$P146, ARRAYFORMULA(ISNUMBER(FIND($P$2:$P146, G28))))) > 0, COUNTA(FILTER($P$2:$P146, ARRAYFORMULA(ISNUMBER(FIND($P$2:$P146, L28))))) > 0), NOT(ISNUMBER(B28))), TRUE(), FALSE())"),FALSE) -> FALSE | R28: =IFERROR(__xludf.DUMMYFUNCTION("IF(ISNA(JOIN("", "", FILTER($P$2:$P146, ARRAYFORMULA(ISNUMBER(FIND($P$2:$P146, G28))), NOT(ISBLANK($P$2:$P146))))), "" "", JOIN("", "", FILTER($P$2:$P146, ARRAYFORMULA(ISNUMBER(FIND($P$2:$P146, G28))), NOT(ISBLANK($P$2:$P146)))))")," ") | S28: =IFERROR(__xludf.DUMMYFUNCTION("IF(ISNA(JOIN("", "", FILTER($P$2:$P146, ARRAYFORMULA(ISNUMBER(FIND($P$2:$P146, L28))), NOT(ISBLANK($P$2:$P146))))), "" "", JOIN("", "", FILTER($P$2:$P146, ARRAYFORMULA(ISNUMBER(FIND($P$2:$P146, L28))), NOT(ISBLANK($P$2:$P146)))))")," ")
A29: 28 | D29: WS B | E29: 2 | G29: Elena Meng, HUM | I29: v | L29: Alexa Clark, CAM | M29: 21-6, 21-3 | O29: =IFERROR(__xludf.DUMMYFUNCTION("IF(ROW(B29) > MAX(IFERROR(MATCH(1, B:B, 0), 0), IFERROR(MATCH(2, B:B, 0), 0), IFERROR(MATCH(3, B:B, 0), 0), IFERROR(MATCH(4, B:B, 0), 0), IFERROR(MATCH(5, B:B, 0), 0), IFERROR(MATCH(6, B:B, 0), 0), IFERROR(MATCH(7, B:B, 0), 0), IFERROR(MATCH(8, B:B, 1), 0"&")),NOT(ISERROR(FILTER(ARRAYFORMULA(IFERROR(SEARCH(INDIRECT(""$P$2:$P"" & TEXT(COUNTIF(($P$2:P146), ""<>""), ""0"")),G29 & "" "" & L29),"""")), ARRAYFORMULA(IFERROR(SEARCH(INDIRECT(""$P$2:$P"" & TEXT(COUNTIF(($P$2:P146), ""<>""), ""0"")),G29 & "" "" & L29)"&","""")) <> """"))), 0)"),FALSE) -> FALSE | Q29: =IFERROR(__xludf.DUMMYFUNCTION("IF(AND(OR(COUNTA(FILTER($P$2:$P146, ARRAYFORMULA(ISNUMBER(FIND($P$2:$P146, G29))))) > 0, COUNTA(FILTER($P$2:$P146, ARRAYFORMULA(ISNUMBER(FIND($P$2:$P146, L29))))) > 0), NOT(ISNUMBER(B29))), TRUE(), FALSE())"),FALSE) -> FALSE | R29: =IFERROR(__xludf.DUMMYFUNCTION("IF(ISNA(JOIN("", "", FILTER($P$2:$P146, ARRAYFORMULA(ISNUMBER(FIND($P$2:$P146, G29))), NOT(ISBLANK($P$2:$P146))))), "" "", JOIN("", "", FILTER($P$2:$P146, ARRAYFORMULA(ISNUMBER(FIND($P$2:$P146, G29))), NOT(ISBLANK($P$2:$P146)))))")," ") | S29: =IFERROR(__xludf.DUMMYFUNCTION("IF(ISNA(JOIN("", "", FILTER($P$2:$P146, ARRAYFORMULA(ISNUMBER(FIND($P$2:$P146, L29))), NOT(ISBLANK($P$2:$P146))))), "" "", JOIN("", "", FILTER($P$2:$P146, ARRAYFORMULA(ISNUMBER(FIND($P$2:$P146, L29))), NOT(ISBLANK($P$2:$P146)))))")," ")
A30: 29 | D30: WS B | E30: 2 | G30: Rejoice Nwokedi, FAN | I30: v | L30: Mackenzie Pilon, BOR | M30: 21-14, 21-11 | O30: =IFERROR(__xludf.DUMMYFUNCTION("IF(ROW(B36) > MAX(IFERROR(MATCH(1, B:B, 0), 0), IFERROR(MATCH(2, B:B, 0), 0), IFERROR(MATCH(3, B:B, 0), 0), IFERROR(MATCH(4, B:B, 0), 0), IFERROR(MATCH(5, B:B, 0), 0), IFERROR(MATCH(6, B:B, 0), 0), IFERROR(MATCH(7, B:B, 0), 0), IFERROR(MATCH(8, B:B, 1), 0"&")),NOT(ISERROR(FILTER(ARRAYFORMULA(IFERROR(SEARCH(INDIRECT(""$P$2:$P"" & TEXT(COUNTIF(($P$2:P146), ""<>""), ""0"")),G30 & "" "" & L30),"""")), ARRAYFORMULA(IFERROR(SEARCH(INDIRECT(""$P$2:$P"" & TEXT(COUNTIF(($P$2:P146), ""<>""), ""0"")),G30 & "" "" & L30)"&","""")) <> """"))), 0)"),FALSE) -> FALSE | Q30: =IFERROR(__xludf.DUMMYFUNCTION("IF(AND(OR(COUNTA(FILTER($P$2:$P146, ARRAYFORMULA(ISNUMBER(FIND($P$2:$P146, G30))))) > 0, COUNTA(FILTER($P$2:$P146, ARRAYFORMULA(ISNUMBER(FIND($P$2:$P146, L30))))) > 0), NOT(ISNUMBER(B30))), TRUE(), FALSE())"),FALSE) -> FALSE | R30: =IFERROR(__xludf.DUMMYFUNCTION("IF(ISNA(JOIN("", "", FILTER($P$2:$P146, ARRAYFORMULA(ISNUMBER(FIND($P$2:$P146, G30))), NOT(ISBLANK($P$2:$P146))))), "" "", JOIN("", "", FILTER($P$2:$P146, ARRAYFORMULA(ISNUMBER(FIND($P$2:$P146, G30))), NOT(ISBLANK($P$2:$P146)))))")," ") | S30: =IFERROR(__xludf.DUMMYFUNCTION("IF(ISNA(JOIN("", "", FILTER($P$2:$P146, ARRAYFORMULA(ISNUMBER(FIND($P$2:$P146, L30))), NOT(ISBLANK($P$2:$P146))))), "" "", JOIN("", "", FILTER($P$2:$P146, ARRAYFORMULA(ISNUMBER(FIND($P$2:$P146, L30))), NOT(ISBLANK($P$2:$P146)))))")," ")
A31: 30 | D31: WS A | E31: 2 | G31: Tiffany Amper, SEN | I31: v | L31: Chelsea Kennedy, CAM | M31: 24-22, 21-10 | O31: =IFERROR(__xludf.DUMMYFUNCTION("IF(ROW(#REF!) > MAX(IFERROR(MATCH(1, B:B, 0), 0), IFERROR(MATCH(2, B:B, 0), 0), IFERROR(MATCH(3, B:B, 0), 0), IFERROR(MATCH(4, B:B, 0), 0), IFERROR(MATCH(5, B:B, 0), 0), IFERROR(MATCH(6, B:B, 0), 0), IFERROR(MATCH(7, B:B, 0), 0), IFERROR(MATCH(8, B:B, 1),"&" 0)),NOT(ISERROR(FILTER(ARRAYFORMULA(IFERROR(SEARCH(INDIRECT(""$P$2:$P"" & TEXT(COUNTIF(($P$2:P146), ""<>""), ""0"")),G31 & "" "" & L31),"""")), ARRAYFORMULA(IFERROR(SEARCH(INDIRECT(""$P$2:$P"" & TEXT(COUNTIF(($P$2:P146), ""<>""), ""0"")),G31 & "" "" & L3"&"1),"""")) <> """"))), 0)"),"#REF!") -> #REF! | Q31: =IFERROR(__xludf.DUMMYFUNCTION("IF(AND(OR(COUNTA(FILTER($P$2:$P146, ARRAYFORMULA(ISNUMBER(FIND($P$2:$P146, G31))))) > 0, COUNTA(FILTER($P$2:$P146, ARRAYFORMULA(ISNUMBER(FIND($P$2:$P146, L31))))) > 0), NOT(ISNUMBER(B31))), TRUE(), FALSE())"),FALSE) -> FALSE | R31: =IFERROR(__xludf.DUMMYFUNCTION("IF(ISNA(JOIN("", "", FILTER($P$2:$P146, ARRAYFORMULA(ISNUMBER(FIND($P$2:$P146, G31))), NOT(ISBLANK($P$2:$P146))))), "" "", JOIN("", "", FILTER($P$2:$P146, ARRAYFORMULA(ISNUMBER(FIND($P$2:$P146, G31))), NOT(ISBLANK($P$2:$P146)))))")," ") | S31: =IFERROR(__xludf.DUMMYFUNCTION("IF(ISNA(JOIN("", "", FILTER($P$2:$P146, ARRAYFORMULA(ISNUMBER(FIND($P$2:$P146, L31))), NOT(ISBLANK($P$2:$P146))))), "" "", JOIN("", "", FILTER($P$2:$P146, ARRAYFORMULA(ISNUMBER(FIND($P$2:$P146, L31))), NOT(ISBLANK($P$2:$P146)))))")," ")
A32: 31 | D32: WS A | E32: 2 | G32: Samantha Darby, FAN | I32: v | L32: Alyssa Gagne, BOR | M32: 21-3, 21-5 | O32: =IFERROR(__xludf.DUMMYFUNCTION("IF(ROW(B27) > MAX(IFERROR(MATCH(1, B:B, 0), 0), IFERROR(MATCH(2, B:B, 0), 0), IFERROR(MATCH(3, B:B, 0), 0), IFERROR(MATCH(4, B:B, 0), 0), IFERROR(MATCH(5, B:B, 0), 0), IFERROR(MATCH(6, B:B, 0), 0), IFERROR(MATCH(7, B:B, 0), 0), IFERROR(MATCH(8, B:B, 1), 0"&")),NOT(ISERROR(FILTER(ARRAYFORMULA(IFERROR(SEARCH(INDIRECT(""$P$2:$P"" & TEXT(COUNTIF(($P$2:P146), ""<>""), ""0"")),G32 & "" "" & L32),"""")), ARRAYFORMULA(IFERROR(SEARCH(INDIRECT(""$P$2:$P"" & TEXT(COUNTIF(($P$2:P146), ""<>""), ""0"")),G32 & "" "" & L32)"&","""")) <> """"))), 0)"),FALSE) -> FALSE | Q32: =IFERROR(__xludf.DUMMYFUNCTION("IF(AND(OR(COUNTA(FILTER($P$2:$P146, ARRAYFORMULA(ISNUMBER(FIND($P$2:$P146, G32))))) > 0, COUNTA(FILTER($P$2:$P146, ARRAYFORMULA(ISNUMBER(FIND($P$2:$P146, L32))))) > 0), NOT(ISNUMBER(B32))), TRUE(), FALSE())"),FALSE) -> FALSE | R32: =IFERROR(__xludf.DUMMYFUNCTION("IF(ISNA(JOIN("", "", FILTER($P$2:$P146, ARRAYFORMULA(ISNUMBER(FIND($P$2:$P146, G32))), NOT(ISBLANK($P$2:$P146))))), "" "", JOIN("", "", FILTER($P$2:$P146, ARRAYFORMULA(ISNUMBER(FIND($P$2:$P146, G32))), NOT(ISBLANK($P$2:$P146)))))")," ") | S32: =IFERROR(__xludf.DUMMYFUNCTION("IF(ISNA(JOIN("", "", FILTER($P$2:$P146, ARRAYFORMULA(ISNUMBER(FIND($P$2:$P146, L32))), NOT(ISBLANK($P$2:$P146))))), "" "", JOIN("", "", FILTER($P$2:$P146, ARRAYFORMULA(ISNUMBER(FIND($P$2:$P146, L32))), NOT(ISBLANK($P$2:$P146)))))")," ")
A33: 32 | D33: WD | E33: 2 | G33: A. Janybek & A. Kai, CON | I33: v | L33: S. Wu & S. Joshi, HUM | M33: 4-21, 6-21 | O33: =IFERROR(__xludf.DUMMYFUNCTION("IF(ROW(B35) > MAX(IFERROR(MATCH(1, B:B, 0), 0), IFERROR(MATCH(2, B:B, 0), 0), IFERROR(MATCH(3, B:B, 0), 0), IFERROR(MATCH(4, B:B, 0), 0), IFERROR(MATCH(5, B:B, 0), 0), IFERROR(MATCH(6, B:B, 0), 0), IFERROR(MATCH(7, B:B, 0), 0), IFERROR(MATCH(8, B:B, 1), 0"&")),NOT(ISERROR(FILTER(ARRAYFORMULA(IFERROR(SEARCH(INDIRECT(""$P$2:$P"" & TEXT(COUNTIF(($P$2:P146), ""<>""), ""0"")),G33 & "" "" & L33),"""")), ARRAYFORMULA(IFERROR(SEARCH(INDIRECT(""$P$2:$P"" & TEXT(COUNTIF(($P$2:P146), ""<>""), ""0"")),G33 & "" "" & L33)"&","""")) <> """"))), 0)"),FALSE) -> FALSE | Q33: =IFERROR(__xludf.DUMMYFUNCTION("IF(AND(OR(COUNTA(FILTER($P$2:$P146, ARRAYFORMULA(ISNUMBER(FIND($P$2:$P146, G33))))) > 0, COUNTA(FILTER($P$2:$P146, ARRAYFORMULA(ISNUMBER(FIND($P$2:$P146, L33))))) > 0), NOT(ISNUMBER(B33))), TRUE(), FALSE())"),FALSE) -> FALSE | R33: =IFERROR(__xludf.DUMMYFUNCTION("IF(ISNA(JOIN("", "", FILTER($P$2:$P146, ARRAYFORMULA(ISNUMBER(FIND($P$2:$P146, G33))), NOT(ISBLANK($P$2:$P146))))), "" "", JOIN("", "", FILTER($P$2:$P146, ARRAYFORMULA(ISNUMBER(FIND($P$2:$P146, G33))), NOT(ISBLANK($P$2:$P146)))))")," ") | S33: =IFERROR(__xludf.DUMMYFUNCTION("IF(ISNA(JOIN("", "", FILTER($P$2:$P146, ARRAYFORMULA(ISNUMBER(FIND($P$2:$P146, L33))), NOT(ISBLANK($P$2:$P146))))), "" "", JOIN("", "", FILTER($P$2:$P146, ARRAYFORMULA(ISNUMBER(FIND($P$2:$P146, L33))), NOT(ISBLANK($P$2:$P146)))))")," ")
A34: 33 | D34: WD | E34: 2 | G34: T. Vaidya & N. Kim, FAN | I34: v | L34: A. Xing & V. Lam, SEN | M34: 19-21, 21-15, 19-21 | O34: =IFERROR(__xludf.DUMMYFUNCTION("IF(ROW(#REF!) > MAX(IFERROR(MATCH(1, B:B, 0), 0), IFERROR(MATCH(2, B:B, 0), 0), IFERROR(MATCH(3, B:B, 0), 0), IFERROR(MATCH(4, B:B, 0), 0), IFERROR(MATCH(5, B:B, 0), 0), IFERROR(MATCH(6, B:B, 0), 0), IFERROR(MATCH(7, B:B, 0), 0), IFERROR(MATCH(8, B:B, 1),"&" 0)),NOT(ISERROR(FILTER(ARRAYFORMULA(IFERROR(SEARCH(INDIRECT(""$P$2:$P"" & TEXT(COUNTIF(($P$2:P146), ""<>""), ""0"")),G34 & "" "" & L34),"""")), ARRAYFORMULA(IFERROR(SEARCH(INDIRECT(""$P$2:$P"" & TEXT(COUNTIF(($P$2:P146), ""<>""), ""0"")),G34 & "" "" & L3"&"4),"""")) <> """"))), 0)"),"#REF!") -> #REF! | Q34: =IFERROR(__xludf.DUMMYFUNCTION("IF(AND(OR(COUNTA(FILTER($P$2:$P146, ARRAYFORMULA(ISNUMBER(FIND($P$2:$P146, G34))))) > 0, COUNTA(FILTER($P$2:$P146, ARRAYFORMULA(ISNUMBER(FIND($P$2:$P146, L34))))) > 0), NOT(ISNUMBER(B34))), TRUE(), FALSE())"),FALSE) -> FALSE | R34: =IFERROR(__xludf.DUMMYFUNCTION("IF(ISNA(JOIN("", "", FILTER($P$2:$P146, ARRAYFORMULA(ISNUMBER(FIND($P$2:$P146, G34))), NOT(ISBLANK($P$2:$P146))))), "" "", JOIN("", "", FILTER($P$2:$P146, ARRAYFORMULA(ISNUMBER(FIND($P$2:$P146, G34))), NOT(ISBLANK($P$2:$P146)))))")," ") | S34: =IFERROR(__xludf.DUMMYFUNCTION("IF(ISNA(JOIN("", "", FILTER($P$2:$P146, ARRAYFORMULA(ISNUMBER(FIND($P$2:$P146, L34))), NOT(ISBLANK($P$2:$P146))))), "" "", JOIN("", "", FILTER($P$2:$P146, ARRAYFORMULA(ISNUMBER(FIND($P$2:$P146, L34))), NOT(ISBLANK($P$2:$P146)))))")," ")
A35: 34 | D35: WD | E35: 2 | G35: S. Godek & L. Goldsack, LAM | I35: v | L35: V. Somaroo & M. Mercier, BOR | M35: 20-22, 21-17, 21-13 | O35: =IFERROR(__xludf.DUMMYFUNCTION("IF(ROW(#REF!) > MAX(IFERROR(MATCH(1, B:B, 0), 0), IFERROR(MATCH(2, B:B, 0), 0), IFERROR(MATCH(3, B:B, 0), 0), IFERROR(MATCH(4, B:B, 0), 0), IFERROR(MATCH(5, B:B, 0), 0), IFERROR(MATCH(6, B:B, 0), 0), IFERROR(MATCH(7, B:B, 0), 0), IFERROR(MATCH(8, B:B, 1),"&" 0)),NOT(ISERROR(FILTER(ARRAYFORMULA(IFERROR(SEARCH(INDIRECT(""$P$2:$P"" & TEXT(COUNTIF(($P$2:P146), ""<>""), ""0"")),G35 & "" "" & L35),"""")), ARRAYFORMULA(IFERROR(SEARCH(INDIRECT(""$P$2:$P"" & TEXT(COUNTIF(($P$2:P146), ""<>""), ""0"")),G35 & "" "" & L3"&"5),"""")) <> """"))), 0)"),"#REF!") -> #REF! | Q35: =IFERROR(__xludf.DUMMYFUNCTION("IF(AND(OR(COUNTA(FILTER($P$2:$P146, ARRAYFORMULA(ISNUMBER(FIND($P$2:$P146, G35))))) > 0, COUNTA(FILTER($P$2:$P146, ARRAYFORMULA(ISNUMBER(FIND($P$2:$P146, L35))))) > 0), NOT(ISNUMBER(B35))), TRUE(), FALSE())"),FALSE) -> FALSE | R35: =IFERROR(__xludf.DUMMYFUNCTION("IF(ISNA(JOIN("", "", FILTER($P$2:$P146, ARRAYFORMULA(ISNUMBER(FIND($P$2:$P146, G35))), NOT(ISBLANK($P$2:$P146))))), "" "", JOIN("", "", FILTER($P$2:$P146, ARRAYFORMULA(ISNUMBER(FIND($P$2:$P146, G35))), NOT(ISBLANK($P$2:$P146)))))")," ") | S35: =IFERROR(__xludf.DUMMYFUNCTION("IF(ISNA(JOIN("", "", FILTER($P$2:$P146, ARRAYFORMULA(ISNUMBER(FIND($P$2:$P146, L35))), NOT(ISBLANK($P$2:$P146))))), "" "", JOIN("", "", FILTER($P$2:$P146, ARRAYFORMULA(ISNUMBER(FIND($P$2:$P146, L35))), NOT(ISBLANK($P$2:$P146)))))")," ")
A36: 35 | D36: MD | E36: 2 | G36: M. Barnes & R. Tu, CON | I36: v | L36: B. Lai & J. Lau, SEN | M36: 10-21, 12-21 | O36: =IFERROR(__xludf.DUMMYFUNCTION("IF(ROW(#REF!) > MAX(IFERROR(MATCH(1, B:B, 0), 0), IFERROR(MATCH(2, B:B, 0), 0), IFERROR(MATCH(3, B:B, 0), 0), IFERROR(MATCH(4, B:B, 0), 0), IFERROR(MATCH(5, B:B, 0), 0), IFERROR(MATCH(6, B:B, 0), 0), IFERROR(MATCH(7, B:B, 0), 0), IFERROR(MATCH(8, B:B, 1),"&" 0)),NOT(ISERROR(FILTER(ARRAYFORMULA(IFERROR(SEARCH(INDIRECT(""$P$2:$P"" & TEXT(COUNTIF(($P$2:P146), ""<>""), ""0"")),G36 & "" "" & L36),"""")), ARRAYFORMULA(IFERROR(SEARCH(INDIRECT(""$P$2:$P"" & TEXT(COUNTIF(($P$2:P146), ""<>""), ""0"")),G36 & "" "" & L3"&"6),"""")) <> """"))), 0)"),"#REF!") -> #REF! | Q36: =IFERROR(__xludf.DUMMYFUNCTION("IF(AND(OR(COUNTA(FILTER($P$2:$P146, ARRAYFORMULA(ISNUMBER(FIND($P$2:$P146, G36))))) > 0, COUNTA(FILTER($P$2:$P146, ARRAYFORMULA(ISNUMBER(FIND($P$2:$P146, L36))))) > 0), NOT(ISNUMBER(B36))), TRUE(), FALSE())"),FALSE) -> FALSE | R36: =IFERROR(__xludf.DUMMYFUNCTION("IF(ISNA(JOIN("", "", FILTER($P$2:$P146, ARRAYFORMULA(ISNUMBER(FIND($P$2:$P146, G36))), NOT(ISBLANK($P$2:$P146))))), "" "", JOIN("", "", FILTER($P$2:$P146, ARRAYFORMULA(ISNUMBER(FIND($P$2:$P146, G36))), NOT(ISBLANK($P$2:$P146)))))")," ") | S36: =IFERROR(__xludf.DUMMYFUNCTION("IF(ISNA(JOIN("", "", FILTER($P$2:$P146, ARRAYFORMULA(ISNUMBER(FIND($P$2:$P146, L36))), NOT(ISBLANK($P$2:$P146))))), "" "", JOIN("", "", FILTER($P$2:$P146, ARRAYFORMULA(ISNUMBER(FIND($P$2:$P146, L36))), NOT(ISBLANK($P$2:$P146)))))")," ")
A37: 36 | D37: MD | E37: 2 | G37: H. Joshy John & G. Hebner, CAM | I37: v | L37: G. Clark & L. Aarts, LAM | M37: 21-16, 21-13 | O37: =IFERROR(__xludf.DUMMYFUNCTION("IF(ROW(B37) > MAX(IFERROR(MATCH(1, B:B, 0), 0), IFERROR(MATCH(2, B:B, 0), 0), IFERROR(MATCH(3, B:B, 0), 0), IFERROR(MATCH(4, B:B, 0), 0), IFERROR(MATCH(5, B:B, 0), 0), IFERROR(MATCH(6, B:B, 0), 0), IFERROR(MATCH(7, B:B, 0), 0), IFERROR(MATCH(8, B:B, 1), 0"&")),NOT(ISERROR(FILTER(ARRAYFORMULA(IFERROR(SEARCH(INDIRECT(""$P$2:$P"" & TEXT(COUNTIF(($P$2:P146), ""<>""), ""0"")),G37 & "" "" & L37),"""")), ARRAYFORMULA(IFERROR(SEARCH(INDIRECT(""$P$2:$P"" & TEXT(COUNTIF(($P$2:P146), ""<>""), ""0"")),G37 & "" "" & L37)"&","""")) <> """"))), 0)"),FALSE) -> FALSE | Q37: =IFERROR(__xludf.DUMMYFUNCTION("IF(AND(OR(COUNTA(FILTER($P$2:$P146, ARRAYFORMULA(ISNUMBER(FIND($P$2:$P146, G37))))) > 0, COUNTA(FILTER($P$2:$P146, ARRAYFORMULA(ISNUMBER(FIND($P$2:$P146, L37))))) > 0), NOT(ISNUMBER(B37))), TRUE(), FALSE())"),FALSE) -> FALSE | R37: =IFERROR(__xludf.DUMMYFUNCTION("IF(ISNA(JOIN("", "", FILTER($P$2:$P146, ARRAYFORMULA(ISNUMBER(FIND($P$2:$P146, G37))), NOT(ISBLANK($P$2:$P146))))), "" "", JOIN("", "", FILTER($P$2:$P146, ARRAYFORMULA(ISNUMBER(FIND($P$2:$P146, G37))), NOT(ISBLANK($P$2:$P146)))))")," ") | S37: =IFERROR(__xludf.DUMMYFUNCTION("IF(ISNA(JOIN("", "", FILTER($P$2:$P146, ARRAYFORMULA(ISNUMBER(FIND($P$2:$P146, L37))), NOT(ISBLANK($P$2:$P146))))), "" "", JOIN("", "", FILTER($P$2:$P146, ARRAYFORMULA(ISNUMBER(FIND($P$2:$P146, L37))), NOT(ISBLANK($P$2:$P146)))))")," ")
A38: 37 | D38: MD | E38: 2 | G38: T. Le & T. Nguyen, FAN | I38: v | L38: A. Atkins & E. Leduc, BOR | M38: 21-6, 21-4 | O38: =IFERROR(__xludf.DUMMYFUNCTION("IF(ROW(#REF!) > MAX(IFERROR(MATCH(1, B:B, 0), 0), IFERROR(MATCH(2, B:B, 0), 0), IFERROR(MATCH(3, B:B, 0), 0), IFERROR(MATCH(4, B:B, 0), 0), IFERROR(MATCH(5, B:B, 0), 0), IFERROR(MATCH(6, B:B, 0), 0), IFERROR(MATCH(7, B:B, 0), 0), IFERROR(MATCH(8, B:B, 1),"&" 0)),NOT(ISERROR(FILTER(ARRAYFORMULA(IFERROR(SEARCH(INDIRECT(""$P$2:$P"" & TEXT(COUNTIF(($P$2:P146), ""<>""), ""0"")),G38 & "" "" & L38),"""")), ARRAYFORMULA(IFERROR(SEARCH(INDIRECT(""$P$2:$P"" & TEXT(COUNTIF(($P$2:P146), ""<>""), ""0"")),G38 & "" "" & L3"&"8),"""")) <> """"))), 0)"),"#REF!") -> #REF! | Q38: =IFERROR(__xludf.DUMMYFUNCTION("IF(AND(OR(COUNTA(FILTER($P$2:$P146, ARRAYFORMULA(ISNUMBER(FIND($P$2:$P146, G38))))) > 0, COUNTA(FILTER($P$2:$P146, ARRAYFORMULA(ISNUMBER(FIND($P$2:$P146, L38))))) > 0), NOT(ISNUMBER(B38))), TRUE(), FALSE())"),FALSE) -> FALSE | R38: =IFERROR(__xludf.DUMMYFUNCTION("IF(ISNA(JOIN("", "", FILTER($P$2:$P146, ARRAYFORMULA(ISNUMBER(FIND($P$2:$P146, G38))), NOT(ISBLANK($P$2:$P146))))), "" "", JOIN("", "", FILTER($P$2:$P146, ARRAYFORMULA(ISNUMBER(FIND($P$2:$P146, G38))), NOT(ISBLANK($P$2:$P146)))))")," ") | S38: =IFERROR(__xludf.DUMMYFUNCTION("IF(ISNA(JOIN("", "", FILTER($P$2:$P146, ARRAYFORMULA(ISNUMBER(FIND($P$2:$P146, L38))), NOT(ISBLANK($P$2:$P146))))), "" "", JOIN("", "", FILTER($P$2:$P146, ARRAYFORMULA(ISNUMBER(FIND($P$2:$P146, L38))), NOT(ISBLANK($P$2:$P146)))))")," ")
A39: 38 | D39: XD | E39: 2 | G39: S. Mohammad & X. Niu, FAN | I39: v | L39: J. Ronahan & C. Choi, HUM | M39: 14-21, 14-21 | O39: =IFERROR(__xludf.DUMMYFUNCTION("IF(ROW(B39) > MAX(IFERROR(MATCH(1, B:B, 0), 0), IFERROR(MATCH(2, B:B, 0), 0), IFERROR(MATCH(3, B:B, 0), 0), IFERROR(MATCH(4, B:B, 0), 0), IFERROR(MATCH(5, B:B, 0), 0), IFERROR(MATCH(6, B:B, 0), 0), IFERROR(MATCH(7, B:B, 0), 0), IFERROR(MATCH(8, B:B, 1), 0"&")),NOT(ISERROR(FILTER(ARRAYFORMULA(IFERROR(SEARCH(INDIRECT(""$P$2:$P"" & TEXT(COUNTIF(($P$2:P146), ""<>""), ""0"")),G39 & "" "" & L39),"""")), ARRAYFORMULA(IFERROR(SEARCH(INDIRECT(""$P$2:$P"" & TEXT(COUNTIF(($P$2:P146), ""<>""), ""0"")),G39 & "" "" & L39)"&","""")) <> """"))), 0)"),FALSE) -> FALSE | Q39: =IFERROR(__xludf.DUMMYFUNCTION("IF(AND(OR(COUNTA(FILTER($P$2:$P146, ARRAYFORMULA(ISNUMBER(FIND($P$2:$P146, G39))))) > 0, COUNTA(FILTER($P$2:$P146, ARRAYFORMULA(ISNUMBER(FIND($P$2:$P146, L39))))) > 0), NOT(ISNUMBER(B39))), TRUE(), FALSE())"),FALSE) -> FALSE | R39: =IFERROR(__xludf.DUMMYFUNCTION("IF(ISNA(JOIN("", "", FILTER($P$2:$P146, ARRAYFORMULA(ISNUMBER(FIND($P$2:$P146, G39))), NOT(ISBLANK($P$2:$P146))))), "" "", JOIN("", "", FILTER($P$2:$P146, ARRAYFORMULA(ISNUMBER(FIND($P$2:$P146, G39))), NOT(ISBLANK($P$2:$P146)))))")," ") | S39: =IFERROR(__xludf.DUMMYFUNCTION("IF(ISNA(JOIN("", "", FILTER($P$2:$P146, ARRAYFORMULA(ISNUMBER(FIND($P$2:$P146, L39))), NOT(ISBLANK($P$2:$P146))))), "" "", JOIN("", "", FILTER($P$2:$P146, ARRAYFORMULA(ISNUMBER(FIND($P$2:$P146, L39))), NOT(ISBLANK($P$2:$P146)))))")," ")
A40: 39 | D40: XD | E40: 2 | G40: N. Bridge & M. Muqeem, CON | I40: v | L40: J. Atkins & L. Richards, BOR | M40: 21-10, 21-5 | O40: =IFERROR(__xludf.DUMMYFUNCTION("IF(ROW(B40) > MAX(IFERROR(MATCH(1, B:B, 0), 0), IFERROR(MATCH(2, B:B, 0), 0), IFERROR(MATCH(3, B:B, 0), 0), IFERROR(MATCH(4, B:B, 0), 0), IFERROR(MATCH(5, B:B, 0), 0), IFERROR(MATCH(6, B:B, 0), 0), IFERROR(MATCH(7, B:B, 0), 0), IFERROR(MATCH(8, B:B, 1), 0"&")),NOT(ISERROR(FILTER(ARRAYFORMULA(IFERROR(SEARCH(INDIRECT(""$P$2:$P"" & TEXT(COUNTIF(($P$2:P146), ""<>""), ""0"")),G40 & "" "" & L40),"""")), ARRAYFORMULA(IFERROR(SEARCH(INDIRECT(""$P$2:$P"" & TEXT(COUNTIF(($P$2:P146), ""<>""), ""0"")),G40 & "" "" & L40)"&","""")) <> """"))), 0)"),FALSE) -> FALSE | Q40: =IFERROR(__xludf.DUMMYFUNCTION("IF(AND(OR(COUNTA(FILTER($P$2:$P146, ARRAYFORMULA(ISNUMBER(FIND($P$2:$P146, G40))))) > 0, COUNTA(FILTER($P$2:$P146, ARRAYFORMULA(ISNUMBER(FIND($P$2:$P146, L40))))) > 0), NOT(ISNUMBER(B40))), TRUE(), FALSE())"),FALSE) -> FALSE | R40: =IFERROR(__xludf.DUMMYFUNCTION("IF(ISNA(JOIN("", "", FILTER($P$2:$P146, ARRAYFORMULA(ISNUMBER(FIND($P$2:$P146, G40))), NOT(ISBLANK($P$2:$P146))))), "" "", JOIN("", "", FILTER($P$2:$P146, ARRAYFORMULA(ISNUMBER(FIND($P$2:$P146, G40))), NOT(ISBLANK($P$2:$P146)))))")," ") | S40: =IFERROR(__xludf.DUMMYFUNCTION("IF(ISNA(JOIN("", "", FILTER($P$2:$P146, ARRAYFORMULA(ISNUMBER(FIND($P$2:$P146, L40))), NOT(ISBLANK($P$2:$P146))))), "" "", JOIN("", "", FILTER($P$2:$P146, ARRAYFORMULA(ISNUMBER(FIND($P$2:$P146, L40))), NOT(ISBLANK($P$2:$P146)))))")," ")
A41: 40 | D41: XD | E41: 2 | G41: A. Tso & A. Iran, SEN | I41: v | L41: C. Clayton & J. Hillier, LAM | M41: 21-7, 21-10 | O41: =IFERROR(__xludf.DUMMYFUNCTION("IF(ROW(B43) > MAX(IFERROR(MATCH(1, B:B, 0), 0), IFERROR(MATCH(2, B:B, 0), 0), IFERROR(MATCH(3, B:B, 0), 0), IFERROR(MATCH(4, B:B, 0), 0), IFERROR(MATCH(5, B:B, 0), 0), IFERROR(MATCH(6, B:B, 0), 0), IFERROR(MATCH(7, B:B, 0), 0), IFERROR(MATCH(8, B:B, 1), 0"&")),NOT(ISERROR(FILTER(ARRAYFORMULA(IFERROR(SEARCH(INDIRECT(""$P$2:$P"" & TEXT(COUNTIF(($P$2:P146), ""<>""), ""0"")),G41 & "" "" & L41),"""")), ARRAYFORMULA(IFERROR(SEARCH(INDIRECT(""$P$2:$P"" & TEXT(COUNTIF(($P$2:P146), ""<>""), ""0"")),G41 & "" "" & L41)"&","""")) <> """"))), 0)"),FALSE) -> FALSE | Q41: =IFERROR(__xludf.DUMMYFUNCTION("IF(AND(OR(COUNTA(FILTER($P$2:$P146, ARRAYFORMULA(ISNUMBER(FIND($P$2:$P146, G41))))) > 0, COUNTA(FILTER($P$2:$P146, ARRAYFORMULA(ISNUMBER(FIND($P$2:$P146, L41))))) > 0), NOT(ISNUMBER(B41))), TRUE(), FALSE())"),FALSE) -> FALSE | R41: =IFERROR(__xludf.DUMMYFUNCTION("IF(ISNA(JOIN("", "", FILTER($P$2:$P146, ARRAYFORMULA(ISNUMBER(FIND($P$2:$P146, G41))), NOT(ISBLANK($P$2:$P146))))), "" "", JOIN("", "", FILTER($P$2:$P146, ARRAYFORMULA(ISNUMBER(FIND($P$2:$P146, G41))), NOT(ISBLANK($P$2:$P146)))))")," ") | S41: =IFERROR(__xludf.DUMMYFUNCTION("IF(ISNA(JOIN("", "", FILTER($P$2:$P146, ARRAYFORMULA(ISNUMBER(FIND($P$2:$P146, L41))), NOT(ISBLANK($P$2:$P146))))), "" "", JOIN("", "", FILTER($P$2:$P146, ARRAYFORMULA(ISNUMBER(FIND($P$2:$P146, L41))), NOT(ISBLANK($P$2:$P146)))))")," ")
A42: 41 | D42: MS B | E42: 3 | G42: Maulik Jain, SEN | I42: v | L42: Thinh Nguyen, CON | M42: 21-8, 21-6 | N42: ROUND 3 BYES: A. Sinha, FAN, MD CAM, XD BOR | O42: =IFERROR(__xludf.DUMMYFUNCTION("IF(ROW(#REF!) > MAX(IFERROR(MATCH(1, B:B, 0), 0), IFERROR(MATCH(2, B:B, 0), 0), IFERROR(MATCH(3, B:B, 0), 0), IFERROR(MATCH(4, B:B, 0), 0), IFERROR(MATCH(5, B:B, 0), 0), IFERROR(MATCH(6, B:B, 0), 0), IFERROR(MATCH(7, B:B, 0), 0), IFERROR(MATCH(8, B:B, 1),"&" 0)),NOT(ISERROR(FILTER(ARRAYFORMULA(IFERROR(SEARCH(INDIRECT(""$P$2:$P"" & TEXT(COUNTIF(($P$2:P146), ""<>""), ""0"")),G42 & "" "" & L42),"""")), ARRAYFORMULA(IFERROR(SEARCH(INDIRECT(""$P$2:$P"" & TEXT(COUNTIF(($P$2:P146), ""<>""), ""0"")),G42 & "" "" & L4"&"2),"""")) <> """"))), 0)"),"#REF!") -> #REF! | Q42: =IFERROR(__xludf.DUMMYFUNCTION("IF(AND(OR(COUNTA(FILTER($P$2:$P146, ARRAYFORMULA(ISNUMBER(FIND($P$2:$P146, G42))))) > 0, COUNTA(FILTER($P$2:$P146, ARRAYFORMULA(ISNUMBER(FIND($P$2:$P146, L42))))) > 0), NOT(ISNUMBER(B42))), TRUE(), FALSE())"),FALSE) -> FALSE | R42: =IFERROR(__xludf.DUMMYFUNCTION("IF(ISNA(JOIN("", "", FILTER($P$2:$P146, ARRAYFORMULA(ISNUMBER(FIND($P$2:$P146, G42))), NOT(ISBLANK($P$2:$P146))))), "" "", JOIN("", "", FILTER($P$2:$P146, ARRAYFORMULA(ISNUMBER(FIND($P$2:$P146, G42))), NOT(ISBLANK($P$2:$P146)))))")," ") | S42: =IFERROR(__xludf.DUMMYFUNCTION("IF(ISNA(JOIN("", "", FILTER($P$2:$P146, ARRAYFORMULA(ISNUMBER(FIND($P$2:$P146, L42))), NOT(ISBLANK($P$2:$P146))))), "" "", JOIN("", "", FILTER($P$2:$P146, ARRAYFORMULA(ISNUMBER(FIND($P$2:$P146, L42))), NOT(ISBLANK($P$2:$P146)))))")," ")
A43: 42 | D43: MS B | E43: 3 | G43: Daniel Collins, CAM | I43: v | L43: Grey Pope, BOR | M43: 21-14, 21-10 | O43: =IFERROR(__xludf.DUMMYFUNCTION("IF(ROW(#REF!) > MAX(IFERROR(MATCH(1, B:B, 0), 0), IFERROR(MATCH(2, B:B, 0), 0), IFERROR(MATCH(3, B:B, 0), 0), IFERROR(MATCH(4, B:B, 0), 0), IFERROR(MATCH(5, B:B, 0), 0), IFERROR(MATCH(6, B:B, 0), 0), IFERROR(MATCH(7, B:B, 0), 0), IFERROR(MATCH(8, B:B, 1),"&" 0)),NOT(ISERROR(FILTER(ARRAYFORMULA(IFERROR(SEARCH(INDIRECT(""$P$2:$P"" & TEXT(COUNTIF(($P$2:P146), ""<>""), ""0"")),G43 & "" "" & L43),"""")), ARRAYFORMULA(IFERROR(SEARCH(INDIRECT(""$P$2:$P"" & TEXT(COUNTIF(($P$2:P146), ""<>""), ""0"")),G43 & "" "" & L4"&"3),"""")) <> """"))), 0)"),"#REF!") -> #REF! | Q43: =IFERROR(__xludf.DUMMYFUNCTION("IF(AND(OR(COUNTA(FILTER($P$2:$P146, ARRAYFORMULA(ISNUMBER(FIND($P$2:$P146, G43))))) > 0, COUNTA(FILTER($P$2:$P146, ARRAYFORMULA(ISNUMBER(FIND($P$2:$P146, L43))))) > 0), NOT(ISNUMBER(B43))), TRUE(), FALSE())"),FALSE) -> FALSE | R43: =IFERROR(__xludf.DUMMYFUNCTION("IF(ISNA(JOIN("", "", FILTER($P$2:$P146, ARRAYFORMULA(ISNUMBER(FIND($P$2:$P146, G43))), NOT(ISBLANK($P$2:$P146))))), "" "", JOIN("", "", FILTER($P$2:$P146, ARRAYFORMULA(ISNUMBER(FIND($P$2:$P146, G43))), NOT(ISBLANK($P$2:$P146)))))")," ") | S43: =IFERROR(__xludf.DUMMYFUNCTION("IF(ISNA(JOIN("", "", FILTER($P$2:$P146, ARRAYFORMULA(ISNUMBER(FIND($P$2:$P146, L43))), NOT(ISBLANK($P$2:$P146))))), "" "", JOIN("", "", FILTER($P$2:$P146, ARRAYFORMULA(ISNUMBER(FIND($P$2:$P146, L43))), NOT(ISBLANK($P$2:$P146)))))")," ")
A44: 43 | D44: MS B | E44: 3 | G44: Reanbert Valentino, HUM | I44: v | L44: Milton Smith, LAM | M44: 18-21, 13-21 | O44: =IFERROR(__xludf.DUMMYFUNCTION("IF(ROW(B44) > MAX(IFERROR(MATCH(1, B:B, 0), 0), IFERROR(MATCH(2, B:B, 0), 0), IFERROR(MATCH(3, B:B, 0), 0), IFERROR(MATCH(4, B:B, 0), 0), IFERROR(MATCH(5, B:B, 0), 0), IFERROR(MATCH(6, B:B, 0), 0), IFERROR(MATCH(7, B:B, 0), 0), IFERROR(MATCH(8, B:B, 1), 0"&")),NOT(ISERROR(FILTER(ARRAYFORMULA(IFERROR(SEARCH(INDIRECT(""$P$2:$P"" & TEXT(COUNTIF(($P$2:P146), ""<>""), ""0"")),G44 & "" "" & L44),"""")), ARRAYFORMULA(IFERROR(SEARCH(INDIRECT(""$P$2:$P"" & TEXT(COUNTIF(($P$2:P146), ""<>""), ""0"")),G44 & "" "" & L44)"&","""")) <> """"))), 0)"),FALSE) -> FALSE | Q44: =IFERROR(__xludf.DUMMYFUNCTION("IF(AND(OR(COUNTA(FILTER($P$2:$P146, ARRAYFORMULA(ISNUMBER(FIND($P$2:$P146, G44))))) > 0, COUNTA(FILTER($P$2:$P146, ARRAYFORMULA(ISNUMBER(FIND($P$2:$P146, L44))))) > 0), NOT(ISNUMBER(B44))), TRUE(), FALSE())"),FALSE) -> FALSE | R44: =IFERROR(__xludf.DUMMYFUNCTION("IF(ISNA(JOIN("", "", FILTER($P$2:$P146, ARRAYFORMULA(ISNUMBER(FIND($P$2:$P146, G44))), NOT(ISBLANK($P$2:$P146))))), "" "", JOIN("", "", FILTER($P$2:$P146, ARRAYFORMULA(ISNUMBER(FIND($P$2:$P146, G44))), NOT(ISBLANK($P$2:$P146)))))")," ") | S44: =IFERROR(__xludf.DUMMYFUNCTION("IF(ISNA(JOIN("", "", FILTER($P$2:$P146, ARRAYFORMULA(ISNUMBER(FIND($P$2:$P146, L44))), NOT(ISBLANK($P$2:$P146))))), "" "", JOIN("", "", FILTER($P$2:$P146, ARRAYFORMULA(ISNUMBER(FIND($P$2:$P146, L44))), NOT(ISBLANK($P$2:$P146)))))")," ")
A45: 44 | D45: WS B | E45: 3 | G45: Rejoice Nwokedi, FAN | I45: v | L45: Chincco Lai, SEN | M45: 12-21, 6-21 | O45: West - Doubles - Conestoga | Q45: =IFERROR(__xludf.DUMMYFUNCTION("IF(AND(OR(COUNTA(FILTER($P$2:$P146, ARRAYFORMULA(ISNUMBER(FIND($P$2:$P146, G45))))) > 0, COUNTA(FILTER($P$2:$P146, ARRAYFORMULA(ISNUMBER(FIND($P$2:$P146, L45))))) > 0), NOT(ISNUMBER(B45))), TRUE(), FALSE())"),FALSE) -> FALSE | R45: =IFERROR(__xludf.DUMMYFUNCTION("IF(ISNA(JOIN("", "", FILTER($P$2:$P146, ARRAYFORMULA(ISNUMBER(FIND($P$2:$P146, G45))), NOT(ISBLANK($P$2:$P146))))), "" "", JOIN("", "", FILTER($P$2:$P146, ARRAYFORMULA(ISNUMBER(FIND($P$2:$P146, G45))), NOT(ISBLANK($P$2:$P146)))))")," ") | S45: =IFERROR(__xludf.DUMMYFUNCTION("IF(ISNA(JOIN("", "", FILTER($P$2:$P146, ARRAYFORMULA(ISNUMBER(FIND($P$2:$P146, L45))), NOT(ISBLANK($P$2:$P146))))), "" "", JOIN("", "", FILTER($P$2:$P146, ARRAYFORMULA(ISNUMBER(FIND($P$2:$P146, L45))), NOT(ISBLANK($P$2:$P146)))))")," ")
A46: 45 | D46: WS B | E46: 3 | G46: Elena Meng, HUM | I46: v | L46: Shubhi Yadav, CON | M46: CON WITHDRAWAL | N46: CON WITHDRAWAL | O46: East - MS Centennial 1; XD - Centennial | Q46: =IFERROR(__xludf.DUMMYFUNCTION("IF(AND(OR(COUNTA(FILTER($P$2:$P146, ARRAYFORMULA(ISNUMBER(FIND($P$2:$P146, G46))))) > 0, COUNTA(FILTER($P$2:$P146, ARRAYFORMULA(ISNUMBER(FIND($P$2:$P146, L46))))) > 0), NOT(ISNUMBER(B46))), TRUE(), FALSE())"),FALSE) -> FALSE | R46: =IFERROR(__xludf.DUMMYFUNCTION("IF(ISNA(JOIN("", "", FILTER($P$2:$P146, ARRAYFORMULA(ISNUMBER(FIND($P$2:$P146, G46))), NOT(ISBLANK($P$2:$P146))))), "" "", JOIN("", "", FILTER($P$2:$P146, ARRAYFORMULA(ISNUMBER(FIND($P$2:$P146, G46))), NOT(ISBLANK($P$2:$P146)))))")," ") | S46: =IFERROR(__xludf.DUMMYFUNCTION("IF(ISNA(JOIN("", "", FILTER($P$2:$P146, ARRAYFORMULA(ISNUMBER(FIND($P$2:$P146, L46))), NOT(ISBLANK($P$2:$P146))))), "" "", JOIN("", "", FILTER($P$2:$P146, ARRAYFORMULA(ISNUMBER(FIND($P$2:$P146, L46))), NOT(ISBLANK($P$2:$P146)))))")," ")
A47: 46 | D47: WS B | E47: 3 | G47: Mackenzie Pilon, BOR | I47: v | L47: Alexa Clark, CAM | M47: 21-16, 21-6 | O47: =IFERROR(__xludf.DUMMYFUNCTION("IF(ROW(B47) > MAX(IFERROR(MATCH(1, B:B, 0), 0), IFERROR(MATCH(2, B:B, 0), 0), IFERROR(MATCH(3, B:B, 0), 0), IFERROR(MATCH(4, B:B, 0), 0), IFERROR(MATCH(5, B:B, 0), 0), IFERROR(MATCH(6, B:B, 0), 0), IFERROR(MATCH(7, B:B, 0), 0), IFERROR(MATCH(8, B:B, 1), 0"&")),NOT(ISERROR(FILTER(ARRAYFORMULA(IFERROR(SEARCH(INDIRECT(""$P$2:$P"" & TEXT(COUNTIF(($P$2:P146), ""<>""), ""0"")),G47 & "" "" & L47),"""")), ARRAYFORMULA(IFERROR(SEARCH(INDIRECT(""$P$2:$P"" & TEXT(COUNTIF(($P$2:P146), ""<>""), ""0"")),G47 & "" "" & L47)"&","""")) <> """"))), 0)"),FALSE) -> FALSE | Q47: =IFERROR(__xludf.DUMMYFUNCTION("IF(AND(OR(COUNTA(FILTER($P$2:$P146, ARRAYFORMULA(ISNUMBER(FIND($P$2:$P146, G47))))) > 0, COUNTA(FILTER($P$2:$P146, ARRAYFORMULA(ISNUMBER(FIND($P$2:$P146, L47))))) > 0), NOT(ISNUMBER(B47))), TRUE(), FALSE())"),FALSE) -> FALSE | R47: =IFERROR(__xludf.DUMMYFUNCTION("IF(ISNA(JOIN("", "", FILTER($P$2:$P146, ARRAYFORMULA(ISNUMBER(FIND($P$2:$P146, G47))), NOT(ISBLANK($P$2:$P146))))), "" "", JOIN("", "", FILTER($P$2:$P146, ARRAYFORMULA(ISNUMBER(FIND($P$2:$P146, G47))), NOT(ISBLANK($P$2:$P146)))))")," ") | S47: =IFERROR(__xludf.DUMMYFUNCTION("IF(ISNA(JOIN("", "", FILTER($P$2:$P146, ARRAYFORMULA(ISNUMBER(FIND($P$2:$P146, L47))), NOT(ISBLANK($P$2:$P146))))), "" "", JOIN("", "", FILTER($P$2:$P146, ARRAYFORMULA(ISNUMBER(FIND($P$2:$P146, L47))), NOT(ISBLANK($P$2:$P146)))))")," ")
A48: 47 | D48: WD | E48: 3 | G48: V. Somaroo & M. Mercier, BOR | I48: v | L48: T. Vaidya & N. Kim, FAN | M48: 4-21, 12-21 | O48: =IFERROR(__xludf.DUMMYFUNCTION("IF(ROW(B48) > MAX(IFERROR(MATCH(1, B:B, 0), 0), IFERROR(MATCH(2, B:B, 0), 0), IFERROR(MATCH(3, B:B, 0), 0), IFERROR(MATCH(4, B:B, 0), 0), IFERROR(MATCH(5, B:B, 0), 0), IFERROR(MATCH(6, B:B, 0), 0), IFERROR(MATCH(7, B:B, 0), 0), IFERROR(MATCH(8, B:B, 1), 0"&")),NOT(ISERROR(FILTER(ARRAYFORMULA(IFERROR(SEARCH(INDIRECT(""$P$2:$P"" & TEXT(COUNTIF(($P$2:P146), ""<>""), ""0"")),G48 & "" "" & L48),"""")), ARRAYFORMULA(IFERROR(SEARCH(INDIRECT(""$P$2:$P"" & TEXT(COUNTIF(($P$2:P146), ""<>""), ""0"")),G48 & "" "" & L48)"&","""")) <> """"))), 0)"),FALSE) -> FALSE | Q48: =IFERROR(__xludf.DUMMYFUNCTION("IF(AND(OR(COUNTA(FILTER($P$2:$P146, ARRAYFORMULA(ISNUMBER(FIND($P$2:$P146, G48))))) > 0, COUNTA(FILTER($P$2:$P146, ARRAYFORMULA(ISNUMBER(FIND($P$2:$P146, L48))))) > 0), NOT(ISNUMBER(B48))), TRUE(), FALSE())"),FALSE) -> FALSE | R48: =IFERROR(__xludf.DUMMYFUNCTION("IF(ISNA(JOIN("", "", FILTER($P$2:$P146, ARRAYFORMULA(ISNUMBER(FIND($P$2:$P146, G48))), NOT(ISBLANK($P$2:$P146))))), "" "", JOIN("", "", FILTER($P$2:$P146, ARRAYFORMULA(ISNUMBER(FIND($P$2:$P146, G48))), NOT(ISBLANK($P$2:$P146)))))")," ") | S48: =IFERROR(__xludf.DUMMYFUNCTION("IF(ISNA(JOIN("", "", FILTER($P$2:$P146, ARRAYFORMULA(ISNUMBER(FIND($P$2:$P146, L48))), NOT(ISBLANK($P$2:$P146))))), "" "", JOIN("", "", FILTER($P$2:$P146, ARRAYFORMULA(ISNUMBER(FIND($P$2:$P146, L48))), NOT(ISBLANK($P$2:$P146)))))")," ")
A49: 48 | D49: WD | E49: 3 | G49: S. Wu & S. Joshi, HUM | I49: v | L49: A. Xing & V. Lam, SEN | M49: 21-14, 19-21, 21-14 | O49: =IFERROR(__xludf.DUMMYFUNCTION("IF(ROW(B49) > MAX(IFERROR(MATCH(1, B:B, 0), 0), IFERROR(MATCH(2, B:B, 0), 0), IFERROR(MATCH(3, B:B, 0), 0), IFERROR(MATCH(4, B:B, 0), 0), IFERROR(MATCH(5, B:B, 0), 0), IFERROR(MATCH(6, B:B, 0), 0), IFERROR(MATCH(7, B:B, 0), 0), IFERROR(MATCH(8, B:B, 1), 0"&")),NOT(ISERROR(FILTER(ARRAYFORMULA(IFERROR(SEARCH(INDIRECT(""$P$2:$P"" & TEXT(COUNTIF(($P$2:P146), ""<>""), ""0"")),G49 & "" "" & L49),"""")), ARRAYFORMULA(IFERROR(SEARCH(INDIRECT(""$P$2:$P"" & TEXT(COUNTIF(($P$2:P146), ""<>""), ""0"")),G49 & "" "" & L49)"&","""")) <> """"))), 0)"),FALSE) -> FALSE | Q49: =IFERROR(__xludf.DUMMYFUNCTION("IF(AND(OR(COUNTA(FILTER($P$2:$P146, ARRAYFORMULA(ISNUMBER(FIND($P$2:$P146, G49))))) > 0, COUNTA(FILTER($P$2:$P146, ARRAYFORMULA(ISNUMBER(FIND($P$2:$P146, L49))))) > 0), NOT(ISNUMBER(B49))), TRUE(), FALSE())"),FALSE) -> FALSE | R49: =IFERROR(__xludf.DUMMYFUNCTION("IF(ISNA(JOIN("", "", FILTER($P$2:$P146, ARRAYFORMULA(ISNUMBER(FIND($P$2:$P146, G49))), NOT(ISBLANK($P$2:$P146))))), "" "", JOIN("", "", FILTER($P$2:$P146, ARRAYFORMULA(ISNUMBER(FIND($P$2:$P146, G49))), NOT(ISBLANK($P$2:$P146)))))")," ") | S49: =IFERROR(__xludf.DUMMYFUNCTION("IF(ISNA(JOIN("", "", FILTER($P$2:$P146, ARRAYFORMULA(ISNUMBER(FIND($P$2:$P146, L49))), NOT(ISBLANK($P$2:$P146))))), "" "", JOIN("", "", FILTER($P$2:$P146, ARRAYFORMULA(ISNUMBER(FIND($P$2:$P146, L49))), NOT(ISBLANK($P$2:$P146)))))")," ")
A50: 49 | D50: WD | E50: 3 | G50: S. Godek & L. Goldsack, LAM | I50: v | L50: A. Janybek & A. Kai, CON | M50: 21-18, 21-16 | O50: =IFERROR(__xludf.DUMMYFUNCTION("IF(ROW(B50) > MAX(IFERROR(MATCH(1, B:B, 0), 0), IFERROR(MATCH(2, B:B, 0), 0), IFERROR(MATCH(3, B:B, 0), 0), IFERROR(MATCH(4, B:B, 0), 0), IFERROR(MATCH(5, B:B, 0), 0), IFERROR(MATCH(6, B:B, 0), 0), IFERROR(MATCH(7, B:B, 0), 0), IFERROR(MATCH(8, B:B, 1), 0"&")),NOT(ISERROR(FILTER(ARRAYFORMULA(IFERROR(SEARCH(INDIRECT(""$P$2:$P"" & TEXT(COUNTIF(($P$2:P146), ""<>""), ""0"")),G50 & "" "" & L50),"""")), ARRAYFORMULA(IFERROR(SEARCH(INDIRECT(""$P$2:$P"" & TEXT(COUNTIF(($P$2:P146), ""<>""), ""0"")),G50 & "" "" & L50)"&","""")) <> """"))), 0)"),FALSE) -> FALSE | Q50: =IFERROR(__xludf.DUMMYFUNCTION("IF(AND(OR(COUNTA(FILTER($P$2:$P146, ARRAYFORMULA(ISNUMBER(FIND($P$2:$P146, G50))))) > 0, COUNTA(FILTER($P$2:$P146, ARRAYFORMULA(ISNUMBER(FIND($P$2:$P146, L50))))) > 0), NOT(ISNUMBER(B50))), TRUE(), FALSE())"),FALSE) -> FALSE | R50: =IFERROR(__xludf.DUMMYFUNCTION("IF(ISNA(JOIN("", "", FILTER($P$2:$P146, ARRAYFORMULA(ISNUMBER(FIND($P$2:$P146, G50))), NOT(ISBLANK($P$2:$P146))))), "" "", JOIN("", "", FILTER($P$2:$P146, ARRAYFORMULA(ISNUMBER(FIND($P$2:$P146, G50))), NOT(ISBLANK($P$2:$P146)))))")," ") | S50: =IFERROR(__xludf.DUMMYFUNCTION("IF(ISNA(JOIN("", "", FILTER($P$2:$P146, ARRAYFORMULA(ISNUMBER(FIND($P$2:$P146, L50))), NOT(ISBLANK($P$2:$P146))))), "" "", JOIN("", "", FILTER($P$2:$P146, ARRAYFORMULA(ISNUMBER(FIND($P$2:$P146, L50))), NOT(ISBLANK($P$2:$P146)))))")," ")
A51: 50 | D51: MD | E51: 3 | G51: T. Le & T. Nguyen, FAN | I51: v | L51: B. Lai & J. Lau, SEN | M51: 18-21, 20-22, 12-21 | O51: =IFERROR(__xludf.DUMMYFUNCTION("IF(ROW(B51) > MAX(IFERROR(MATCH(1, B:B, 0), 0), IFERROR(MATCH(2, B:B, 0), 0), IFERROR(MATCH(3, B:B, 0), 0), IFERROR(MATCH(4, B:B, 0), 0), IFERROR(MATCH(5, B:B, 0), 0), IFERROR(MATCH(6, B:B, 0), 0), IFERROR(MATCH(7, B:B, 0), 0), IFERROR(MATCH(8, B:B, 1), 0"&")),NOT(ISERROR(FILTER(ARRAYFORMULA(IFERROR(SEARCH(INDIRECT(""$P$2:$P"" & TEXT(COUNTIF(($P$2:P146), ""<>""), ""0"")),G51 & "" "" & L51),"""")), ARRAYFORMULA(IFERROR(SEARCH(INDIRECT(""$P$2:$P"" & TEXT(COUNTIF(($P$2:P146), ""<>""), ""0"")),G51 & "" "" & L51)"&","""")) <> """"))), 0)"),FALSE) -> FALSE | Q51: =IFERROR(__xludf.DUMMYFUNCTION("IF(AND(OR(COUNTA(FILTER($P$2:$P146, ARRAYFORMULA(ISNUMBER(FIND($P$2:$P146, G51))))) > 0, COUNTA(FILTER($P$2:$P146, ARRAYFORMULA(ISNUMBER(FIND($P$2:$P146, L51))))) > 0), NOT(ISNUMBER(B51))), TRUE(), FALSE())"),FALSE) -> FALSE | R51: =IFERROR(__xludf.DUMMYFUNCTION("IF(ISNA(JOIN("", "", FILTER($P$2:$P146, ARRAYFORMULA(ISNUMBER(FIND($P$2:$P146, G51))), NOT(ISBLANK($P$2:$P146))))), "" "", JOIN("", "", FILTER($P$2:$P146, ARRAYFORMULA(ISNUMBER(FIND($P$2:$P146, G51))), NOT(ISBLANK($P$2:$P146)))))")," ") | S51: =IFERROR(__xludf.DUMMYFUNCTION("IF(ISNA(JOIN("", "", FILTER($P$2:$P146, ARRAYFORMULA(ISNUMBER(FIND($P$2:$P146, L51))), NOT(ISBLANK($P$2:$P146))))), "" "", JOIN("", "", FILTER($P$2:$P146, ARRAYFORMULA(ISNUMBER(FIND($P$2:$P146, L51))), NOT(ISBLANK($P$2:$P146)))))")," ")
A52: 51 | D52: MD | E52: 3 | G52: A. Atkins & E. Leduc, BOR | I52: v | L52: G. Clark & L. Aarts, LAM | M52: 21-14, 18-21, 21-15 | O52: =IFERROR(__xludf.DUMMYFUNCTION("IF(ROW(B52) > MAX(IFERROR(MATCH(1, B:B, 0), 0), IFERROR(MATCH(2, B:B, 0), 0), IFERROR(MATCH(3, B:B, 0), 0), IFERROR(MATCH(4, B:B, 0), 0), IFERROR(MATCH(5, B:B, 0), 0), IFERROR(MATCH(6, B:B, 0), 0), IFERROR(MATCH(7, B:B, 0), 0), IFERROR(MATCH(8, B:B, 1), 0"&")),NOT(ISERROR(FILTER(ARRAYFORMULA(IFERROR(SEARCH(INDIRECT(""$P$2:$P"" & TEXT(COUNTIF(($P$2:P146), ""<>""), ""0"")),G52 & "" "" & L52),"""")), ARRAYFORMULA(IFERROR(SEARCH(INDIRECT(""$P$2:$P"" & TEXT(COUNTIF(($P$2:P146), ""<>""), ""0"")),G52 & "" "" & L52)"&","""")) <> """"))), 0)"),FALSE) -> FALSE | Q52: =IFERROR(__xludf.DUMMYFUNCTION("IF(AND(OR(COUNTA(FILTER($P$2:$P146, ARRAYFORMULA(ISNUMBER(FIND($P$2:$P146, G52))))) > 0, COUNTA(FILTER($P$2:$P146, ARRAYFORMULA(ISNUMBER(FIND($P$2:$P146, L52))))) > 0), NOT(ISNUMBER(B52))), TRUE(), FALSE())"),FALSE) -> FALSE | R52: =IFERROR(__xludf.DUMMYFUNCTION("IF(ISNA(JOIN("", "", FILTER($P$2:$P146, ARRAYFORMULA(ISNUMBER(FIND($P$2:$P146, G52))), NOT(ISBLANK($P$2:$P146))))), "" "", JOIN("", "", FILTER($P$2:$P146, ARRAYFORMULA(ISNUMBER(FIND($P$2:$P146, G52))), NOT(ISBLANK($P$2:$P146)))))")," ") | S52: =IFERROR(__xludf.DUMMYFUNCTION("IF(ISNA(JOIN("", "", FILTER($P$2:$P146, ARRAYFORMULA(ISNUMBER(FIND($P$2:$P146, L52))), NOT(ISBLANK($P$2:$P146))))), "" "", JOIN("", "", FILTER($P$2:$P146, ARRAYFORMULA(ISNUMBER(FIND($P$2:$P146, L52))), NOT(ISBLANK($P$2:$P146)))))")," ")
A53: 52 | D53: MD | E53: 3 | G53: M. Barnes & R. Tu, CON | I53: v | L53: T. Vicente-Pereira & Miranda, HUM | M53: 21-15, 21-13 | O53: =IFERROR(__xludf.DUMMYFUNCTION("IF(ROW(B53) > MAX(IFERROR(MATCH(1, B:B, 0), 0), IFERROR(MATCH(2, B:B, 0), 0), IFERROR(MATCH(3, B:B, 0), 0), IFERROR(MATCH(4, B:B, 0), 0), IFERROR(MATCH(5, B:B, 0), 0), IFERROR(MATCH(6, B:B, 0), 0), IFERROR(MATCH(7, B:B, 0), 0), IFERROR(MATCH(8, B:B, 1), 0"&")),NOT(ISERROR(FILTER(ARRAYFORMULA(IFERROR(SEARCH(INDIRECT(""$P$2:$P"" & TEXT(COUNTIF(($P$2:P146), ""<>""), ""0"")),G53 & "" "" & L53),"""")), ARRAYFORMULA(IFERROR(SEARCH(INDIRECT(""$P$2:$P"" & TEXT(COUNTIF(($P$2:P146), ""<>""), ""0"")),G53 & "" "" & L53)"&","""")) <> """"))), 0)"),FALSE) -> FALSE | Q53: =IFERROR(__xludf.DUMMYFUNCTION("IF(AND(OR(COUNTA(FILTER($P$2:$P146, ARRAYFORMULA(ISNUMBER(FIND($P$2:$P146, G53))))) > 0, COUNTA(FILTER($P$2:$P146, ARRAYFORMULA(ISNUMBER(FIND($P$2:$P146, L53))))) > 0), NOT(ISNUMBER(B53))), TRUE(), FALSE())"),FALSE) -> FALSE | R53: =IFERROR(__xludf.DUMMYFUNCTION("IF(ISNA(JOIN("", "", FILTER($P$2:$P146, ARRAYFORMULA(ISNUMBER(FIND($P$2:$P146, G53))), NOT(ISBLANK($P$2:$P146))))), "" "", JOIN("", "", FILTER($P$2:$P146, ARRAYFORMULA(ISNUMBER(FIND($P$2:$P146, G53))), NOT(ISBLANK($P$2:$P146)))))")," ") | S53: =IFERROR(__xludf.DUMMYFUNCTION("IF(ISNA(JOIN("", "", FILTER($P$2:$P146, ARRAYFORMULA(ISNUMBER(FIND($P$2:$P146, L53))), NOT(ISBLANK($P$2:$P146))))), "" "", JOIN("", "", FILTER($P$2:$P146, ARRAYFORMULA(ISNUMBER(FIND($P$2:$P146, L53))), NOT(ISBLANK($P$2:$P146)))))")," ")
A54: 53 | D54: XD | E54: 3 | G54: J. Ronahan & C. Choi, HUM | I54: v | L54: C. Clayton & J. Hillier, LAM | M54: 21-4, 21-8 | O54: =IFERROR(__xludf.DUMMYFUNCTION("IF(ROW(B54) > MAX(IFERROR(MATCH(1, B:B, 0), 0), IFERROR(MATCH(2, B:B, 0), 0), IFERROR(MATCH(3, B:B, 0), 0), IFERROR(MATCH(4, B:B, 0), 0), IFERROR(MATCH(5, B:B, 0), 0), IFERROR(MATCH(6, B:B, 0), 0), IFERROR(MATCH(7, B:B, 0), 0), IFERROR(MATCH(8, B:B, 1), 0"&")),NOT(ISERROR(FILTER(ARRAYFORMULA(IFERROR(SEARCH(INDIRECT(""$P$2:$P"" & TEXT(COUNTIF(($P$2:P146), ""<>""), ""0"")),G54 & "" "" & L54),"""")), ARRAYFORMULA(IFERROR(SEARCH(INDIRECT(""$P$2:$P"" & TEXT(COUNTIF(($P$2:P146), ""<>""), ""0"")),G54 & "" "" & L54)"&","""")) <> """"))), 0)"),FALSE) -> FALSE | Q54: =IFERROR(__xludf.DUMMYFUNCTION("IF(AND(OR(COUNTA(FILTER($P$2:$P146, ARRAYFORMULA(ISNUMBER(FIND($P$2:$P146, G54))))) > 0, COUNTA(FILTER($P$2:$P146, ARRAYFORMULA(ISNUMBER(FIND($P$2:$P146, L54))))) > 0), NOT(ISNUMBER(B54))), TRUE(), FALSE())"),FALSE) -> FALSE | R54: =IFERROR(__xludf.DUMMYFUNCTION("IF(ISNA(JOIN("", "", FILTER($P$2:$P146, ARRAYFORMULA(ISNUMBER(FIND($P$2:$P146, G54))), NOT(ISBLANK($P$2:$P146))))), "" "", JOIN("", "", FILTER($P$2:$P146, ARRAYFORMULA(ISNUMBER(FIND($P$2:$P146, G54))), NOT(ISBLANK($P$2:$P146)))))")," ") | S54: =IFERROR(__xludf.DUMMYFUNCTION("IF(ISNA(JOIN("", "", FILTER($P$2:$P146, ARRAYFORMULA(ISNUMBER(FIND($P$2:$P146, L54))), NOT(ISBLANK($P$2:$P146))))), "" "", JOIN("", "", FILTER($P$2:$P146, ARRAYFORMULA(ISNUMBER(FIND($P$2:$P146, L54))), NOT(ISBLANK($P$2:$P146)))))")," ")
A55: 54 | D55: XD | E55: 3 | G55: D. Brunette-Royer & J. Hopkins, CAM | I55: v | L55: A. Tso & A. Iran, SEN | M55: 15-21, 21-14, 21-15 | O55: =IFERROR(__xludf.DUMMYFUNCTION("IF(ROW(B55) > MAX(IFERROR(MATCH(1, B:B, 0), 0), IFERROR(MATCH(2, B:B, 0), 0), IFERROR(MATCH(3, B:B, 0), 0), IFERROR(MATCH(4, B:B, 0), 0), IFERROR(MATCH(5, B:B, 0), 0), IFERROR(MATCH(6, B:B, 0), 0), IFERROR(MATCH(7, B:B, 0), 0), IFERROR(MATCH(8, B:B, 1), 0"&")),NOT(ISERROR(FILTER(ARRAYFORMULA(IFERROR(SEARCH(INDIRECT(""$P$2:$P"" & TEXT(COUNTIF(($P$2:P146), ""<>""), ""0"")),G55 & "" "" & L55),"""")), ARRAYFORMULA(IFERROR(SEARCH(INDIRECT(""$P$2:$P"" & TEXT(COUNTIF(($P$2:P146), ""<>""), ""0"")),G55 & "" "" & L55)"&","""")) <> """"))), 0)"),FALSE) -> FALSE | Q55: =IFERROR(__xludf.DUMMYFUNCTION("IF(AND(OR(COUNTA(FILTER($P$2:$P146, ARRAYFORMULA(ISNUMBER(FIND($P$2:$P146, G55))))) > 0, COUNTA(FILTER($P$2:$P146, ARRAYFORMULA(ISNUMBER(FIND($P$2:$P146, L55))))) > 0), NOT(ISNUMBER(B55))), TRUE(), FALSE())"),FALSE) -> FALSE | R55: =IFERROR(__xludf.DUMMYFUNCTION("IF(ISNA(JOIN("", "", FILTER($P$2:$P146, ARRAYFORMULA(ISNUMBER(FIND($P$2:$P146, G55))), NOT(ISBLANK($P$2:$P146))))), "" "", JOIN("", "", FILTER($P$2:$P146, ARRAYFORMULA(ISNUMBER(FIND($P$2:$P146, G55))), NOT(ISBLANK($P$2:$P146)))))")," ") | S55: =IFERROR(__xludf.DUMMYFUNCTION("IF(ISNA(JOIN("", "", FILTER($P$2:$P146, ARRAYFORMULA(ISNUMBER(FIND($P$2:$P146, L55))), NOT(ISBLANK($P$2:$P146))))), "" "", JOIN("", "", FILTER($P$2:$P146, ARRAYFORMULA(ISNUMBER(FIND($P$2:$P146, L55))), NOT(ISBLANK($P$2:$P146)))))")," ")
A56: 55 | D56: XD | E56: 3 | G56: S. Mohammad & X. Niu, FAN | I56: v | L56: N. Bridge & M. Muqeem, CON | M56: 21-18, 21-15 | O56: =IFERROR(__xludf.DUMMYFUNCTION("IF(ROW(B56) > MAX(IFERROR(MATCH(1, B:B, 0), 0), IFERROR(MATCH(2, B:B, 0), 0), IFERROR(MATCH(3, B:B, 0), 0), IFERROR(MATCH(4, B:B, 0), 0), IFERROR(MATCH(5, B:B, 0), 0), IFERROR(MATCH(6, B:B, 0), 0), IFERROR(MATCH(7, B:B, 0), 0), IFERROR(MATCH(8, B:B, 1), 0"&")),NOT(ISERROR(FILTER(ARRAYFORMULA(IFERROR(SEARCH(INDIRECT(""$P$2:$P"" & TEXT(COUNTIF(($P$2:P146), ""<>""), ""0"")),G56 & "" "" & L56),"""")), ARRAYFORMULA(IFERROR(SEARCH(INDIRECT(""$P$2:$P"" & TEXT(COUNTIF(($P$2:P146), ""<>""), ""0"")),G56 & "" "" & L56)"&","""")) <> """"))), 0)"),FALSE) -> FALSE | Q56: =IFERROR(__xludf.DUMMYFUNCTION("IF(AND(OR(COUNTA(FILTER($P$2:$P146, ARRAYFORMULA(ISNUMBER(FIND($P$2:$P146, G56))))) > 0, COUNTA(FILTER($P$2:$P146, ARRAYFORMULA(ISNUMBER(FIND($P$2:$P146, L56))))) > 0), NOT(ISNUMBER(B56))), TRUE(), FALSE())"),FALSE) -> FALSE | R56: =IFERROR(__xludf.DUMMYFUNCTION("IF(ISNA(JOIN("", "", FILTER($P$2:$P146, ARRAYFORMULA(ISNUMBER(FIND($P$2:$P146, G56))), NOT(ISBLANK($P$2:$P146))))), "" "", JOIN("", "", FILTER($P$2:$P146, ARRAYFORMULA(ISNUMBER(FIND($P$2:$P146, G56))), NOT(ISBLANK($P$2:$P146)))))")," ") | S56: =IFERROR(__xludf.DUMMYFUNCTION("IF(ISNA(JOIN("", "", FILTER($P$2:$P146, ARRAYFORMULA(ISNUMBER(FIND($P$2:$P146, L56))), NOT(ISBLANK($P$2:$P146))))), "" "", JOIN("", "", FILTER($P$2:$P146, ARRAYFORMULA(ISNUMBER(FIND($P$2:$P146, L56))), NOT(ISBLANK($P$2:$P146)))))")," ")
A57: 56 | D57: MS B | E57: 4 | G57: Maulik Jain, SEN | I57: v | L57: Arpi Sinha, FAN | M57: 9-21, 10-21 | N57: ROUND 4 BYES:R. Valentino, S. Darby, FAN, HUM, MD CON, XD FAN | O57: =IFERROR(__xludf.DUMMYFUNCTION("IF(ROW(B57) > MAX(IFERROR(MATCH(1, B:B, 0), 0), IFERROR(MATCH(2, B:B, 0), 0), IFERROR(MATCH(3, B:B, 0), 0), IFERROR(MATCH(4, B:B, 0), 0), IFERROR(MATCH(5, B:B, 0), 0), IFERROR(MATCH(6, B:B, 0), 0), IFERROR(MATCH(7, B:B, 0), 0), IFERROR(MATCH(8, B:B, 1), 0"&")),NOT(ISERROR(FILTER(ARRAYFORMULA(IFERROR(SEARCH(INDIRECT(""$P$2:$P"" & TEXT(COUNTIF(($P$2:P146), ""<>""), ""0"")),G57 & "" "" & L57),"""")), ARRAYFORMULA(IFERROR(SEARCH(INDIRECT(""$P$2:$P"" & TEXT(COUNTIF(($P$2:P146), ""<>""), ""0"")),G57 & "" "" & L57)"&","""")) <> """"))), 0)"),FALSE) -> FALSE | Q57: =IFERROR(__xludf.DUMMYFUNCTION("IF(AND(OR(COUNTA(FILTER($P$2:$P146, ARRAYFORMULA(ISNUMBER(FIND($P$2:$P146, G57))))) > 0, COUNTA(FILTER($P$2:$P146, ARRAYFORMULA(ISNUMBER(FIND($P$2:$P146, L57))))) > 0), NOT(ISNUMBER(B57))), TRUE(), FALSE())"),FALSE) -> FALSE | R57: =IFERROR(__xludf.DUMMYFUNCTION("IF(ISNA(JOIN("", "", FILTER($P$2:$P146, ARRAYFORMULA(ISNUMBER(FIND($P$2:$P146, G57))), NOT(ISBLANK($P$2:$P146))))), "" "", JOIN("", "", FILTER($P$2:$P146, ARRAYFORMULA(ISNUMBER(FIND($P$2:$P146, G57))), NOT(ISBLANK($P$2:$P146)))))")," ") | S57: =IFERROR(__xludf.DUMMYFUNCTION("IF(ISNA(JOIN("", "", FILTER($P$2:$P146, ARRAYFORMULA(ISNUMBER(FIND($P$2:$P146, L57))), NOT(ISBLANK($P$2:$P146))))), "" "", JOIN("", "", FILTER($P$2:$P146, ARRAYFORMULA(ISNUMBER(FIND($P$2:$P146, L57))), NOT(ISBLANK($P$2:$P146)))))")," ")
A58: 57 | D58: MS B | E58: 4 | G58: Daniel Collins, CAM | I58: v | L58: Milton Smith, LAM | M58: 14-21, 16-21 | O58: =IFERROR(__xludf.DUMMYFUNCTION("IF(ROW(B58) > MAX(IFERROR(MATCH(1, B:B, 0), 0), IFERROR(MATCH(2, B:B, 0), 0), IFERROR(MATCH(3, B:B, 0), 0), IFERROR(MATCH(4, B:B, 0), 0), IFERROR(MATCH(5, B:B, 0), 0), IFERROR(MATCH(6, B:B, 0), 0), IFERROR(MATCH(7, B:B, 0), 0), IFERROR(MATCH(8, B:B, 1), 0"&")),NOT(ISERROR(FILTER(ARRAYFORMULA(IFERROR(SEARCH(INDIRECT(""$P$2:$P"" & TEXT(COUNTIF(($P$2:P146), ""<>""), ""0"")),G58 & "" "" & L58),"""")), ARRAYFORMULA(IFERROR(SEARCH(INDIRECT(""$P$2:$P"" & TEXT(COUNTIF(($P$2:P146), ""<>""), ""0"")),G58 & "" "" & L58)"&","""")) <> """"))), 0)"),FALSE) -> FALSE | Q58: =IFERROR(__xludf.DUMMYFUNCTION("IF(AND(OR(COUNTA(FILTER($P$2:$P146, ARRAYFORMULA(ISNUMBER(FIND($P$2:$P146, G58))))) > 0, COUNTA(FILTER($P$2:$P146, ARRAYFORMULA(ISNUMBER(FIND($P$2:$P146, L58))))) > 0), NOT(ISNUMBER(B58))), TRUE(), FALSE())"),FALSE) -> FALSE | R58: =IFERROR(__xludf.DUMMYFUNCTION("IF(ISNA(JOIN("", "", FILTER($P$2:$P146, ARRAYFORMULA(ISNUMBER(FIND($P$2:$P146, G58))), NOT(ISBLANK($P$2:$P146))))), "" "", JOIN("", "", FILTER($P$2:$P146, ARRAYFORMULA(ISNUMBER(FIND($P$2:$P146, G58))), NOT(ISBLANK($P$2:$P146)))))")," ") | S58: =IFERROR(__xludf.DUMMYFUNCTION("IF(ISNA(JOIN("", "", FILTER($P$2:$P146, ARRAYFORMULA(ISNUMBER(FIND($P$2:$P146, L58))), NOT(ISBLANK($P$2:$P146))))), "" "", JOIN("", "", FILTER($P$2:$P146, ARRAYFORMULA(ISNUMBER(FIND($P$2:$P146, L58))), NOT(ISBLANK($P$2:$P146)))))")," ")
A59: 58 | D59: MS B | E59: 4 | G59: Thinh Nguyen, CON | I59: v | L59: Grey Pope, BOR | M59: 21-14, 21-15 | O59: =IFERROR(__xludf.DUMMYFUNCTION("IF(ROW(#REF!) > MAX(IFERROR(MATCH(1, B:B, 0), 0), IFERROR(MATCH(2, B:B, 0), 0), IFERROR(MATCH(3, B:B, 0), 0), IFERROR(MATCH(4, B:B, 0), 0), IFERROR(MATCH(5, B:B, 0), 0), IFERROR(MATCH(6, B:B, 0), 0), IFERROR(MATCH(7, B:B, 0), 0), IFERROR(MATCH(8, B:B, 1),"&" 0)),NOT(ISERROR(FILTER(ARRAYFORMULA(IFERROR(SEARCH(INDIRECT(""$P$2:$P"" & TEXT(COUNTIF(($P$2:P146), ""<>""), ""0"")),G59 & "" "" & L59),"""")), ARRAYFORMULA(IFERROR(SEARCH(INDIRECT(""$P$2:$P"" & TEXT(COUNTIF(($P$2:P146), ""<>""), ""0"")),G59 & "" "" & L5"&"9),"""")) <> """"))), 0)"),"#REF!") -> #REF! | Q59: =IFERROR(__xludf.DUMMYFUNCTION("IF(AND(OR(COUNTA(FILTER($P$2:$P146, ARRAYFORMULA(ISNUMBER(FIND($P$2:$P146, G59))))) > 0, COUNTA(FILTER($P$2:$P146, ARRAYFORMULA(ISNUMBER(FIND($P$2:$P146, L59))))) > 0), NOT(ISNUMBER(B59))), TRUE(), FALSE())"),FALSE) -> FALSE | R59: =IFERROR(__xludf.DUMMYFUNCTION("IF(ISNA(JOIN("", "", FILTER($P$2:$P146, ARRAYFORMULA(ISNUMBER(FIND($P$2:$P146, G59))), NOT(ISBLANK($P$2:$P146))))), "" "", JOIN("", "", FILTER($P$2:$P146, ARRAYFORMULA(ISNUMBER(FIND($P$2:$P146, G59))), NOT(ISBLANK($P$2:$P146)))))")," ") | S59: =IFERROR(__xludf.DUMMYFUNCTION("IF(ISNA(JOIN("", "", FILTER($P$2:$P146, ARRAYFORMULA(ISNUMBER(FIND($P$2:$P146, L59))), NOT(ISBLANK($P$2:$P146))))), "" "", JOIN("", "", FILTER($P$2:$P146, ARRAYFORMULA(ISNUMBER(FIND($P$2:$P146, L59))), NOT(ISBLANK($P$2:$P146)))))")," ")
A60: 59 | D60: MS A | E60: 4 | G60: Sebastien Liu, SEN | I60: v | L60: Tim Lock, HUM | M60: 4-21, 5-21 | O60: =IFERROR(__xludf.DUMMYFUNCTION("IF(ROW(B73) > MAX(IFERROR(MATCH(1, B:B, 0), 0), IFERROR(MATCH(2, B:B, 0), 0), IFERROR(MATCH(3, B:B, 0), 0), IFERROR(MATCH(4, B:B, 0), 0), IFERROR(MATCH(5, B:B, 0), 0), IFERROR(MATCH(6, B:B, 0), 0), IFERROR(MATCH(7, B:B, 0), 0), IFERROR(MATCH(8, B:B, 1), 0"&")),NOT(ISERROR(FILTER(ARRAYFORMULA(IFERROR(SEARCH(INDIRECT(""$P$2:$P"" & TEXT(COUNTIF(($P$2:P146), ""<>""), ""0"")),G60 & "" "" & L60),"""")), ARRAYFORMULA(IFERROR(SEARCH(INDIRECT(""$P$2:$P"" & TEXT(COUNTIF(($P$2:P146), ""<>""), ""0"")),G60 & "" "" & L60)"&","""")) <> """"))), 0)"),FALSE) -> FALSE | Q60: =IFERROR(__xludf.DUMMYFUNCTION("IF(AND(OR(COUNTA(FILTER($P$2:$P146, ARRAYFORMULA(ISNUMBER(FIND($P$2:$P146, G60))))) > 0, COUNTA(FILTER($P$2:$P146, ARRAYFORMULA(ISNUMBER(FIND($P$2:$P146, L60))))) > 0), NOT(ISNUMBER(B60))), TRUE(), FALSE())"),FALSE) -> FALSE | R60: =IFERROR(__xludf.DUMMYFUNCTION("IF(ISNA(JOIN("", "", FILTER($P$2:$P146, ARRAYFORMULA(ISNUMBER(FIND($P$2:$P146, G60))), NOT(ISBLANK($P$2:$P146))))), "" "", JOIN("", "", FILTER($P$2:$P146, ARRAYFORMULA(ISNUMBER(FIND($P$2:$P146, G60))), NOT(ISBLANK($P$2:$P146)))))")," ") | S60: =IFERROR(__xludf.DUMMYFUNCTION("IF(ISNA(JOIN("", "", FILTER($P$2:$P146, ARRAYFORMULA(ISNUMBER(FIND($P$2:$P146, L60))), NOT(ISBLANK($P$2:$P146))))), "" "", JOIN("", "", FILTER($P$2:$P146, ARRAYFORMULA(ISNUMBER(FIND($P$2:$P146, L60))), NOT(ISBLANK($P$2:$P146)))))")," ")
A61: 60 | D61: MS A | E61: 4 | G61: Ram Ng, FAN | I61: v | L61: Akashdeep Singh, CON | M61: 21-10, 21-16 | O61: =IFERROR(__xludf.DUMMYFUNCTION("IF(ROW(B61) > MAX(IFERROR(MATCH(1, B:B, 0), 0), IFERROR(MATCH(2, B:B, 0), 0), IFERROR(MATCH(3, B:B, 0), 0), IFERROR(MATCH(4, B:B, 0), 0), IFERROR(MATCH(5, B:B, 0), 0), IFERROR(MATCH(6, B:B, 0), 0), IFERROR(MATCH(7, B:B, 0), 0), IFERROR(MATCH(8, B:B, 1), 0"&")),NOT(ISERROR(FILTER(ARRAYFORMULA(IFERROR(SEARCH(INDIRECT(""$P$2:$P"" & TEXT(COUNTIF(($P$2:P146), ""<>""), ""0"")),G61 & "" "" & L61),"""")), ARRAYFORMULA(IFERROR(SEARCH(INDIRECT(""$P$2:$P"" & TEXT(COUNTIF(($P$2:P146), ""<>""), ""0"")),G61 & "" "" & L61)"&","""")) <> """"))), 0)"),FALSE) -> FALSE | Q61: =IFERROR(__xludf.DUMMYFUNCTION("IF(AND(OR(COUNTA(FILTER($P$2:$P146, ARRAYFORMULA(ISNUMBER(FIND($P$2:$P146, G61))))) > 0, COUNTA(FILTER($P$2:$P146, ARRAYFORMULA(ISNUMBER(FIND($P$2:$P146, L61))))) > 0), NOT(ISNUMBER(B61))), TRUE(), FALSE())"),FALSE) -> FALSE | R61: =IFERROR(__xludf.DUMMYFUNCTION("IF(ISNA(JOIN("", "", FILTER($P$2:$P146, ARRAYFORMULA(ISNUMBER(FIND($P$2:$P146, G61))), NOT(ISBLANK($P$2:$P146))))), "" "", JOIN("", "", FILTER($P$2:$P146, ARRAYFORMULA(ISNUMBER(FIND($P$2:$P146, G61))), NOT(ISBLANK($P$2:$P146)))))")," ") | S61: =IFERROR(__xludf.DUMMYFUNCTION("IF(ISNA(JOIN("", "", FILTER($P$2:$P146, ARRAYFORMULA(ISNUMBER(FIND($P$2:$P146, L61))), NOT(ISBLANK($P$2:$P146))))), "" "", JOIN("", "", FILTER($P$2:$P146, ARRAYFORMULA(ISNUMBER(FIND($P$2:$P146, L61))), NOT(ISBLANK($P$2:$P146)))))")," ")
A62: 61 | D62: MS A | E62: 4 | G62: Dalton Baxter, LAM | I62: v | L62: Prabhkirat Singh, CAM | M62: 21-15, 18-21, 16-21 | O62: =IFERROR(__xludf.DUMMYFUNCTION("IF(ROW(B62) > MAX(IFERROR(MATCH(1, B:B, 0), 0), IFERROR(MATCH(2, B:B, 0), 0), IFERROR(MATCH(3, B:B, 0), 0), IFERROR(MATCH(4, B:B, 0), 0), IFERROR(MATCH(5, B:B, 0), 0), IFERROR(MATCH(6, B:B, 0), 0), IFERROR(MATCH(7, B:B, 0), 0), IFERROR(MATCH(8, B:B, 1), 0"&")),NOT(ISERROR(FILTER(ARRAYFORMULA(IFERROR(SEARCH(INDIRECT(""$P$2:$P"" & TEXT(COUNTIF(($P$2:P146), ""<>""), ""0"")),G62 & "" "" & L62),"""")), ARRAYFORMULA(IFERROR(SEARCH(INDIRECT(""$P$2:$P"" & TEXT(COUNTIF(($P$2:P146), ""<>""), ""0"")),G62 & "" "" & L62)"&","""")) <> """"))), 0)"),FALSE) -> FALSE | Q62: =IFERROR(__xludf.DUMMYFUNCTION("IF(AND(OR(COUNTA(FILTER($P$2:$P146, ARRAYFORMULA(ISNUMBER(FIND($P$2:$P146, G62))))) > 0, COUNTA(FILTER($P$2:$P146, ARRAYFORMULA(ISNUMBER(FIND($P$2:$P146, L62))))) > 0), NOT(ISNUMBER(B62))), TRUE(), FALSE())"),FALSE) -> FALSE | R62: =IFERROR(__xludf.DUMMYFUNCTION("IF(ISNA(JOIN("", "", FILTER($P$2:$P146, ARRAYFORMULA(ISNUMBER(FIND($P$2:$P146, G62))), NOT(ISBLANK($P$2:$P146))))), "" "", JOIN("", "", FILTER($P$2:$P146, ARRAYFORMULA(ISNUMBER(FIND($P$2:$P146, G62))), NOT(ISBLANK($P$2:$P146)))))")," ") | S62: =IFERROR(__xludf.DUMMYFUNCTION("IF(ISNA(JOIN("", "", FILTER($P$2:$P146, ARRAYFORMULA(ISNUMBER(FIND($P$2:$P146, L62))), NOT(ISBLANK($P$2:$P146))))), "" "", JOIN("", "", FILTER($P$2:$P146, ARRAYFORMULA(ISNUMBER(FIND($P$2:$P146, L62))), NOT(ISBLANK($P$2:$P146)))))")," ")
A63: 62 | D63: WS B | E63: 4 | G63: Rejoice Nwokedi, FAN | I63: v | L63: Alexa Clark, CAM | M63: 21-10, 21-13 | O63: =IFERROR(__xludf.DUMMYFUNCTION("IF(ROW(B63) > MAX(IFERROR(MATCH(1, B:B, 0), 0), IFERROR(MATCH(2, B:B, 0), 0), IFERROR(MATCH(3, B:B, 0), 0), IFERROR(MATCH(4, B:B, 0), 0), IFERROR(MATCH(5, B:B, 0), 0), IFERROR(MATCH(6, B:B, 0), 0), IFERROR(MATCH(7, B:B, 0), 0), IFERROR(MATCH(8, B:B, 1), 0"&")),NOT(ISERROR(FILTER(ARRAYFORMULA(IFERROR(SEARCH(INDIRECT(""$P$2:$P"" & TEXT(COUNTIF(($P$2:P146), ""<>""), ""0"")),G63 & "" "" & L63),"""")), ARRAYFORMULA(IFERROR(SEARCH(INDIRECT(""$P$2:$P"" & TEXT(COUNTIF(($P$2:P146), ""<>""), ""0"")),G63 & "" "" & L63)"&","""")) <> """"))), 0)"),FALSE) -> FALSE | Q63: =IFERROR(__xludf.DUMMYFUNCTION("IF(AND(OR(COUNTA(FILTER($P$2:$P146, ARRAYFORMULA(ISNUMBER(FIND($P$2:$P146, G63))))) > 0, COUNTA(FILTER($P$2:$P146, ARRAYFORMULA(ISNUMBER(FIND($P$2:$P146, L63))))) > 0), NOT(ISNUMBER(B63))), TRUE(), FALSE())"),FALSE) -> FALSE | R63: =IFERROR(__xludf.DUMMYFUNCTION("IF(ISNA(JOIN("", "", FILTER($P$2:$P146, ARRAYFORMULA(ISNUMBER(FIND($P$2:$P146, G63))), NOT(ISBLANK($P$2:$P146))))), "" "", JOIN("", "", FILTER($P$2:$P146, ARRAYFORMULA(ISNUMBER(FIND($P$2:$P146, G63))), NOT(ISBLANK($P$2:$P146)))))")," ") | S63: =IFERROR(__xludf.DUMMYFUNCTION("IF(ISNA(JOIN("", "", FILTER($P$2:$P146, ARRAYFORMULA(ISNUMBER(FIND($P$2:$P146, L63))), NOT(ISBLANK($P$2:$P146))))), "" "", JOIN("", "", FILTER($P$2:$P146, ARRAYFORMULA(ISNUMBER(FIND($P$2:$P146, L63))), NOT(ISBLANK($P$2:$P146)))))")," ")
D64: WS B | E64: 4 | G64: Shubhi Yadav, CON | I64: v | L64: Mackenzie Pilon, BOR | M64: 21-16, 19-21, 19-21 | N64: CON WITHDRAWAL | O64: =IFERROR(__xludf.DUMMYFUNCTION("IF(ROW(B64) > MAX(IFERROR(MATCH(1, B:B, 0), 0), IFERROR(MATCH(2, B:B, 0), 0), IFERROR(MATCH(3, B:B, 0), 0), IFERROR(MATCH(4, B:B, 0), 0), IFERROR(MATCH(5, B:B, 0), 0), IFERROR(MATCH(6, B:B, 0), 0), IFERROR(MATCH(7, B:B, 0), 0), IFERROR(MATCH(8, B:B, 1), 0"&")),NOT(ISERROR(FILTER(ARRAYFORMULA(IFERROR(SEARCH(INDIRECT(""$P$2:$P"" & TEXT(COUNTIF(($P$2:P146), ""<>""), ""0"")),G64 & "" "" & L64),"""")), ARRAYFORMULA(IFERROR(SEARCH(INDIRECT(""$P$2:$P"" & TEXT(COUNTIF(($P$2:P146), ""<>""), ""0"")),G64 & "" "" & L64)"&","""")) <> """"))), 0)"),FALSE) -> FALSE | Q64: =IFERROR(__xludf.DUMMYFUNCTION("IF(AND(OR(COUNTA(FILTER($P$2:$P146, ARRAYFORMULA(ISNUMBER(FIND($P$2:$P146, G64))))) > 0, COUNTA(FILTER($P$2:$P146, ARRAYFORMULA(ISNUMBER(FIND($P$2:$P146, L64))))) > 0), NOT(ISNUMBER(B64))), TRUE(), FALSE())"),FALSE) -> FALSE | R64: =IFERROR(__xludf.DUMMYFUNCTION("IF(ISNA(JOIN("", "", FILTER($P$2:$P146, ARRAYFORMULA(ISNUMBER(FIND($P$2:$P146, G64))), NOT(ISBLANK($P$2:$P146))))), "" "", JOIN("", "", FILTER($P$2:$P146, ARRAYFORMULA(ISNUMBER(FIND($P$2:$P146, G64))), NOT(ISBLANK($P$2:$P146)))))")," ") | S64: =IFERROR(__xludf.DUMMYFUNCTION("IF(ISNA(JOIN("", "", FILTER($P$2:$P146, ARRAYFORMULA(ISNUMBER(FIND($P$2:$P146, L64))), NOT(ISBLANK($P$2:$P146))))), "" "", JOIN("", "", FILTER($P$2:$P146, ARRAYFORMULA(ISNUMBER(FIND($P$2:$P146, L64))), NOT(ISBLANK($P$2:$P146)))))")," ")
A65: 64 | D65: WS B | E65: 4 | G65: Elena Meng, HUM | I65: v | L65: Chincco Lai, SEN | M65: 21-4, 21-5 | O65: =IFERROR(__xludf.DUMMYFUNCTION("IF(ROW(B65) > MAX(IFERROR(MATCH(1, B:B, 0), 0), IFERROR(MATCH(2, B:B, 0), 0), IFERROR(MATCH(3, B:B, 0), 0), IFERROR(MATCH(4, B:B, 0), 0), IFERROR(MATCH(5, B:B, 0), 0), IFERROR(MATCH(6, B:B, 0), 0), IFERROR(MATCH(7, B:B, 0), 0), IFERROR(MATCH(8, B:B, 1), 0"&")),NOT(ISERROR(FILTER(ARRAYFORMULA(IFERROR(SEARCH(INDIRECT(""$P$2:$P"" & TEXT(COUNTIF(($P$2:P146), ""<>""), ""0"")),G65 & "" "" & L65),"""")), ARRAYFORMULA(IFERROR(SEARCH(INDIRECT(""$P$2:$P"" & TEXT(COUNTIF(($P$2:P146), ""<>""), ""0"")),G65 & "" "" & L65)"&","""")) <> """"))), 0)"),FALSE) -> FALSE | Q65: =IFERROR(__xludf.DUMMYFUNCTION("IF(AND(OR(COUNTA(FILTER($P$2:$P146, ARRAYFORMULA(ISNUMBER(FIND($P$2:$P146, G65))))) > 0, COUNTA(FILTER($P$2:$P146, ARRAYFORMULA(ISNUMBER(FIND($P$2:$P146, L65))))) > 0), NOT(ISNUMBER(B65))), TRUE(), FALSE())"),FALSE) -> FALSE | R65: =IFERROR(__xludf.DUMMYFUNCTION("IF(ISNA(JOIN("", "", FILTER($P$2:$P146, ARRAYFORMULA(ISNUMBER(FIND($P$2:$P146, G65))), NOT(ISBLANK($P$2:$P146))))), "" "", JOIN("", "", FILTER($P$2:$P146, ARRAYFORMULA(ISNUMBER(FIND($P$2:$P146, G65))), NOT(ISBLANK($P$2:$P146)))))")," ") | S65: =IFERROR(__xludf.DUMMYFUNCTION("IF(ISNA(JOIN("", "", FILTER($P$2:$P146, ARRAYFORMULA(ISNUMBER(FIND($P$2:$P146, L65))), NOT(ISBLANK($P$2:$P146))))), "" "", JOIN("", "", FILTER($P$2:$P146, ARRAYFORMULA(ISNUMBER(FIND($P$2:$P146, L65))), NOT(ISBLANK($P$2:$P146)))))")," ")
A66: 65 | D66: WS A | E66: 4 | G66: Rachel Chan, HUM | I66: v | L66: Tiffany Amper, SEN | O66: =IFERROR(__xludf.DUMMYFUNCTION("IF(ROW(#REF!) > MAX(IFERROR(MATCH(1, B:B, 0), 0), IFERROR(MATCH(2, B:B, 0), 0), IFERROR(MATCH(3, B:B, 0), 0), IFERROR(MATCH(4, B:B, 0), 0), IFERROR(MATCH(5, B:B, 0), 0), IFERROR(MATCH(6, B:B, 0), 0), IFERROR(MATCH(7, B:B, 0), 0), IFERROR(MATCH(8, B:B, 1),"&" 0)),NOT(ISERROR(FILTER(ARRAYFORMULA(IFERROR(SEARCH(INDIRECT(""$P$2:$P"" & TEXT(COUNTIF(($P$2:P146), ""<>""), ""0"")),G66 & "" "" & L66),"""")), ARRAYFORMULA(IFERROR(SEARCH(INDIRECT(""$P$2:$P"" & TEXT(COUNTIF(($P$2:P146), ""<>""), ""0"")),G66 & "" "" & L6"&"6),"""")) <> """"))), 0)"),"#REF!") -> #REF! | Q66: =IFERROR(__xludf.DUMMYFUNCTION("IF(AND(OR(COUNTA(FILTER($P$2:$P146, ARRAYFORMULA(ISNUMBER(FIND($P$2:$P146, G66))))) > 0, COUNTA(FILTER($P$2:$P146, ARRAYFORMULA(ISNUMBER(FIND($P$2:$P146, L66))))) > 0), NOT(ISNUMBER(B66))), TRUE(), FALSE())"),FALSE) -> FALSE | R66: =IFERROR(__xludf.DUMMYFUNCTION("IF(ISNA(JOIN("", "", FILTER($P$2:$P146, ARRAYFORMULA(ISNUMBER(FIND($P$2:$P146, G66))), NOT(ISBLANK($P$2:$P146))))), "" "", JOIN("", "", FILTER($P$2:$P146, ARRAYFORMULA(ISNUMBER(FIND($P$2:$P146, G66))), NOT(ISBLANK($P$2:$P146)))))")," ") | S66: =IFERROR(__xludf.DUMMYFUNCTION("IF(ISNA(JOIN("", "", FILTER($P$2:$P146, ARRAYFORMULA(ISNUMBER(FIND($P$2:$P146, L66))), NOT(ISBLANK($P$2:$P146))))), "" "", JOIN("", "", FILTER($P$2:$P146, ARRAYFORMULA(ISNUMBER(FIND($P$2:$P146, L66))), NOT(ISBLANK($P$2:$P146)))))")," ")
A67: 66 | D67: WS A | E67: 4 | G67: Chelsea Kennedy, CAM | I67: v | L67: Alyssa Gagne, BOR | M67: 21-9, 21-10 | O67: =IFERROR(__xludf.DUMMYFUNCTION("IF(ROW(B67) > MAX(IFERROR(MATCH(1, B:B, 0), 0), IFERROR(MATCH(2, B:B, 0), 0), IFERROR(MATCH(3, B:B, 0), 0), IFERROR(MATCH(4, B:B, 0), 0), IFERROR(MATCH(5, B:B, 0), 0), IFERROR(MATCH(6, B:B, 0), 0), IFERROR(MATCH(7, B:B, 0), 0), IFERROR(MATCH(8, B:B, 1), 0"&")),NOT(ISERROR(FILTER(ARRAYFORMULA(IFERROR(SEARCH(INDIRECT(""$P$2:$P"" & TEXT(COUNTIF(($P$2:P146), ""<>""), ""0"")),G67 & "" "" & L67),"""")), ARRAYFORMULA(IFERROR(SEARCH(INDIRECT(""$P$2:$P"" & TEXT(COUNTIF(($P$2:P146), ""<>""), ""0"")),G67 & "" "" & L67)"&","""")) <> """"))), 0)"),FALSE) -> FALSE | Q67: =IFERROR(__xludf.DUMMYFUNCTION("IF(AND(OR(COUNTA(FILTER($P$2:$P146, ARRAYFORMULA(ISNUMBER(FIND($P$2:$P146, G67))))) > 0, COUNTA(FILTER($P$2:$P146, ARRAYFORMULA(ISNUMBER(FIND($P$2:$P146, L67))))) > 0), NOT(ISNUMBER(B67))), TRUE(), FALSE())"),FALSE) -> FALSE | R67: =IFERROR(__xludf.DUMMYFUNCTION("IF(ISNA(JOIN("", "", FILTER($P$2:$P146, ARRAYFORMULA(ISNUMBER(FIND($P$2:$P146, G67))), NOT(ISBLANK($P$2:$P146))))), "" "", JOIN("", "", FILTER($P$2:$P146, ARRAYFORMULA(ISNUMBER(FIND($P$2:$P146, G67))), NOT(ISBLANK($P$2:$P146)))))")," ") | S67: =IFERROR(__xludf.DUMMYFUNCTION("IF(ISNA(JOIN("", "", FILTER($P$2:$P146, ARRAYFORMULA(ISNUMBER(FIND($P$2:$P146, L67))), NOT(ISBLANK($P$2:$P146))))), "" "", JOIN("", "", FILTER($P$2:$P146, ARRAYFORMULA(ISNUMBER(FIND($P$2:$P146, L67))), NOT(ISBLANK($P$2:$P146)))))")," ")
A68: 67 | D68: MD | E68: 4 | G68: B. Lai & J. Lau, SEN | I68: v | L68: G. Clark & L. Aarts, LAM | M68: 21-5, 21-6 | O68: =IFERROR(__xludf.DUMMYFUNCTION("IF(ROW(#REF!) > MAX(IFERROR(MATCH(1, B:B, 0), 0), IFERROR(MATCH(2, B:B, 0), 0), IFERROR(MATCH(3, B:B, 0), 0), IFERROR(MATCH(4, B:B, 0), 0), IFERROR(MATCH(5, B:B, 0), 0), IFERROR(MATCH(6, B:B, 0), 0), IFERROR(MATCH(7, B:B, 0), 0), IFERROR(MATCH(8, B:B, 1),"&" 0)),NOT(ISERROR(FILTER(ARRAYFORMULA(IFERROR(SEARCH(INDIRECT(""$P$2:$P"" & TEXT(COUNTIF(($P$2:P146), ""<>""), ""0"")),G68 & "" "" & L68),"""")), ARRAYFORMULA(IFERROR(SEARCH(INDIRECT(""$P$2:$P"" & TEXT(COUNTIF(($P$2:P146), ""<>""), ""0"")),G68 & "" "" & L6"&"8),"""")) <> """"))), 0)"),"#REF!") -> #REF! | Q68: =IFERROR(__xludf.DUMMYFUNCTION("IF(AND(OR(COUNTA(FILTER($P$2:$P146, ARRAYFORMULA(ISNUMBER(FIND($P$2:$P146, G68))))) > 0, COUNTA(FILTER($P$2:$P146, ARRAYFORMULA(ISNUMBER(FIND($P$2:$P146, L68))))) > 0), NOT(ISNUMBER(B68))), TRUE(), FALSE())"),FALSE) -> FALSE | R68: =IFERROR(__xludf.DUMMYFUNCTION("IF(ISNA(JOIN("", "", FILTER($P$2:$P146, ARRAYFORMULA(ISNUMBER(FIND($P$2:$P146, G68))), NOT(ISBLANK($P$2:$P146))))), "" "", JOIN("", "", FILTER($P$2:$P146, ARRAYFORMULA(ISNUMBER(FIND($P$2:$P146, G68))), NOT(ISBLANK($P$2:$P146)))))")," ") | S68: =IFERROR(__xludf.DUMMYFUNCTION("IF(ISNA(JOIN("", "", FILTER($P$2:$P146, ARRAYFORMULA(ISNUMBER(FIND($P$2:$P146, L68))), NOT(ISBLANK($P$2:$P146))))), "" "", JOIN("", "", FILTER($P$2:$P146, ARRAYFORMULA(ISNUMBER(FIND($P$2:$P146, L68))), NOT(ISBLANK($P$2:$P146)))))")," ")
A69: 68 | D69: MD | E69: 4 | G69: H. Joshy John & G. Hebner, CAM | I69: v | L69: T. Le & T. Nguyen, FAN | M69: 15-21, 5-21 | O69: =IFERROR(__xludf.DUMMYFUNCTION("IF(ROW(B68) > MAX(IFERROR(MATCH(1, B:B, 0), 0), IFERROR(MATCH(2, B:B, 0), 0), IFERROR(MATCH(3, B:B, 0), 0), IFERROR(MATCH(4, B:B, 0), 0), IFERROR(MATCH(5, B:B, 0), 0), IFERROR(MATCH(6, B:B, 0), 0), IFERROR(MATCH(7, B:B, 0), 0), IFERROR(MATCH(8, B:B, 1), 0"&")),NOT(ISERROR(FILTER(ARRAYFORMULA(IFERROR(SEARCH(INDIRECT(""$P$2:$P"" & TEXT(COUNTIF(($P$2:P146), ""<>""), ""0"")),G69 & "" "" & L69),"""")), ARRAYFORMULA(IFERROR(SEARCH(INDIRECT(""$P$2:$P"" & TEXT(COUNTIF(($P$2:P146), ""<>""), ""0"")),G69 & "" "" & L69)"&","""")) <> """"))), 0)"),FALSE) -> FALSE | Q69: =IFERROR(__xludf.DUMMYFUNCTION("IF(AND(OR(COUNTA(FILTER($P$2:$P146, ARRAYFORMULA(ISNUMBER(FIND($P$2:$P146, G69))))) > 0, COUNTA(FILTER($P$2:$P146, ARRAYFORMULA(ISNUMBER(FIND($P$2:$P146, L69))))) > 0), NOT(ISNUMBER(B69))), TRUE(), FALSE())"),FALSE) -> FALSE | R69: =IFERROR(__xludf.DUMMYFUNCTION("IF(ISNA(JOIN("", "", FILTER($P$2:$P146, ARRAYFORMULA(ISNUMBER(FIND($P$2:$P146, G69))), NOT(ISBLANK($P$2:$P146))))), "" "", JOIN("", "", FILTER($P$2:$P146, ARRAYFORMULA(ISNUMBER(FIND($P$2:$P146, G69))), NOT(ISBLANK($P$2:$P146)))))")," ") | S69: =IFERROR(__xludf.DUMMYFUNCTION("IF(ISNA(JOIN("", "", FILTER($P$2:$P146, ARRAYFORMULA(ISNUMBER(FIND($P$2:$P146, L69))), NOT(ISBLANK($P$2:$P146))))), "" "", JOIN("", "", FILTER($P$2:$P146, ARRAYFORMULA(ISNUMBER(FIND($P$2:$P146, L69))), NOT(ISBLANK($P$2:$P146)))))")," ")
A70: 69 | D70: MD | E70: 4 | G70: T. Vicente-Pereira & Miranda, HUM | I70: v | L70: A. Atkins & E. Leduc, BOR | M70: 21-12, 21-15 | O70: =IFERROR(__xludf.DUMMYFUNCTION("IF(ROW(B66) > MAX(IFERROR(MATCH(1, B:B, 0), 0), IFERROR(MATCH(2, B:B, 0), 0), IFERROR(MATCH(3, B:B, 0), 0), IFERROR(MATCH(4, B:B, 0), 0), IFERROR(MATCH(5, B:B, 0), 0), IFERROR(MATCH(6, B:B, 0), 0), IFERROR(MATCH(7, B:B, 0), 0), IFERROR(MATCH(8, B:B, 1), 0"&")),NOT(ISERROR(FILTER(ARRAYFORMULA(IFERROR(SEARCH(INDIRECT(""$P$2:$P"" & TEXT(COUNTIF(($P$2:P146), ""<>""), ""0"")),G70 & "" "" & L70),"""")), ARRAYFORMULA(IFERROR(SEARCH(INDIRECT(""$P$2:$P"" & TEXT(COUNTIF(($P$2:P146), ""<>""), ""0"")),G70 & "" "" & L70)"&","""")) <> """"))), 0)"),FALSE) -> FALSE | Q70: =IFERROR(__xludf.DUMMYFUNCTION("IF(AND(OR(COUNTA(FILTER($P$2:$P146, ARRAYFORMULA(ISNUMBER(FIND($P$2:$P146, G70))))) > 0, COUNTA(FILTER($P$2:$P146, ARRAYFORMULA(ISNUMBER(FIND($P$2:$P146, L70))))) > 0), NOT(ISNUMBER(B84))), TRUE(), FALSE())"),FALSE) -> FALSE | R70: =IFERROR(__xludf.DUMMYFUNCTION("IF(ISNA(JOIN("", "", FILTER($P$2:$P146, ARRAYFORMULA(ISNUMBER(FIND($P$2:$P146, G70))), NOT(ISBLANK($P$2:$P146))))), "" "", JOIN("", "", FILTER($P$2:$P146, ARRAYFORMULA(ISNUMBER(FIND($P$2:$P146, G70))), NOT(ISBLANK($P$2:$P146)))))")," ") | S70: =IFERROR(__xludf.DUMMYFUNCTION("IF(ISNA(JOIN("", "", FILTER($P$2:$P146, ARRAYFORMULA(ISNUMBER(FIND($P$2:$P146, L70))), NOT(ISBLANK($P$2:$P146))))), "" "", JOIN("", "", FILTER($P$2:$P146, ARRAYFORMULA(ISNUMBER(FIND($P$2:$P146, L70))), NOT(ISBLANK($P$2:$P146)))))")," ")
A71: 70 | D71: XD | E71: 4 | G71: N. Bridge & M. Muqeem, CON | I71: v | L71: D. Brunette-Royer & J. Hopkins, CAM | M71: 16-21, 20-22 | O71: =IFERROR(__xludf.DUMMYFUNCTION("IF(ROW(B84) > MAX(IFERROR(MATCH(1, B:B, 0), 0), IFERROR(MATCH(2, B:B, 0), 0), IFERROR(MATCH(3, B:B, 0), 0), IFERROR(MATCH(4, B:B, 0), 0), IFERROR(MATCH(5, B:B, 0), 0), IFERROR(MATCH(6, B:B, 0), 0), IFERROR(MATCH(7, B:B, 0), 0), IFERROR(MATCH(8, B:B, 1), 0"&")),NOT(ISERROR(FILTER(ARRAYFORMULA(IFERROR(SEARCH(INDIRECT(""$P$2:$P"" & TEXT(COUNTIF(($P$2:P146), ""<>""), ""0"")),G71 & "" "" & L71),"""")), ARRAYFORMULA(IFERROR(SEARCH(INDIRECT(""$P$2:$P"" & TEXT(COUNTIF(($P$2:P146), ""<>""), ""0"")),G71 & "" "" & L71)"&","""")) <> """"))), 0)"),FALSE) -> FALSE | Q71: =IFERROR(__xludf.DUMMYFUNCTION("IF(AND(OR(COUNTA(FILTER($P$2:$P146, ARRAYFORMULA(ISNUMBER(FIND($P$2:$P146, G71))))) > 0, COUNTA(FILTER($P$2:$P146, ARRAYFORMULA(ISNUMBER(FIND($P$2:$P146, L71))))) > 0), NOT(ISNUMBER(B83))), TRUE(), FALSE())"),FALSE) -> FALSE | R71: =IFERROR(__xludf.DUMMYFUNCTION("IF(ISNA(JOIN("", "", FILTER($P$2:$P146, ARRAYFORMULA(ISNUMBER(FIND($P$2:$P146, G71))), NOT(ISBLANK($P$2:$P146))))), "" "", JOIN("", "", FILTER($P$2:$P146, ARRAYFORMULA(ISNUMBER(FIND($P$2:$P146, G71))), NOT(ISBLANK($P$2:$P146)))))")," ") | S71: =IFERROR(__xludf.DUMMYFUNCTION("IF(ISNA(JOIN("", "", FILTER($P$2:$P146, ARRAYFORMULA(ISNUMBER(FIND($P$2:$P146, L71))), NOT(ISBLANK($P$2:$P146))))), "" "", JOIN("", "", FILTER($P$2:$P146, ARRAYFORMULA(ISNUMBER(FIND($P$2:$P146, L71))), NOT(ISBLANK($P$2:$P146)))))")," ")
A72: 71 | D72: XD | E72: 4 | G72: A. Tso & A. Iran, SEN | I72: v | L72: J. Ronahan & C. Choi, HUM | M72: 14-21, 9-21 | O72: =IFERROR(__xludf.DUMMYFUNCTION("IF(ROW(#REF!) > MAX(IFERROR(MATCH(1, B:B, 0), 0), IFERROR(MATCH(2, B:B, 0), 0), IFERROR(MATCH(3, B:B, 0), 0), IFERROR(MATCH(4, B:B, 0), 0), IFERROR(MATCH(5, B:B, 0), 0), IFERROR(MATCH(6, B:B, 0), 0), IFERROR(MATCH(7, B:B, 0), 0), IFERROR(MATCH(8, B:B, 1),"&" 0)),NOT(ISERROR(FILTER(ARRAYFORMULA(IFERROR(SEARCH(INDIRECT(""$P$2:$P"" & TEXT(COUNTIF(($P$2:P146), ""<>""), ""0"")),G72 & "" "" & L72),"""")), ARRAYFORMULA(IFERROR(SEARCH(INDIRECT(""$P$2:$P"" & TEXT(COUNTIF(($P$2:P146), ""<>""), ""0"")),G72 & "" "" & L7"&"2),"""")) <> """"))), 0)"),"#REF!") -> #REF! | Q72: =IFERROR(__xludf.DUMMYFUNCTION("IF(AND(OR(COUNTA(FILTER($P$2:$P146, ARRAYFORMULA(ISNUMBER(FIND($P$2:$P146, G72))))) > 0, COUNTA(FILTER($P$2:$P146, ARRAYFORMULA(ISNUMBER(FIND($P$2:$P146, L72))))) > 0), NOT(ISNUMBER(B81))), TRUE(), FALSE())"),FALSE) -> FALSE | R72: =IFERROR(__xludf.DUMMYFUNCTION("IF(ISNA(JOIN("", "", FILTER($P$2:$P146, ARRAYFORMULA(ISNUMBER(FIND($P$2:$P146, G72))), NOT(ISBLANK($P$2:$P146))))), "" "", JOIN("", "", FILTER($P$2:$P146, ARRAYFORMULA(ISNUMBER(FIND($P$2:$P146, G72))), NOT(ISBLANK($P$2:$P146)))))")," ") | S72: =IFERROR(__xludf.DUMMYFUNCTION("IF(ISNA(JOIN("", "", FILTER($P$2:$P146, ARRAYFORMULA(ISNUMBER(FIND($P$2:$P146, L72))), NOT(ISBLANK($P$2:$P146))))), "" "", JOIN("", "", FILTER($P$2:$P146, ARRAYFORMULA(ISNUMBER(FIND($P$2:$P146, L72))), NOT(ISBLANK($P$2:$P146)))))")," ")
A73: 72 | D73: XD | E73: 4 | G73: C. Clayton & J. Hillier, LAM | I73: v | L73: J. Atkins & L. Richards, BOR | M73: 18-21, 21-18, 19-21 | O73: =IFERROR(__xludf.DUMMYFUNCTION("IF(ROW(#REF!) > MAX(IFERROR(MATCH(1, B:B, 0), 0), IFERROR(MATCH(2, B:B, 0), 0), IFERROR(MATCH(3, B:B, 0), 0), IFERROR(MATCH(4, B:B, 0), 0), IFERROR(MATCH(5, B:B, 0), 0), IFERROR(MATCH(6, B:B, 0), 0), IFERROR(MATCH(7, B:B, 0), 0), IFERROR(MATCH(8, B:B, 1),"&" 0)),NOT(ISERROR(FILTER(ARRAYFORMULA(IFERROR(SEARCH(INDIRECT(""$P$2:$P"" & TEXT(COUNTIF(($P$2:P146), ""<>""), ""0"")),G73 & "" "" & L73),"""")), ARRAYFORMULA(IFERROR(SEARCH(INDIRECT(""$P$2:$P"" & TEXT(COUNTIF(($P$2:P146), ""<>""), ""0"")),G73 & "" "" & L7"&"3),"""")) <> """"))), 0)"),"#REF!") -> #REF! | Q73: =IFERROR(__xludf.DUMMYFUNCTION("IF(AND(OR(COUNTA(FILTER($P$2:$P146, ARRAYFORMULA(ISNUMBER(FIND($P$2:$P146, G73))))) > 0, COUNTA(FILTER($P$2:$P146, ARRAYFORMULA(ISNUMBER(FIND($P$2:$P146, L73))))) > 0), NOT(ISNUMBER(B73))), TRUE(), FALSE())"),FALSE) -> FALSE | R73: =IFERROR(__xludf.DUMMYFUNCTION("IF(ISNA(JOIN("", "", FILTER($P$2:$P146, ARRAYFORMULA(ISNUMBER(FIND($P$2:$P146, G73))), NOT(ISBLANK($P$2:$P146))))), "" "", JOIN("", "", FILTER($P$2:$P146, ARRAYFORMULA(ISNUMBER(FIND($P$2:$P146, G73))), NOT(ISBLANK($P$2:$P146)))))")," ") | S73: =IFERROR(__xludf.DUMMYFUNCTION("IF(ISNA(JOIN("", "", FILTER($P$2:$P146, ARRAYFORMULA(ISNUMBER(FIND($P$2:$P146, L73))), NOT(ISBLANK($P$2:$P146))))), "" "", JOIN("", "", FILTER($P$2:$P146, ARRAYFORMULA(ISNUMBER(FIND($P$2:$P146, L73))), NOT(ISBLANK($P$2:$P146)))))")," ")
A74: 73 | D74: MS B | E74: 5 | G74: Grey Pope, BOR | I74: v | L74: Maulik Jain, SEN | M74: 7-21, 7-21 | N74: ROUND 5 BYES: M. Smith, LAM, C.Kennedy, CAM, MD SEN, XD HUM | O74: =IFERROR(__xludf.DUMMYFUNCTION("IF(ROW(B79) > MAX(IFERROR(MATCH(1, B:B, 0), 0), IFERROR(MATCH(2, B:B, 0), 0), IFERROR(MATCH(3, B:B, 0), 0), IFERROR(MATCH(4, B:B, 0), 0), IFERROR(MATCH(5, B:B, 0), 0), IFERROR(MATCH(6, B:B, 0), 0), IFERROR(MATCH(7, B:B, 0), 0), IFERROR(MATCH(8, B:B, 1), 0"&")),NOT(ISERROR(FILTER(ARRAYFORMULA(IFERROR(SEARCH(INDIRECT(""$P$2:$P"" & TEXT(COUNTIF(($P$2:P146), ""<>""), ""0"")),G74 & "" "" & L74),"""")), ARRAYFORMULA(IFERROR(SEARCH(INDIRECT(""$P$2:$P"" & TEXT(COUNTIF(($P$2:P146), ""<>""), ""0"")),G74 & "" "" & L74)"&","""")) <> """"))), 0)"),FALSE) -> FALSE | Q74: =IFERROR(__xludf.DUMMYFUNCTION("IF(AND(OR(COUNTA(FILTER($P$2:$P146, ARRAYFORMULA(ISNUMBER(FIND($P$2:$P146, G74))))) > 0, COUNTA(FILTER($P$2:$P146, ARRAYFORMULA(ISNUMBER(FIND($P$2:$P146, L74))))) > 0), NOT(ISNUMBER(B79))), TRUE(), FALSE())"),FALSE) -> FALSE | R74: =IFERROR(__xludf.DUMMYFUNCTION("IF(ISNA(JOIN("", "", FILTER($P$2:$P146, ARRAYFORMULA(ISNUMBER(FIND($P$2:$P146, G74))), NOT(ISBLANK($P$2:$P146))))), "" "", JOIN("", "", FILTER($P$2:$P146, ARRAYFORMULA(ISNUMBER(FIND($P$2:$P146, G74))), NOT(ISBLANK($P$2:$P146)))))")," ") | S74: =IFERROR(__xludf.DUMMYFUNCTION("IF(ISNA(JOIN("", "", FILTER($P$2:$P146, ARRAYFORMULA(ISNUMBER(FIND($P$2:$P146, L74))), NOT(ISBLANK($P$2:$P146))))), "" "", JOIN("", "", FILTER($P$2:$P146, ARRAYFORMULA(ISNUMBER(FIND($P$2:$P146, L74))), NOT(ISBLANK($P$2:$P146)))))")," ")
A75: 74 | D75: MS B | E75: 5 | G75: Thinh Nguyen, CON | I75: v | L75: Arpi Sinha, FAN | M75: 2-21, 8-21 | O75: =IFERROR(__xludf.DUMMYFUNCTION("IF(ROW(B75) > MAX(IFERROR(MATCH(1, B:B, 0), 0), IFERROR(MATCH(2, B:B, 0), 0), IFERROR(MATCH(3, B:B, 0), 0), IFERROR(MATCH(4, B:B, 0), 0), IFERROR(MATCH(5, B:B, 0), 0), IFERROR(MATCH(6, B:B, 0), 0), IFERROR(MATCH(7, B:B, 0), 0), IFERROR(MATCH(8, B:B, 1), 0"&")),NOT(ISERROR(FILTER(ARRAYFORMULA(IFERROR(SEARCH(INDIRECT(""$P$2:$P"" & TEXT(COUNTIF(($P$2:P146), ""<>""), ""0"")),G75 & "" "" & L75),"""")), ARRAYFORMULA(IFERROR(SEARCH(INDIRECT(""$P$2:$P"" & TEXT(COUNTIF(($P$2:P146), ""<>""), ""0"")),G75 & "" "" & L75)"&","""")) <> """"))), 0)"),FALSE) -> FALSE | Q75: =IFERROR(__xludf.DUMMYFUNCTION("IF(AND(OR(COUNTA(FILTER($P$2:$P146, ARRAYFORMULA(ISNUMBER(FIND($P$2:$P146, G75))))) > 0, COUNTA(FILTER($P$2:$P146, ARRAYFORMULA(ISNUMBER(FIND($P$2:$P146, L75))))) > 0), NOT(ISNUMBER(B75))), TRUE(), FALSE())"),FALSE) -> FALSE | R75: =IFERROR(__xludf.DUMMYFUNCTION("IF(ISNA(JOIN("", "", FILTER($P$2:$P146, ARRAYFORMULA(ISNUMBER(FIND($P$2:$P146, G75))), NOT(ISBLANK($P$2:$P146))))), "" "", JOIN("", "", FILTER($P$2:$P146, ARRAYFORMULA(ISNUMBER(FIND($P$2:$P146, G75))), NOT(ISBLANK($P$2:$P146)))))")," ") | S75: =IFERROR(__xludf.DUMMYFUNCTION("IF(ISNA(JOIN("", "", FILTER($P$2:$P146, ARRAYFORMULA(ISNUMBER(FIND($P$2:$P146, L75))), NOT(ISBLANK($P$2:$P146))))), "" "", JOIN("", "", FILTER($P$2:$P146, ARRAYFORMULA(ISNUMBER(FIND($P$2:$P146, L75))), NOT(ISBLANK($P$2:$P146)))))")," ")
A76: 75 | D76: MS B | E76: 5 | G76: Reanbert Valentino, HUM | I76: v | L76: Daniel Collins, CAM | M76: 21-15, 22-20 | O76: =IFERROR(__xludf.DUMMYFUNCTION("IF(ROW(B80) > MAX(IFERROR(MATCH(1, B:B, 0), 0), IFERROR(MATCH(2, B:B, 0), 0), IFERROR(MATCH(3, B:B, 0), 0), IFERROR(MATCH(4, B:B, 0), 0), IFERROR(MATCH(5, B:B, 0), 0), IFERROR(MATCH(6, B:B, 0), 0), IFERROR(MATCH(7, B:B, 0), 0), IFERROR(MATCH(8, B:B, 1), 0"&")),NOT(ISERROR(FILTER(ARRAYFORMULA(IFERROR(SEARCH(INDIRECT(""$P$2:$P"" & TEXT(COUNTIF(($P$2:P146), ""<>""), ""0"")),G76 & "" "" & L76),"""")), ARRAYFORMULA(IFERROR(SEARCH(INDIRECT(""$P$2:$P"" & TEXT(COUNTIF(($P$2:P146), ""<>""), ""0"")),G76 & "" "" & L76)"&","""")) <> """"))), 0)"),FALSE) -> FALSE | Q76: =IFERROR(__xludf.DUMMYFUNCTION("IF(AND(OR(COUNTA(FILTER($P$2:$P146, ARRAYFORMULA(ISNUMBER(FIND($P$2:$P146, G76))))) > 0, COUNTA(FILTER($P$2:$P146, ARRAYFORMULA(ISNUMBER(FIND($P$2:$P146, L76))))) > 0), NOT(ISNUMBER(B80))), TRUE(), FALSE())"),FALSE) -> FALSE | R76: =IFERROR(__xludf.DUMMYFUNCTION("IF(ISNA(JOIN("", "", FILTER($P$2:$P146, ARRAYFORMULA(ISNUMBER(FIND($P$2:$P146, G76))), NOT(ISBLANK($P$2:$P146))))), "" "", JOIN("", "", FILTER($P$2:$P146, ARRAYFORMULA(ISNUMBER(FIND($P$2:$P146, G76))), NOT(ISBLANK($P$2:$P146)))))")," ") | S76: =IFERROR(__xludf.DUMMYFUNCTION("IF(ISNA(JOIN("", "", FILTER($P$2:$P146, ARRAYFORMULA(ISNUMBER(FIND($P$2:$P146, L76))), NOT(ISBLANK($P$2:$P146))))), "" "", JOIN("", "", FILTER($P$2:$P146, ARRAYFORMULA(ISNUMBER(FIND($P$2:$P146, L76))), NOT(ISBLANK($P$2:$P146)))))")," ")
A77: 76 | D77: MS A | E77: 5 | G77: Tim Lock, HUM | I77: v | L77: Prabhkirat Singh, CAM | M77: 21-0, 21-2 | O77: =IFERROR(__xludf.DUMMYFUNCTION("IF(ROW(B82) > MAX(IFERROR(MATCH(1, B:B, 0), 0), IFERROR(MATCH(2, B:B, 0), 0), IFERROR(MATCH(3, B:B, 0), 0), IFERROR(MATCH(4, B:B, 0), 0), IFERROR(MATCH(5, B:B, 0), 0), IFERROR(MATCH(6, B:B, 0), 0), IFERROR(MATCH(7, B:B, 0), 0), IFERROR(MATCH(8, B:B, 1), 0"&")),NOT(ISERROR(FILTER(ARRAYFORMULA(IFERROR(SEARCH(INDIRECT(""$P$2:$P"" & TEXT(COUNTIF(($P$2:P146), ""<>""), ""0"")),G77 & "" "" & L77),"""")), ARRAYFORMULA(IFERROR(SEARCH(INDIRECT(""$P$2:$P"" & TEXT(COUNTIF(($P$2:P146), ""<>""), ""0"")),G77 & "" "" & L77)"&","""")) <> """"))), 0)"),FALSE) -> FALSE | Q77: =IFERROR(__xludf.DUMMYFUNCTION("IF(AND(OR(COUNTA(FILTER($P$2:$P146, ARRAYFORMULA(ISNUMBER(FIND($P$2:$P146, G77))))) > 0, COUNTA(FILTER($P$2:$P146, ARRAYFORMULA(ISNUMBER(FIND($P$2:$P146, L77))))) > 0), NOT(ISNUMBER(B82))), TRUE(), FALSE())"),FALSE) -> FALSE | R77: =IFERROR(__xludf.DUMMYFUNCTION("IF(ISNA(JOIN("", "", FILTER($P$2:$P146, ARRAYFORMULA(ISNUMBER(FIND($P$2:$P146, G77))), NOT(ISBLANK($P$2:$P146))))), "" "", JOIN("", "", FILTER($P$2:$P146, ARRAYFORMULA(ISNUMBER(FIND($P$2:$P146, G77))), NOT(ISBLANK($P$2:$P146)))))")," ") | S77: =IFERROR(__xludf.DUMMYFUNCTION("IF(ISNA(JOIN("", "", FILTER($P$2:$P146, ARRAYFORMULA(ISNUMBER(FIND($P$2:$P146, L77))), NOT(ISBLANK($P$2:$P146))))), "" "", JOIN("", "", FILTER($P$2:$P146, ARRAYFORMULA(ISNUMBER(FIND($P$2:$P146, L77))), NOT(ISBLANK($P$2:$P146)))))")," ")
A78: 77 | D78: MS A | E78: 5 | G78: Sebastien Liu, SEN | I78: v | L78: Ram Ng, FAN | M78: 21-15, 21-14 | O78: =IFERROR(__xludf.DUMMYFUNCTION("IF(ROW(B85) > MAX(IFERROR(MATCH(1, B:B, 0), 0), IFERROR(MATCH(2, B:B, 0), 0), IFERROR(MATCH(3, B:B, 0), 0), IFERROR(MATCH(4, B:B, 0), 0), IFERROR(MATCH(5, B:B, 0), 0), IFERROR(MATCH(6, B:B, 0), 0), IFERROR(MATCH(7, B:B, 0), 0), IFERROR(MATCH(8, B:B, 1), 0"&")),NOT(ISERROR(FILTER(ARRAYFORMULA(IFERROR(SEARCH(INDIRECT(""$P$2:$P"" & TEXT(COUNTIF(($P$2:P146), ""<>""), ""0"")),G78 & "" "" & L78),"""")), ARRAYFORMULA(IFERROR(SEARCH(INDIRECT(""$P$2:$P"" & TEXT(COUNTIF(($P$2:P146), ""<>""), ""0"")),G78 & "" "" & L78)"&","""")) <> """"))), 0)"),FALSE) -> FALSE | Q78: =IFERROR(__xludf.DUMMYFUNCTION("IF(AND(OR(COUNTA(FILTER($P$2:$P146, ARRAYFORMULA(ISNUMBER(FIND($P$2:$P146, G78))))) > 0, COUNTA(FILTER($P$2:$P146, ARRAYFORMULA(ISNUMBER(FIND($P$2:$P146, L78))))) > 0), NOT(ISNUMBER(B85))), TRUE(), FALSE())"),FALSE) -> FALSE | R78: =IFERROR(__xludf.DUMMYFUNCTION("IF(ISNA(JOIN("", "", FILTER($P$2:$P146, ARRAYFORMULA(ISNUMBER(FIND($P$2:$P146, G78))), NOT(ISBLANK($P$2:$P146))))), "" "", JOIN("", "", FILTER($P$2:$P146, ARRAYFORMULA(ISNUMBER(FIND($P$2:$P146, G78))), NOT(ISBLANK($P$2:$P146)))))")," ") | S78: =IFERROR(__xludf.DUMMYFUNCTION("IF(ISNA(JOIN("", "", FILTER($P$2:$P146, ARRAYFORMULA(ISNUMBER(FIND($P$2:$P146, L78))), NOT(ISBLANK($P$2:$P146))))), "" "", JOIN("", "", FILTER($P$2:$P146, ARRAYFORMULA(ISNUMBER(FIND($P$2:$P146, L78))), NOT(ISBLANK($P$2:$P146)))))")," ")
A79: 78 | D79: MS A | E79: 5 | G79: Dalton Baxter, LAM | I79: v | L79: Akashdeep Singh, CON | M79: 7-21, 7-21 | O79: =IFERROR(__xludf.DUMMYFUNCTION("IF(ROW(#REF!) > MAX(IFERROR(MATCH(1, B:B, 0), 0), IFERROR(MATCH(2, B:B, 0), 0), IFERROR(MATCH(3, B:B, 0), 0), IFERROR(MATCH(4, B:B, 0), 0), IFERROR(MATCH(5, B:B, 0), 0), IFERROR(MATCH(6, B:B, 0), 0), IFERROR(MATCH(7, B:B, 0), 0), IFERROR(MATCH(8, B:B, 1),"&" 0)),NOT(ISERROR(FILTER(ARRAYFORMULA(IFERROR(SEARCH(INDIRECT(""$P$2:$P"" & TEXT(COUNTIF(($P$2:P146), ""<>""), ""0"")),G79 & "" "" & L79),"""")), ARRAYFORMULA(IFERROR(SEARCH(INDIRECT(""$P$2:$P"" & TEXT(COUNTIF(($P$2:P146), ""<>""), ""0"")),G79 & "" "" & L7"&"9),"""")) <> """"))), 0)"),"#REF!") -> #REF! | Q79: =IFERROR(__xludf.DUMMYFUNCTION("IF(AND(OR(COUNTA(FILTER($P$2:$P146, ARRAYFORMULA(ISNUMBER(FIND($P$2:$P146, G79))))) > 0, COUNTA(FILTER($P$2:$P146, ARRAYFORMULA(ISNUMBER(FIND($P$2:$P146, L79))))) > 0), NOT(ISNUMBER(#REF!))), TRUE(), FALSE())"),FALSE) -> FALSE | R79: =IFERROR(__xludf.DUMMYFUNCTION("IF(ISNA(JOIN("", "", FILTER($P$2:$P146, ARRAYFORMULA(ISNUMBER(FIND($P$2:$P146, G79))), NOT(ISBLANK($P$2:$P146))))), "" "", JOIN("", "", FILTER($P$2:$P146, ARRAYFORMULA(ISNUMBER(FIND($P$2:$P146, G79))), NOT(ISBLANK($P$2:$P146)))))")," ") | S79: =IFERROR(__xludf.DUMMYFUNCTION("IF(ISNA(JOIN("", "", FILTER($P$2:$P146, ARRAYFORMULA(ISNUMBER(FIND($P$2:$P146, L79))), NOT(ISBLANK($P$2:$P146))))), "" "", JOIN("", "", FILTER($P$2:$P146, ARRAYFORMULA(ISNUMBER(FIND($P$2:$P146, L79))), NOT(ISBLANK($P$2:$P146)))))")," ")
A80: 79 | D80: WS A | E80: 5 | G80: Rachel Chan, HUM | I80: v | L80: Samantha Darby, FAN | M80: 21-5, 21-4 | O80: =IFERROR(__xludf.DUMMYFUNCTION("IF(ROW(#REF!) > MAX(IFERROR(MATCH(1, B:B, 0), 0), IFERROR(MATCH(2, B:B, 0), 0), IFERROR(MATCH(3, B:B, 0), 0), IFERROR(MATCH(4, B:B, 0), 0), IFERROR(MATCH(5, B:B, 0), 0), IFERROR(MATCH(6, B:B, 0), 0), IFERROR(MATCH(7, B:B, 0), 0), IFERROR(MATCH(8, B:B, 1),"&" 0)),NOT(ISERROR(FILTER(ARRAYFORMULA(IFERROR(SEARCH(INDIRECT(""$P$2:$P"" & TEXT(COUNTIF(($P$2:P146), ""<>""), ""0"")),G80 & "" "" & L80),"""")), ARRAYFORMULA(IFERROR(SEARCH(INDIRECT(""$P$2:$P"" & TEXT(COUNTIF(($P$2:P146), ""<>""), ""0"")),G80 & "" "" & L8"&"0),"""")) <> """"))), 0)"),"#REF!") -> #REF! | Q80: =IFERROR(__xludf.DUMMYFUNCTION("IF(AND(OR(COUNTA(FILTER($P$2:$P146, ARRAYFORMULA(ISNUMBER(FIND($P$2:$P146, G80))))) > 0, COUNTA(FILTER($P$2:$P146, ARRAYFORMULA(ISNUMBER(FIND($P$2:$P146, L80))))) > 0), NOT(ISNUMBER(#REF!))), TRUE(), FALSE())"),FALSE) -> FALSE | R80: =IFERROR(__xludf.DUMMYFUNCTION("IF(ISNA(JOIN("", "", FILTER($P$2:$P146, ARRAYFORMULA(ISNUMBER(FIND($P$2:$P146, G80))), NOT(ISBLANK($P$2:$P146))))), "" "", JOIN("", "", FILTER($P$2:$P146, ARRAYFORMULA(ISNUMBER(FIND($P$2:$P146, G80))), NOT(ISBLANK($P$2:$P146)))))")," ") | S80: =IFERROR(__xludf.DUMMYFUNCTION("IF(ISNA(JOIN("", "", FILTER($P$2:$P146, ARRAYFORMULA(ISNUMBER(FIND($P$2:$P146, L80))), NOT(ISBLANK($P$2:$P146))))), "" "", JOIN("", "", FILTER($P$2:$P146, ARRAYFORMULA(ISNUMBER(FIND($P$2:$P146, L80))), NOT(ISBLANK($P$2:$P146)))))")," ")
A81: 80 | D81: WS A | E81: 5 | G81: Tiffany Amper, SEN | I81: v | L81: Alyssa Gagne, BOR | M81: 21-4, 21-7 | O81: =IFERROR(__xludf.DUMMYFUNCTION("IF(ROW(#REF!) > MAX(IFERROR(MATCH(1, B:B, 0), 0), IFERROR(MATCH(2, B:B, 0), 0), IFERROR(MATCH(3, B:B, 0), 0), IFERROR(MATCH(4, B:B, 0), 0), IFERROR(MATCH(5, B:B, 0), 0), IFERROR(MATCH(6, B:B, 0), 0), IFERROR(MATCH(7, B:B, 0), 0), IFERROR(MATCH(8, B:B, 1),"&" 0)),NOT(ISERROR(FILTER(ARRAYFORMULA(IFERROR(SEARCH(INDIRECT(""$P$2:$P"" & TEXT(COUNTIF(($P$2:P146), ""<>""), ""0"")),G81 & "" "" & L81),"""")), ARRAYFORMULA(IFERROR(SEARCH(INDIRECT(""$P$2:$P"" & TEXT(COUNTIF(($P$2:P146), ""<>""), ""0"")),G81 & "" "" & L8"&"1),"""")) <> """"))), 0)"),"#REF!") -> #REF! | Q81: =IFERROR(__xludf.DUMMYFUNCTION("IF(AND(OR(COUNTA(FILTER($P$2:$P146, ARRAYFORMULA(ISNUMBER(FIND($P$2:$P146, G81))))) > 0, COUNTA(FILTER($P$2:$P146, ARRAYFORMULA(ISNUMBER(FIND($P$2:$P146, L81))))) > 0), NOT(ISNUMBER(#REF!))), TRUE(), FALSE())"),FALSE) -> FALSE | R81: =IFERROR(__xludf.DUMMYFUNCTION("IF(ISNA(JOIN("", "", FILTER($P$2:$P146, ARRAYFORMULA(ISNUMBER(FIND($P$2:$P146, G81))), NOT(ISBLANK($P$2:$P146))))), "" "", JOIN("", "", FILTER($P$2:$P146, ARRAYFORMULA(ISNUMBER(FIND($P$2:$P146, G81))), NOT(ISBLANK($P$2:$P146)))))")," ") | S81: =IFERROR(__xludf.DUMMYFUNCTION("IF(ISNA(JOIN("", "", FILTER($P$2:$P146, ARRAYFORMULA(ISNUMBER(FIND($P$2:$P146, L81))), NOT(ISBLANK($P$2:$P146))))), "" "", JOIN("", "", FILTER($P$2:$P146, ARRAYFORMULA(ISNUMBER(FIND($P$2:$P146, L81))), NOT(ISBLANK($P$2:$P146)))))")," ")
A82: 81 | D82: WD | E82: 5 | G82: S. Wu & S. Joshi, HUM | I82: v | L82: V. Somaroo & M. Mercier, BOR | M82: 21-4, 21-5 | O82: =IFERROR(__xludf.DUMMYFUNCTION("IF(ROW(#REF!) > MAX(IFERROR(MATCH(1, B:B, 0), 0), IFERROR(MATCH(2, B:B, 0), 0), IFERROR(MATCH(3, B:B, 0), 0), IFERROR(MATCH(4, B:B, 0), 0), IFERROR(MATCH(5, B:B, 0), 0), IFERROR(MATCH(6, B:B, 0), 0), IFERROR(MATCH(7, B:B, 0), 0), IFERROR(MATCH(8, B:B, 1),"&" 0)),NOT(ISERROR(FILTER(ARRAYFORMULA(IFERROR(SEARCH(INDIRECT(""$P$2:$P"" & TEXT(COUNTIF(($P$2:P146), ""<>""), ""0"")),G82 & "" "" & L82),"""")), ARRAYFORMULA(IFERROR(SEARCH(INDIRECT(""$P$2:$P"" & TEXT(COUNTIF(($P$2:P146), ""<>""), ""0"")),G82 & "" "" & L8"&"2),"""")) <> """"))), 0)"),"#REF!") -> #REF! | Q82: =IFERROR(__xludf.DUMMYFUNCTION("IF(AND(OR(COUNTA(FILTER($P$2:$P146, ARRAYFORMULA(ISNUMBER(FIND($P$2:$P146, G82))))) > 0, COUNTA(FILTER($P$2:$P146, ARRAYFORMULA(ISNUMBER(FIND($P$2:$P146, L82))))) > 0), NOT(ISNUMBER(#REF!))), TRUE(), FALSE())"),FALSE) -> FALSE | R82: =IFERROR(__xludf.DUMMYFUNCTION("IF(ISNA(JOIN("", "", FILTER($P$2:$P146, ARRAYFORMULA(ISNUMBER(FIND($P$2:$P146, G82))), NOT(ISBLANK($P$2:$P146))))), "" "", JOIN("", "", FILTER($P$2:$P146, ARRAYFORMULA(ISNUMBER(FIND($P$2:$P146, G82))), NOT(ISBLANK($P$2:$P146)))))")," ") | S82: =IFERROR(__xludf.DUMMYFUNCTION("IF(ISNA(JOIN("", "", FILTER($P$2:$P146, ARRAYFORMULA(ISNUMBER(FIND($P$2:$P146, L82))), NOT(ISBLANK($P$2:$P146))))), "" "", JOIN("", "", FILTER($P$2:$P146, ARRAYFORMULA(ISNUMBER(FIND($P$2:$P146, L82))), NOT(ISBLANK($P$2:$P146)))))")," ")
A83: 82 | D83: WD | E83: 5 | G83: A. Xing & V. Lam, SEN | I83: v | L83: A. Janybek & A. Kai, CON | M83: 21-5, 21-13 | O83: =IFERROR(__xludf.DUMMYFUNCTION("IF(ROW(#REF!) > MAX(IFERROR(MATCH(1, B:B, 0), 0), IFERROR(MATCH(2, B:B, 0), 0), IFERROR(MATCH(3, B:B, 0), 0), IFERROR(MATCH(4, B:B, 0), 0), IFERROR(MATCH(5, B:B, 0), 0), IFERROR(MATCH(6, B:B, 0), 0), IFERROR(MATCH(7, B:B, 0), 0), IFERROR(MATCH(8, B:B, 1),"&" 0)),NOT(ISERROR(FILTER(ARRAYFORMULA(IFERROR(SEARCH(INDIRECT(""$P$2:$P"" & TEXT(COUNTIF(($P$2:P146), ""<>""), ""0"")),G83 & "" "" & L83),"""")), ARRAYFORMULA(IFERROR(SEARCH(INDIRECT(""$P$2:$P"" & TEXT(COUNTIF(($P$2:P146), ""<>""), ""0"")),G83 & "" "" & L8"&"3),"""")) <> """"))), 0)"),"#REF!") -> #REF! | Q83: =IFERROR(__xludf.DUMMYFUNCTION("IF(AND(OR(COUNTA(FILTER($P$2:$P146, ARRAYFORMULA(ISNUMBER(FIND($P$2:$P146, G83))))) > 0, COUNTA(FILTER($P$2:$P146, ARRAYFORMULA(ISNUMBER(FIND($P$2:$P146, L83))))) > 0), NOT(ISNUMBER(#REF!))), TRUE(), FALSE())"),FALSE) -> FALSE | R83: =IFERROR(__xludf.DUMMYFUNCTION("IF(ISNA(JOIN("", "", FILTER($P$2:$P146, ARRAYFORMULA(ISNUMBER(FIND($P$2:$P146, G83))), NOT(ISBLANK($P$2:$P146))))), "" "", JOIN("", "", FILTER($P$2:$P146, ARRAYFORMULA(ISNUMBER(FIND($P$2:$P146, G83))), NOT(ISBLANK($P$2:$P146)))))")," ") | S83: =IFERROR(__xludf.DUMMYFUNCTION("IF(ISNA(JOIN("", "", FILTER($P$2:$P146, ARRAYFORMULA(ISNUMBER(FIND($P$2:$P146, L83))), NOT(ISBLANK($P$2:$P146))))), "" "", JOIN("", "", FILTER($P$2:$P146, ARRAYFORMULA(ISNUMBER(FIND($P$2:$P146, L83))), NOT(ISBLANK($P$2:$P146)))))")," ")
A84: 83 | D84: WD | E84: 5 | G84: S. Godek & L. Goldsack, LAM | I84: v | L84: T. Vaidya & N. Kim, FAN | M84: 10-21, 11-21 | O84: =IFERROR(__xludf.DUMMYFUNCTION("IF(ROW(#REF!) > MAX(IFERROR(MATCH(1, B:B, 0), 0), IFERROR(MATCH(2, B:B, 0), 0), IFERROR(MATCH(3, B:B, 0), 0), IFERROR(MATCH(4, B:B, 0), 0), IFERROR(MATCH(5, B:B, 0), 0), IFERROR(MATCH(6, B:B, 0), 0), IFERROR(MATCH(7, B:B, 0), 0), IFERROR(MATCH(8, B:B, 1),"&" 0)),NOT(ISERROR(FILTER(ARRAYFORMULA(IFERROR(SEARCH(INDIRECT(""$P$2:$P"" & TEXT(COUNTIF(($P$2:P146), ""<>""), ""0"")),G84 & "" "" & L84),"""")), ARRAYFORMULA(IFERROR(SEARCH(INDIRECT(""$P$2:$P"" & TEXT(COUNTIF(($P$2:P146), ""<>""), ""0"")),G84 & "" "" & L8"&"4),"""")) <> """"))), 0)"),"#REF!") -> #REF! | Q84: =IFERROR(__xludf.DUMMYFUNCTION("IF(AND(OR(COUNTA(FILTER($P$2:$P146, ARRAYFORMULA(ISNUMBER(FIND($P$2:$P146, G84))))) > 0, COUNTA(FILTER($P$2:$P146, ARRAYFORMULA(ISNUMBER(FIND($P$2:$P146, L84))))) > 0), NOT(ISNUMBER(#REF!))), TRUE(), FALSE())"),FALSE) -> FALSE | R84: =IFERROR(__xludf.DUMMYFUNCTION("IF(ISNA(JOIN("", "", FILTER($P$2:$P146, ARRAYFORMULA(ISNUMBER(FIND($P$2:$P146, G84))), NOT(ISBLANK($P$2:$P146))))), "" "", JOIN("", "", FILTER($P$2:$P146, ARRAYFORMULA(ISNUMBER(FIND($P$2:$P146, G84))), NOT(ISBLANK($P$2:$P146)))))")," ") | S84: =IFERROR(__xludf.DUMMYFUNCTION("IF(ISNA(JOIN("", "", FILTER($P$2:$P146, ARRAYFORMULA(ISNUMBER(FIND($P$2:$P146, L84))), NOT(ISBLANK($P$2:$P146))))), "" "", JOIN("", "", FILTER($P$2:$P146, ARRAYFORMULA(ISNUMBER(FIND($P$2:$P146, L84))), NOT(ISBLANK($P$2:$P146)))))")," ")
A85: 84 | D85: MD | E85: 5 | G85: T. Vicente-Pereira & Miranda, HUM | I85: v | L85: G. Clark & L. Aarts, LAM | M85: 21-7, 21-13 | O85: =IFERROR(__xludf.DUMMYFUNCTION("IF(ROW(#REF!) > MAX(IFERROR(MATCH(1, B:B, 0), 0), IFERROR(MATCH(2, B:B, 0), 0), IFERROR(MATCH(3, B:B, 0), 0), IFERROR(MATCH(4, B:B, 0), 0), IFERROR(MATCH(5, B:B, 0), 0), IFERROR(MATCH(6, B:B, 0), 0), IFERROR(MATCH(7, B:B, 0), 0), IFERROR(MATCH(8, B:B, 1),"&" 0)),NOT(ISERROR(FILTER(ARRAYFORMULA(IFERROR(SEARCH(INDIRECT(""$P$2:$P"" & TEXT(COUNTIF(($P$2:P146), ""<>""), ""0"")),G85 & "" "" & L85),"""")), ARRAYFORMULA(IFERROR(SEARCH(INDIRECT(""$P$2:$P"" & TEXT(COUNTIF(($P$2:P146), ""<>""), ""0"")),G85 & "" "" & L8"&"5),"""")) <> """"))), 0)"),"#REF!") -> #REF! | Q85: =IFERROR(__xludf.DUMMYFUNCTION("IF(AND(OR(COUNTA(FILTER($P$2:$P146, ARRAYFORMULA(ISNUMBER(FIND($P$2:$P146, G85))))) > 0, COUNTA(FILTER($P$2:$P146, ARRAYFORMULA(ISNUMBER(FIND($P$2:$P146, L85))))) > 0), NOT(ISNUMBER(#REF!))), TRUE(), FALSE())"),FALSE) -> FALSE | R85: =IFERROR(__xludf.DUMMYFUNCTION("IF(ISNA(JOIN("", "", FILTER($P$2:$P146, ARRAYFORMULA(ISNUMBER(FIND($P$2:$P146, G85))), NOT(ISBLANK($P$2:$P146))))), "" "", JOIN("", "", FILTER($P$2:$P146, ARRAYFORMULA(ISNUMBER(FIND($P$2:$P146, G85))), NOT(ISBLANK($P$2:$P146)))))")," ") | S85: =IFERROR(__xludf.DUMMYFUNCTION("IF(ISNA(JOIN("", "", FILTER($P$2:$P146, ARRAYFORMULA(ISNUMBER(FIND($P$2:$P146, L85))), NOT(ISBLANK($P$2:$P146))))), "" "", JOIN("", "", FILTER($P$2:$P146, ARRAYFORMULA(ISNUMBER(FIND($P$2:$P146, L85))), NOT(ISBLANK($P$2:$P146)))))")," ")
A86: 85 | D86: MD | E86: 5 | G86: T. Le & T. Nguyen, FAN | I86: v | L86: M. Barnes & R. Tu, CON | M86: 21-12, 21-10 | O86: =IFERROR(__xludf.DUMMYFUNCTION("IF(ROW(B86) > MAX(IFERROR(MATCH(1, B:B, 0), 0), IFERROR(MATCH(2, B:B, 0), 0), IFERROR(MATCH(3, B:B, 0), 0), IFERROR(MATCH(4, B:B, 0), 0), IFERROR(MATCH(5, B:B, 0), 0), IFERROR(MATCH(6, B:B, 0), 0), IFERROR(MATCH(7, B:B, 0), 0), IFERROR(MATCH(8, B:B, 1), 0"&")),NOT(ISERROR(FILTER(ARRAYFORMULA(IFERROR(SEARCH(INDIRECT(""$P$2:$P"" & TEXT(COUNTIF(($P$2:P146), ""<>""), ""0"")),G86 & "" "" & L86),"""")), ARRAYFORMULA(IFERROR(SEARCH(INDIRECT(""$P$2:$P"" & TEXT(COUNTIF(($P$2:P146), ""<>""), ""0"")),G86 & "" "" & L86)"&","""")) <> """"))), 0)"),FALSE) -> FALSE | Q86: =IFERROR(__xludf.DUMMYFUNCTION("IF(AND(OR(COUNTA(FILTER($P$2:$P146, ARRAYFORMULA(ISNUMBER(FIND($P$2:$P146, G86))))) > 0, COUNTA(FILTER($P$2:$P146, ARRAYFORMULA(ISNUMBER(FIND($P$2:$P146, L86))))) > 0), NOT(ISNUMBER(B86))), TRUE(), FALSE())"),FALSE) -> FALSE | R86: =IFERROR(__xludf.DUMMYFUNCTION("IF(ISNA(JOIN("", "", FILTER($P$2:$P146, ARRAYFORMULA(ISNUMBER(FIND($P$2:$P146, G86))), NOT(ISBLANK($P$2:$P146))))), "" "", JOIN("", "", FILTER($P$2:$P146, ARRAYFORMULA(ISNUMBER(FIND($P$2:$P146, G86))), NOT(ISBLANK($P$2:$P146)))))")," ") | S86: =IFERROR(__xludf.DUMMYFUNCTION("IF(ISNA(JOIN("", "", FILTER($P$2:$P146, ARRAYFORMULA(ISNUMBER(FIND($P$2:$P146, L86))), NOT(ISBLANK($P$2:$P146))))), "" "", JOIN("", "", FILTER($P$2:$P146, ARRAYFORMULA(ISNUMBER(FIND($P$2:$P146, L86))), NOT(ISBLANK($P$2:$P146)))))")," ")
A87: 86 | D87: MD | E87: 5 | G87: A. Atkins & E. Leduc, BOR | I87: v | L87: H. Joshy John & G. Hebner, CAM | M87: 22-24, 14-21 | O87: =IFERROR(__xludf.DUMMYFUNCTION("IF(ROW(B87) > MAX(IFERROR(MATCH(1, B:B, 0), 0), IFERROR(MATCH(2, B:B, 0), 0), IFERROR(MATCH(3, B:B, 0), 0), IFERROR(MATCH(4, B:B, 0), 0), IFERROR(MATCH(5, B:B, 0), 0), IFERROR(MATCH(6, B:B, 0), 0), IFERROR(MATCH(7, B:B, 0), 0), IFERROR(MATCH(8, B:B, 1), 0"&")),NOT(ISERROR(FILTER(ARRAYFORMULA(IFERROR(SEARCH(INDIRECT(""$P$2:$P"" & TEXT(COUNTIF(($P$2:P146), ""<>""), ""0"")),G87 & "" "" & L87),"""")), ARRAYFORMULA(IFERROR(SEARCH(INDIRECT(""$P$2:$P"" & TEXT(COUNTIF(($P$2:P146), ""<>""), ""0"")),G87 & "" "" & L87)"&","""")) <> """"))), 0)"),FALSE) -> FALSE | Q87: =IFERROR(__xludf.DUMMYFUNCTION("IF(AND(OR(COUNTA(FILTER($P$2:$P146, ARRAYFORMULA(ISNUMBER(FIND($P$2:$P146, G87))))) > 0, COUNTA(FILTER($P$2:$P146, ARRAYFORMULA(ISNUMBER(FIND($P$2:$P146, L87))))) > 0), NOT(ISNUMBER(B87))), TRUE(), FALSE())"),FALSE) -> FALSE | R87: =IFERROR(__xludf.DUMMYFUNCTION("IF(ISNA(JOIN("", "", FILTER($P$2:$P146, ARRAYFORMULA(ISNUMBER(FIND($P$2:$P146, G87))), NOT(ISBLANK($P$2:$P146))))), "" "", JOIN("", "", FILTER($P$2:$P146, ARRAYFORMULA(ISNUMBER(FIND($P$2:$P146, G87))), NOT(ISBLANK($P$2:$P146)))))")," ") | S87: =IFERROR(__xludf.DUMMYFUNCTION("IF(ISNA(JOIN("", "", FILTER($P$2:$P146, ARRAYFORMULA(ISNUMBER(FIND($P$2:$P146, L87))), NOT(ISBLANK($P$2:$P146))))), "" "", JOIN("", "", FILTER($P$2:$P146, ARRAYFORMULA(ISNUMBER(FIND($P$2:$P146, L87))), NOT(ISBLANK($P$2:$P146)))))")," ")
A88: 87 | D88: XD | E88: 5 | G88: J. Atkins & L. Richards, BOR | I88: v | L88: D. Brunette-Royer & J. Hopkins, CAM | M88: 11-21, 8-21 | O88: =IFERROR(__xludf.DUMMYFUNCTION("IF(ROW(B109) > MAX(IFERROR(MATCH(1, B:B, 0), 0), IFERROR(MATCH(2, B:B, 0), 0), IFERROR(MATCH(3, B:B, 0), 0), IFERROR(MATCH(4, B:B, 0), 0), IFERROR(MATCH(5, B:B, 0), 0), IFERROR(MATCH(6, B:B, 0), 0), IFERROR(MATCH(7, B:B, 0), 0), IFERROR(MATCH(8, B:B, 1), "&"0)),NOT(ISERROR(FILTER(ARRAYFORMULA(IFERROR(SEARCH(INDIRECT(""$P$2:$P"" & TEXT(COUNTIF(($P$2:P146), ""<>""), ""0"")),G88 & "" "" & L88),"""")), ARRAYFORMULA(IFERROR(SEARCH(INDIRECT(""$P$2:$P"" & TEXT(COUNTIF(($P$2:P146), ""<>""), ""0"")),G88 & "" "" & L88"&"),"""")) <> """"))), 0)"),FALSE) -> FALSE | Q88: =IFERROR(__xludf.DUMMYFUNCTION("IF(AND(OR(COUNTA(FILTER($P$2:$P146, ARRAYFORMULA(ISNUMBER(FIND($P$2:$P146, G88))))) > 0, COUNTA(FILTER($P$2:$P146, ARRAYFORMULA(ISNUMBER(FIND($P$2:$P146, L88))))) > 0), NOT(ISNUMBER(B109))), TRUE(), FALSE())"),FALSE) -> FALSE | R88: =IFERROR(__xludf.DUMMYFUNCTION("IF(ISNA(JOIN("", "", FILTER($P$2:$P146, ARRAYFORMULA(ISNUMBER(FIND($P$2:$P146, G88))), NOT(ISBLANK($P$2:$P146))))), "" "", JOIN("", "", FILTER($P$2:$P146, ARRAYFORMULA(ISNUMBER(FIND($P$2:$P146, G88))), NOT(ISBLANK($P$2:$P146)))))")," ") | S88: =IFERROR(__xludf.DUMMYFUNCTION("IF(ISNA(JOIN("", "", FILTER($P$2:$P146, ARRAYFORMULA(ISNUMBER(FIND($P$2:$P146, L88))), NOT(ISBLANK($P$2:$P146))))), "" "", JOIN("", "", FILTER($P$2:$P146, ARRAYFORMULA(ISNUMBER(FIND($P$2:$P146, L88))), NOT(ISBLANK($P$2:$P146)))))")," ")
A89: 88 | D89: XD | E89: 5 | G89: S. Mohammad & X. Niu, FAN | I89: v | L89: C. Clayton & J. Hillier, LAM | M89: 21-9, 21-8 | O89: =IFERROR(__xludf.DUMMYFUNCTION("IF(ROW(B110) > MAX(IFERROR(MATCH(1, B:B, 0), 0), IFERROR(MATCH(2, B:B, 0), 0), IFERROR(MATCH(3, B:B, 0), 0), IFERROR(MATCH(4, B:B, 0), 0), IFERROR(MATCH(5, B:B, 0), 0), IFERROR(MATCH(6, B:B, 0), 0), IFERROR(MATCH(7, B:B, 0), 0), IFERROR(MATCH(8, B:B, 1), "&"0)),NOT(ISERROR(FILTER(ARRAYFORMULA(IFERROR(SEARCH(INDIRECT(""$P$2:$P"" & TEXT(COUNTIF(($P$2:P146), ""<>""), ""0"")),G89 & "" "" & L89),"""")), ARRAYFORMULA(IFERROR(SEARCH(INDIRECT(""$P$2:$P"" & TEXT(COUNTIF(($P$2:P146), ""<>""), ""0"")),G89 & "" "" & L89"&"),"""")) <> """"))), 0)"),FALSE) -> FALSE | Q89: =IFERROR(__xludf.DUMMYFUNCTION("IF(AND(OR(COUNTA(FILTER($P$2:$P146, ARRAYFORMULA(ISNUMBER(FIND($P$2:$P146, G89))))) > 0, COUNTA(FILTER($P$2:$P146, ARRAYFORMULA(ISNUMBER(FIND($P$2:$P146, L89))))) > 0), NOT(ISNUMBER(B110))), TRUE(), FALSE())"),FALSE) -> FALSE | R89: =IFERROR(__xludf.DUMMYFUNCTION("IF(ISNA(JOIN("", "", FILTER($P$2:$P146, ARRAYFORMULA(ISNUMBER(FIND($P$2:$P146, G89))), NOT(ISBLANK($P$2:$P146))))), "" "", JOIN("", "", FILTER($P$2:$P146, ARRAYFORMULA(ISNUMBER(FIND($P$2:$P146, G89))), NOT(ISBLANK($P$2:$P146)))))")," ") | S89: =IFERROR(__xludf.DUMMYFUNCTION("IF(ISNA(JOIN("", "", FILTER($P$2:$P146, ARRAYFORMULA(ISNUMBER(FIND($P$2:$P146, L89))), NOT(ISBLANK($P$2:$P146))))), "" "", JOIN("", "", FILTER($P$2:$P146, ARRAYFORMULA(ISNUMBER(FIND($P$2:$P146, L89))), NOT(ISBLANK($P$2:$P146)))))")," ")
A90: 89 | D90: XD | E90: 5 | G90: A. Tso & A. Iran, SEN | I90: v | L90: N. Bridge & M. Muqeem, CON | M90: 21-13, 21-7 | N90: END OF DAY ONE | O90: =IFERROR(__xludf.DUMMYFUNCTION("IF(ROW(B103) > MAX(IFERROR(MATCH(1, B:B, 0), 0), IFERROR(MATCH(2, B:B, 0), 0), IFERROR(MATCH(3, B:B, 0), 0), IFERROR(MATCH(4, B:B, 0), 0), IFERROR(MATCH(5, B:B, 0), 0), IFERROR(MATCH(6, B:B, 0), 0), IFERROR(MATCH(7, B:B, 0), 0), IFERROR(MATCH(8, B:B, 1), "&"0)),NOT(ISERROR(FILTER(ARRAYFORMULA(IFERROR(SEARCH(INDIRECT(""$P$2:$P"" & TEXT(COUNTIF(($P$2:P146), ""<>""), ""0"")),G90 & "" "" & L90),"""")), ARRAYFORMULA(IFERROR(SEARCH(INDIRECT(""$P$2:$P"" & TEXT(COUNTIF(($P$2:P146), ""<>""), ""0"")),G90 & "" "" & L90"&"),"""")) <> """"))), 0)"),FALSE) -> FALSE | Q90: =IFERROR(__xludf.DUMMYFUNCTION("IF(AND(OR(COUNTA(FILTER($P$2:$P146, ARRAYFORMULA(ISNUMBER(FIND($P$2:$P146, G90))))) > 0, COUNTA(FILTER($P$2:$P146, ARRAYFORMULA(ISNUMBER(FIND($P$2:$P146, L90))))) > 0), NOT(ISNUMBER(B103))), TRUE(), FALSE())"),FALSE) -> FALSE | R90: =IFERROR(__xludf.DUMMYFUNCTION("IF(ISNA(JOIN("", "", FILTER($P$2:$P146, ARRAYFORMULA(ISNUMBER(FIND($P$2:$P146, G90))), NOT(ISBLANK($P$2:$P146))))), "" "", JOIN("", "", FILTER($P$2:$P146, ARRAYFORMULA(ISNUMBER(FIND($P$2:$P146, G90))), NOT(ISBLANK($P$2:$P146)))))")," ") | S90: =IFERROR(__xludf.DUMMYFUNCTION("IF(ISNA(JOIN("", "", FILTER($P$2:$P146, ARRAYFORMULA(ISNUMBER(FIND($P$2:$P146, L90))), NOT(ISBLANK($P$2:$P146))))), "" "", JOIN("", "", FILTER($P$2:$P146, ARRAYFORMULA(ISNUMBER(FIND($P$2:$P146, L90))), NOT(ISBLANK($P$2:$P146)))))")," ")
A91: 90 | D91: MS B | E91: 6 | G91: Arpi Sinha, FAN | I91: v | L91: Daniel Collins, CAM | M91: 21-3, 21-7 | N91: ROUND 6 BYES: T. Nguyen, CON, A. Gagne BOR, MD BOR, XD CON | O91: =IFERROR(__xludf.DUMMYFUNCTION("IF(ROW(#REF!) > MAX(IFERROR(MATCH(1, B:B, 0), 0), IFERROR(MATCH(2, B:B, 0), 0), IFERROR(MATCH(3, B:B, 0), 0), IFERROR(MATCH(4, B:B, 0), 0), IFERROR(MATCH(5, B:B, 0), 0), IFERROR(MATCH(6, B:B, 0), 0), IFERROR(MATCH(7, B:B, 0), 0), IFERROR(MATCH(8, B:B, 1),"&" 0)),NOT(ISERROR(FILTER(ARRAYFORMULA(IFERROR(SEARCH(INDIRECT(""$P$2:$P"" & TEXT(COUNTIF(($P$2:P146), ""<>""), ""0"")),G91 & "" "" & L91),"""")), ARRAYFORMULA(IFERROR(SEARCH(INDIRECT(""$P$2:$P"" & TEXT(COUNTIF(($P$2:P146), ""<>""), ""0"")),G91 & "" "" & L9"&"1),"""")) <> """"))), 0)"),"#REF!") -> #REF! | Q91: =IFERROR(__xludf.DUMMYFUNCTION("IF(AND(OR(COUNTA(FILTER($P$2:$P146, ARRAYFORMULA(ISNUMBER(FIND($P$2:$P146, G91))))) > 0, COUNTA(FILTER($P$2:$P146, ARRAYFORMULA(ISNUMBER(FIND($P$2:$P146, L91))))) > 0), NOT(ISNUMBER(B91))), TRUE(), FALSE())"),FALSE) -> FALSE | R91: =IFERROR(__xludf.DUMMYFUNCTION("IF(ISNA(JOIN("", "", FILTER($P$2:$P146, ARRAYFORMULA(ISNUMBER(FIND($P$2:$P146, G91))), NOT(ISBLANK($P$2:$P146))))), "" "", JOIN("", "", FILTER($P$2:$P146, ARRAYFORMULA(ISNUMBER(FIND($P$2:$P146, G91))), NOT(ISBLANK($P$2:$P146)))))")," ") | S91: =IFERROR(__xludf.DUMMYFUNCTION("IF(ISNA(JOIN("", "", FILTER($P$2:$P146, ARRAYFORMULA(ISNUMBER(FIND($P$2:$P146, L91))), NOT(ISBLANK($P$2:$P146))))), "" "", JOIN("", "", FILTER($P$2:$P146, ARRAYFORMULA(ISNUMBER(FIND($P$2:$P146, L91))), NOT(ISBLANK($P$2:$P146)))))")," ")
A92: 91 | D92: MS B | E92: 6 | G92: Milton Smith, LAM | I92: v | L92: Grey Pope, BOR | M92: 21-15, 21-12 | O92: =IFERROR(__xludf.DUMMYFUNCTION("IF(ROW(B108) > MAX(IFERROR(MATCH(1, B:B, 0), 0), IFERROR(MATCH(2, B:B, 0), 0), IFERROR(MATCH(3, B:B, 0), 0), IFERROR(MATCH(4, B:B, 0), 0), IFERROR(MATCH(5, B:B, 0), 0), IFERROR(MATCH(6, B:B, 0), 0), IFERROR(MATCH(7, B:B, 0), 0), IFERROR(MATCH(8, B:B, 1), "&"0)),NOT(ISERROR(FILTER(ARRAYFORMULA(IFERROR(SEARCH(INDIRECT(""$P$2:$P"" & TEXT(COUNTIF(($P$2:P146), ""<>""), ""0"")),G92 & "" "" & L92),"""")), ARRAYFORMULA(IFERROR(SEARCH(INDIRECT(""$P$2:$P"" & TEXT(COUNTIF(($P$2:P146), ""<>""), ""0"")),G92 & "" "" & L92"&"),"""")) <> """"))), 0)"),FALSE) -> FALSE | Q92: =IFERROR(__xludf.DUMMYFUNCTION("IF(AND(OR(COUNTA(FILTER($P$2:$P146, ARRAYFORMULA(ISNUMBER(FIND($P$2:$P146, G92))))) > 0, COUNTA(FILTER($P$2:$P146, ARRAYFORMULA(ISNUMBER(FIND($P$2:$P146, L92))))) > 0), NOT(ISNUMBER(B108))), TRUE(), FALSE())"),FALSE) -> FALSE | R92: =IFERROR(__xludf.DUMMYFUNCTION("IF(ISNA(JOIN("", "", FILTER($P$2:$P146, ARRAYFORMULA(ISNUMBER(FIND($P$2:$P146, G92))), NOT(ISBLANK($P$2:$P146))))), "" "", JOIN("", "", FILTER($P$2:$P146, ARRAYFORMULA(ISNUMBER(FIND($P$2:$P146, G92))), NOT(ISBLANK($P$2:$P146)))))")," ") | S92: =IFERROR(__xludf.DUMMYFUNCTION("IF(ISNA(JOIN("", "", FILTER($P$2:$P146, ARRAYFORMULA(ISNUMBER(FIND($P$2:$P146, L92))), NOT(ISBLANK($P$2:$P146))))), "" "", JOIN("", "", FILTER($P$2:$P146, ARRAYFORMULA(ISNUMBER(FIND($P$2:$P146, L92))), NOT(ISBLANK($P$2:$P146)))))")," ")
A93: 92 | D93: MS B | E93: 6 | G93: Reanbert Valentino, HUM | I93: v | L93: Maulik Jain, SEN | M93: 10-21, 9-21 | O93: =IFERROR(__xludf.DUMMYFUNCTION("IF(ROW(#REF!) > MAX(IFERROR(MATCH(1, B:B, 0), 0), IFERROR(MATCH(2, B:B, 0), 0), IFERROR(MATCH(3, B:B, 0), 0), IFERROR(MATCH(4, B:B, 0), 0), IFERROR(MATCH(5, B:B, 0), 0), IFERROR(MATCH(6, B:B, 0), 0), IFERROR(MATCH(7, B:B, 0), 0), IFERROR(MATCH(8, B:B, 1),"&" 0)),NOT(ISERROR(FILTER(ARRAYFORMULA(IFERROR(SEARCH(INDIRECT(""$P$2:$P"" & TEXT(COUNTIF(($P$2:P146), ""<>""), ""0"")),G93 & "" "" & L93),"""")), ARRAYFORMULA(IFERROR(SEARCH(INDIRECT(""$P$2:$P"" & TEXT(COUNTIF(($P$2:P146), ""<>""), ""0"")),G93 & "" "" & L9"&"3),"""")) <> """"))), 0)"),"#REF!") -> #REF! | Q93: =IFERROR(__xludf.DUMMYFUNCTION("IF(AND(OR(COUNTA(FILTER($P$2:$P146, ARRAYFORMULA(ISNUMBER(FIND($P$2:$P146, G93))))) > 0, COUNTA(FILTER($P$2:$P146, ARRAYFORMULA(ISNUMBER(FIND($P$2:$P146, L93))))) > 0), NOT(ISNUMBER(B106))), TRUE(), FALSE())"),FALSE) -> FALSE | R93: =IFERROR(__xludf.DUMMYFUNCTION("IF(ISNA(JOIN("", "", FILTER($P$2:$P146, ARRAYFORMULA(ISNUMBER(FIND($P$2:$P146, G93))), NOT(ISBLANK($P$2:$P146))))), "" "", JOIN("", "", FILTER($P$2:$P146, ARRAYFORMULA(ISNUMBER(FIND($P$2:$P146, G93))), NOT(ISBLANK($P$2:$P146)))))")," ") | S93: =IFERROR(__xludf.DUMMYFUNCTION("IF(ISNA(JOIN("", "", FILTER($P$2:$P146, ARRAYFORMULA(ISNUMBER(FIND($P$2:$P146, L93))), NOT(ISBLANK($P$2:$P146))))), "" "", JOIN("", "", FILTER($P$2:$P146, ARRAYFORMULA(ISNUMBER(FIND($P$2:$P146, L93))), NOT(ISBLANK($P$2:$P146)))))")," ")
A94: 93 | D94: MS A | E94: 6 | G94: Sebastien Liu, SEN | I94: v | L94: Dalton Baxter, LAM | M94: 21-11, 21-8 | O94: =IFERROR(__xludf.DUMMYFUNCTION("IF(ROW(B111) > MAX(IFERROR(MATCH(1, B:B, 0), 0), IFERROR(MATCH(2, B:B, 0), 0), IFERROR(MATCH(3, B:B, 0), 0), IFERROR(MATCH(4, B:B, 0), 0), IFERROR(MATCH(5, B:B, 0), 0), IFERROR(MATCH(6, B:B, 0), 0), IFERROR(MATCH(7, B:B, 0), 0), IFERROR(MATCH(8, B:B, 1), "&"0)),NOT(ISERROR(FILTER(ARRAYFORMULA(IFERROR(SEARCH(INDIRECT(""$P$2:$P"" & TEXT(COUNTIF(($P$2:P146), ""<>""), ""0"")),G94 & "" "" & L94),"""")), ARRAYFORMULA(IFERROR(SEARCH(INDIRECT(""$P$2:$P"" & TEXT(COUNTIF(($P$2:P146), ""<>""), ""0"")),G94 & "" "" & L94"&"),"""")) <> """"))), 0)"),FALSE) -> FALSE | Q94: =IFERROR(__xludf.DUMMYFUNCTION("IF(AND(OR(COUNTA(FILTER($P$2:$P146, ARRAYFORMULA(ISNUMBER(FIND($P$2:$P146, G94))))) > 0, COUNTA(FILTER($P$2:$P146, ARRAYFORMULA(ISNUMBER(FIND($P$2:$P146, L94))))) > 0), NOT(ISNUMBER(B111))), TRUE(), FALSE())"),FALSE) -> FALSE | R94: =IFERROR(__xludf.DUMMYFUNCTION("IF(ISNA(JOIN("", "", FILTER($P$2:$P146, ARRAYFORMULA(ISNUMBER(FIND($P$2:$P146, G94))), NOT(ISBLANK($P$2:$P146))))), "" "", JOIN("", "", FILTER($P$2:$P146, ARRAYFORMULA(ISNUMBER(FIND($P$2:$P146, G94))), NOT(ISBLANK($P$2:$P146)))))")," ") | S94: =IFERROR(__xludf.DUMMYFUNCTION("IF(ISNA(JOIN("", "", FILTER($P$2:$P146, ARRAYFORMULA(ISNUMBER(FIND($P$2:$P146, L94))), NOT(ISBLANK($P$2:$P146))))), "" "", JOIN("", "", FILTER($P$2:$P146, ARRAYFORMULA(ISNUMBER(FIND($P$2:$P146, L94))), NOT(ISBLANK($P$2:$P146)))))")," ")
A95: 94 | D95: MS A | E95: 6 | G95: Akashdeep Singh, CON | I95: v | L95: Prabhkirat Singh, CAM | M95: 21-7, 21-8 | O95: =IFERROR(__xludf.DUMMYFUNCTION("IF(ROW(B104) > MAX(IFERROR(MATCH(1, B:B, 0), 0), IFERROR(MATCH(2, B:B, 0), 0), IFERROR(MATCH(3, B:B, 0), 0), IFERROR(MATCH(4, B:B, 0), 0), IFERROR(MATCH(5, B:B, 0), 0), IFERROR(MATCH(6, B:B, 0), 0), IFERROR(MATCH(7, B:B, 0), 0), IFERROR(MATCH(8, B:B, 1), "&"0)),NOT(ISERROR(FILTER(ARRAYFORMULA(IFERROR(SEARCH(INDIRECT(""$P$2:$P"" & TEXT(COUNTIF(($P$2:P146), ""<>""), ""0"")),G95 & "" "" & L95),"""")), ARRAYFORMULA(IFERROR(SEARCH(INDIRECT(""$P$2:$P"" & TEXT(COUNTIF(($P$2:P146), ""<>""), ""0"")),G95 & "" "" & L95"&"),"""")) <> """"))), 0)"),FALSE) -> FALSE | Q95: =IFERROR(__xludf.DUMMYFUNCTION("IF(AND(OR(COUNTA(FILTER($P$2:$P146, ARRAYFORMULA(ISNUMBER(FIND($P$2:$P146, G95))))) > 0, COUNTA(FILTER($P$2:$P146, ARRAYFORMULA(ISNUMBER(FIND($P$2:$P146, L95))))) > 0), NOT(ISNUMBER(B104))), TRUE(), FALSE())"),FALSE) -> FALSE | R95: =IFERROR(__xludf.DUMMYFUNCTION("IF(ISNA(JOIN("", "", FILTER($P$2:$P146, ARRAYFORMULA(ISNUMBER(FIND($P$2:$P146, G95))), NOT(ISBLANK($P$2:$P146))))), "" "", JOIN("", "", FILTER($P$2:$P146, ARRAYFORMULA(ISNUMBER(FIND($P$2:$P146, G95))), NOT(ISBLANK($P$2:$P146)))))")," ") | S95: =IFERROR(__xludf.DUMMYFUNCTION("IF(ISNA(JOIN("", "", FILTER($P$2:$P146, ARRAYFORMULA(ISNUMBER(FIND($P$2:$P146, L95))), NOT(ISBLANK($P$2:$P146))))), "" "", JOIN("", "", FILTER($P$2:$P146, ARRAYFORMULA(ISNUMBER(FIND($P$2:$P146, L95))), NOT(ISBLANK($P$2:$P146)))))")," ")
A96: 95 | D96: MS A | E96: 6 | G96: Ram Ng, FAN | I96: v | L96: Tim Lock, HUM | M96: 4-21, 4-21 | O96: =IFERROR(__xludf.DUMMYFUNCTION("IF(ROW(B107) > MAX(IFERROR(MATCH(1, B:B, 0), 0), IFERROR(MATCH(2, B:B, 0), 0), IFERROR(MATCH(3, B:B, 0), 0), IFERROR(MATCH(4, B:B, 0), 0), IFERROR(MATCH(5, B:B, 0), 0), IFERROR(MATCH(6, B:B, 0), 0), IFERROR(MATCH(7, B:B, 0), 0), IFERROR(MATCH(8, B:B, 1), "&"0)),NOT(ISERROR(FILTER(ARRAYFORMULA(IFERROR(SEARCH(INDIRECT(""$P$2:$P"" & TEXT(COUNTIF(($P$2:P146), ""<>""), ""0"")),G96 & "" "" & L96),"""")), ARRAYFORMULA(IFERROR(SEARCH(INDIRECT(""$P$2:$P"" & TEXT(COUNTIF(($P$2:P146), ""<>""), ""0"")),G96 & "" "" & L96"&"),"""")) <> """"))), 0)"),FALSE) -> FALSE | Q96: =IFERROR(__xludf.DUMMYFUNCTION("IF(AND(OR(COUNTA(FILTER($P$2:$P146, ARRAYFORMULA(ISNUMBER(FIND($P$2:$P146, G96))))) > 0, COUNTA(FILTER($P$2:$P146, ARRAYFORMULA(ISNUMBER(FIND($P$2:$P146, L96))))) > 0), NOT(ISNUMBER(B107))), TRUE(), FALSE())"),FALSE) -> FALSE | R96: =IFERROR(__xludf.DUMMYFUNCTION("IF(ISNA(JOIN("", "", FILTER($P$2:$P146, ARRAYFORMULA(ISNUMBER(FIND($P$2:$P146, G96))), NOT(ISBLANK($P$2:$P146))))), "" "", JOIN("", "", FILTER($P$2:$P146, ARRAYFORMULA(ISNUMBER(FIND($P$2:$P146, G96))), NOT(ISBLANK($P$2:$P146)))))")," ") | S96: =IFERROR(__xludf.DUMMYFUNCTION("IF(ISNA(JOIN("", "", FILTER($P$2:$P146, ARRAYFORMULA(ISNUMBER(FIND($P$2:$P146, L96))), NOT(ISBLANK($P$2:$P146))))), "" "", JOIN("", "", FILTER($P$2:$P146, ARRAYFORMULA(ISNUMBER(FIND($P$2:$P146, L96))), NOT(ISBLANK($P$2:$P146)))))")," ")
A97: 96 | D97: WS B | E97: 6 | G97: Chincco Lai, SEN | I97: v | L97: Mackenzie Pilon, BOR | M97: 21-4, 21-5 | O97: =IFERROR(__xludf.DUMMYFUNCTION("IF(ROW(#REF!) > MAX(IFERROR(MATCH(1, B:B, 0), 0), IFERROR(MATCH(2, B:B, 0), 0), IFERROR(MATCH(3, B:B, 0), 0), IFERROR(MATCH(4, B:B, 0), 0), IFERROR(MATCH(5, B:B, 0), 0), IFERROR(MATCH(6, B:B, 0), 0), IFERROR(MATCH(7, B:B, 0), 0), IFERROR(MATCH(8, B:B, 1),"&" 0)),NOT(ISERROR(FILTER(ARRAYFORMULA(IFERROR(SEARCH(INDIRECT(""$P$2:$P"" & TEXT(COUNTIF(($P$2:P146), ""<>""), ""0"")),G97 & "" "" & L97),"""")), ARRAYFORMULA(IFERROR(SEARCH(INDIRECT(""$P$2:$P"" & TEXT(COUNTIF(($P$2:P146), ""<>""), ""0"")),G97 & "" "" & L9"&"7),"""")) <> """"))), 0)"),"#REF!") -> #REF! | Q97: =IFERROR(__xludf.DUMMYFUNCTION("IF(AND(OR(COUNTA(FILTER($P$2:$P146, ARRAYFORMULA(ISNUMBER(FIND($P$2:$P146, G97))))) > 0, COUNTA(FILTER($P$2:$P146, ARRAYFORMULA(ISNUMBER(FIND($P$2:$P146, L97))))) > 0), NOT(ISNUMBER(#REF!))), TRUE(), FALSE())"),FALSE) -> FALSE | R97: =IFERROR(__xludf.DUMMYFUNCTION("IF(ISNA(JOIN("", "", FILTER($P$2:$P146, ARRAYFORMULA(ISNUMBER(FIND($P$2:$P146, G97))), NOT(ISBLANK($P$2:$P146))))), "" "", JOIN("", "", FILTER($P$2:$P146, ARRAYFORMULA(ISNUMBER(FIND($P$2:$P146, G97))), NOT(ISBLANK($P$2:$P146)))))")," ") | S97: =IFERROR(__xludf.DUMMYFUNCTION("IF(ISNA(JOIN("", "", FILTER($P$2:$P146, ARRAYFORMULA(ISNUMBER(FIND($P$2:$P146, L97))), NOT(ISBLANK($P$2:$P146))))), "" "", JOIN("", "", FILTER($P$2:$P146, ARRAYFORMULA(ISNUMBER(FIND($P$2:$P146, L97))), NOT(ISBLANK($P$2:$P146)))))")," ")
A98: 97 | D98: WS B | E98: 6 | G98: Rejoice Nwokedi, FAN | I98: v | L98: Elena Meng, HUM | M98: 21-14, 21-0, | O98: =IFERROR(__xludf.DUMMYFUNCTION("IF(ROW(#REF!) > MAX(IFERROR(MATCH(1, B:B, 0), 0), IFERROR(MATCH(2, B:B, 0), 0), IFERROR(MATCH(3, B:B, 0), 0), IFERROR(MATCH(4, B:B, 0), 0), IFERROR(MATCH(5, B:B, 0), 0), IFERROR(MATCH(6, B:B, 0), 0), IFERROR(MATCH(7, B:B, 0), 0), IFERROR(MATCH(8, B:B, 1),"&" 0)),NOT(ISERROR(FILTER(ARRAYFORMULA(IFERROR(SEARCH(INDIRECT(""$P$2:$P"" & TEXT(COUNTIF(($P$2:P146), ""<>""), ""0"")),G98 & "" "" & L98),"""")), ARRAYFORMULA(IFERROR(SEARCH(INDIRECT(""$P$2:$P"" & TEXT(COUNTIF(($P$2:P146), ""<>""), ""0"")),G98 & "" "" & L9"&"8),"""")) <> """"))), 0)"),"#REF!") -> #REF! | Q98: =IFERROR(__xludf.DUMMYFUNCTION("IF(AND(OR(COUNTA(FILTER($P$2:$P146, ARRAYFORMULA(ISNUMBER(FIND($P$2:$P146, G98))))) > 0, COUNTA(FILTER($P$2:$P146, ARRAYFORMULA(ISNUMBER(FIND($P$2:$P146, L98))))) > 0), NOT(ISNUMBER(#REF!))), TRUE(), FALSE())"),FALSE) -> FALSE | R98: =IFERROR(__xludf.DUMMYFUNCTION("IF(ISNA(JOIN("", "", FILTER($P$2:$P146, ARRAYFORMULA(ISNUMBER(FIND($P$2:$P146, G98))), NOT(ISBLANK($P$2:$P146))))), "" "", JOIN("", "", FILTER($P$2:$P146, ARRAYFORMULA(ISNUMBER(FIND($P$2:$P146, G98))), NOT(ISBLANK($P$2:$P146)))))")," ") | S98: =IFERROR(__xludf.DUMMYFUNCTION("IF(ISNA(JOIN("", "", FILTER($P$2:$P146, ARRAYFORMULA(ISNUMBER(FIND($P$2:$P146, L98))), NOT(ISBLANK($P$2:$P146))))), "" "", JOIN("", "", FILTER($P$2:$P146, ARRAYFORMULA(ISNUMBER(FIND($P$2:$P146, L98))), NOT(ISBLANK($P$2:$P146)))))")," ")
D99: WS B | E99: 6 | G99: Alexa Clark, CAM | I99: v | L99: Shubhi Yadav, CON | N99: CON WITHDRAWAL | O99: =IFERROR(__xludf.DUMMYFUNCTION("IF(ROW(#REF!) > MAX(IFERROR(MATCH(1, B:B, 0), 0), IFERROR(MATCH(2, B:B, 0), 0), IFERROR(MATCH(3, B:B, 0), 0), IFERROR(MATCH(4, B:B, 0), 0), IFERROR(MATCH(5, B:B, 0), 0), IFERROR(MATCH(6, B:B, 0), 0), IFERROR(MATCH(7, B:B, 0), 0), IFERROR(MATCH(8, B:B, 1),"&" 0)),NOT(ISERROR(FILTER(ARRAYFORMULA(IFERROR(SEARCH(INDIRECT(""$P$2:$P"" & TEXT(COUNTIF(($P$2:P146), ""<>""), ""0"")),G99 & "" "" & L99),"""")), ARRAYFORMULA(IFERROR(SEARCH(INDIRECT(""$P$2:$P"" & TEXT(COUNTIF(($P$2:P146), ""<>""), ""0"")),G99 & "" "" & L9"&"9),"""")) <> """"))), 0)"),"#REF!") -> #REF! | Q99: =IFERROR(__xludf.DUMMYFUNCTION("IF(AND(OR(COUNTA(FILTER($P$2:$P146, ARRAYFORMULA(ISNUMBER(FIND($P$2:$P146, G99))))) > 0, COUNTA(FILTER($P$2:$P146, ARRAYFORMULA(ISNUMBER(FIND($P$2:$P146, L99))))) > 0), NOT(ISNUMBER(#REF!))), TRUE(), FALSE())"),FALSE) -> FALSE | R99: =IFERROR(__xludf.DUMMYFUNCTION("IF(ISNA(JOIN("", "", FILTER($P$2:$P146, ARRAYFORMULA(ISNUMBER(FIND($P$2:$P146, G99))), NOT(ISBLANK($P$2:$P146))))), "" "", JOIN("", "", FILTER($P$2:$P146, ARRAYFORMULA(ISNUMBER(FIND($P$2:$P146, G99))), NOT(ISBLANK($P$2:$P146)))))")," ") | S99: =IFERROR(__xludf.DUMMYFUNCTION("IF(ISNA(JOIN("", "", FILTER($P$2:$P146, ARRAYFORMULA(ISNUMBER(FIND($P$2:$P146, L99))), NOT(ISBLANK($P$2:$P146))))), "" "", JOIN("", "", FILTER($P$2:$P146, ARRAYFORMULA(ISNUMBER(FIND($P$2:$P146, L99))), NOT(ISBLANK($P$2:$P146)))))")," ")
A100: 99 | D100: WS A | E100: 6 | G100: Chelsea Kennedy, CAM | I100: v | L100: Rachel Chan, HUM | M100: 1-21, 8-21 | O100: =IFERROR(__xludf.DUMMYFUNCTION("IF(ROW(#REF!) > MAX(IFERROR(MATCH(1, B:B, 0), 0), IFERROR(MATCH(2, B:B, 0), 0), IFERROR(MATCH(3, B:B, 0), 0), IFERROR(MATCH(4, B:B, 0), 0), IFERROR(MATCH(5, B:B, 0), 0), IFERROR(MATCH(6, B:B, 0), 0), IFERROR(MATCH(7, B:B, 0), 0), IFERROR(MATCH(8, B:B, 1),"&" 0)),NOT(ISERROR(FILTER(ARRAYFORMULA(IFERROR(SEARCH(INDIRECT(""$P$2:$P"" & TEXT(COUNTIF(($P$2:P146), ""<>""), ""0"")),G100 & "" "" & L100),"""")), ARRAYFORMULA(IFERROR(SEARCH(INDIRECT(""$P$2:$P"" & TEXT(COUNTIF(($P$2:P146), ""<>""), ""0"")),G100 & "" "" &"&" L100),"""")) <> """"))), 0)"),"#REF!") -> #REF! | Q100: =IFERROR(__xludf.DUMMYFUNCTION("IF(AND(OR(COUNTA(FILTER($P$2:$P146, ARRAYFORMULA(ISNUMBER(FIND($P$2:$P146, G100))))) > 0, COUNTA(FILTER($P$2:$P146, ARRAYFORMULA(ISNUMBER(FIND($P$2:$P146, L100))))) > 0), NOT(ISNUMBER(#REF!))), TRUE(), FALSE())"),FALSE) -> FALSE | R100: =IFERROR(__xludf.DUMMYFUNCTION("IF(ISNA(JOIN("", "", FILTER($P$2:$P146, ARRAYFORMULA(ISNUMBER(FIND($P$2:$P146, G100))), NOT(ISBLANK($P$2:$P146))))), "" "", JOIN("", "", FILTER($P$2:$P146, ARRAYFORMULA(ISNUMBER(FIND($P$2:$P146, G100))), NOT(ISBLANK($P$2:$P146)))))")," ") | S100: =IFERROR(__xludf.DUMMYFUNCTION("IF(ISNA(JOIN("", "", FILTER($P$2:$P146, ARRAYFORMULA(ISNUMBER(FIND($P$2:$P146, L100))), NOT(ISBLANK($P$2:$P146))))), "" "", JOIN("", "", FILTER($P$2:$P146, ARRAYFORMULA(ISNUMBER(FIND($P$2:$P146, L100))), NOT(ISBLANK($P$2:$P146)))))")," ")
...

Sheet Roster
C1: 2025 OCAA Provincial Championships by Conestoga College
A2: EAST | C2: Boréal Vipères | D2: Centennial Colts | E2: George Brown Huskies | F2: Lambton Lions | G2: Seneca Sting
B3: MS A | C3: ="[BOR] " & B3 -> [BOR] MS A | D3: ="[CEN] " & B3 -> [CEN] MS A | E3: ="[GBC] " & $B3 -> [GBC] MS A | F3: ="[LAM] " & $B3 -> [LAM] MS A | G3: ="[SEN] " & $B3 -> [SEN] MS A
B4: MS B | C4: ="[BOR] " & B4 -> [BOR] MS B | D4: ="[CEN] " & B4 -> [CEN] MS B | E4: ="[GBC] " & $B4 -> [GBC] MS B | F4: ="[LAM] " & $B4 -> [LAM] MS B | G4: ="[SEN] " & $B4 -> [SEN] MS B
B5: WS A | C5: ="[BOR] " & B5 -> [BOR] WS A | D5: ="[CEN] " & B5 -> [CEN] WS A | E5: ="[GBC] " & $B5 -> [GBC] WS A | F5: ="[LAM] " & $B5 -> [LAM] WS A | G5: ="[SEN] " & $B5 -> [SEN] WS A
B6: WS B | C6: ="[BOR] " & B6 -> [BOR] WS B | D6: ="[CEN] " & B6 -> [CEN] WS B | E6: ="[GBC] " & $B6 -> [GBC] WS B | F6: ="[LAM] " & $B6 -> [LAM] WS B | G6: ="[SEN] " & $B6 -> [SEN] WS B
B7: MD | C7: ="[BOR] " & B7 -> [BOR] MD | D7: ="[CEN] " & B7 -> [CEN] MD | E7: ="[GBC] " & $B7 -> [GBC] MD | F7: ="[LAM] " & $B7 -> [LAM] MD | G7: ="[SEN] " & $B7 -> [SEN] MD
B8: WD | C8: ="[BOR] " & B8 -> [BOR] WD | D8: ="[CEN] " & B8 -> [CEN] WD | E8: ="[GBC] " & $B8 -> [GBC] WD | F8: ="[LAM] " & $B8 -> [LAM] WD | G8: ="[SEN] " & $B8 -> [SEN] WD
B9: XD | C9: ="[BOR] " & B9 -> [BOR] XD | D9: ="[CEN] " & B9 -> [CEN] XD | E9: ="[GBC] " & $B9 -> [GBC] XD | F9: ="[LAM] " & $B9 -> [LAM] XD | G9: ="[SEN] " & $B9 -> [SEN] XD
B10: COACHES | C10: [Head Coach] Brittany Bisson | D10: [Head Coach] Phil Tungate | E10: [Head Coach] Howard Wong | F10: [Head Coach] Rick Brown | G10: [Head Coach] Rick Leung
C11: [Asst. Coach] Lynn Michel | D11: [Asst. Coach] Ayubu Touray | E11: [Asst. Coach] Yunji Kim | F11: [Head Coach] Shashank Naik | G11: [Asst. Coach] Tuan Ninh Le
C12: [Asst. Coach] Jason Lytle | D12: [Asst. Coach] Gavin Robinson | E12: [Asst. Coach] Monique Lee | G12: [Asst. Coach] Erica Ly
G13: [Asst. Coach] Moti Shams
A15: WEST | C15: Cambrian Golden Shield | D15: Conestoga Condors | E15: Fanshawe Falcons | F15: Humber Hawks | G15: St. Lawrence Surge
B16: MS A | C16: ="[CAM] " & $B16 -> [CAM] MS A | D16: ="[CON] " & $B16 -> [CON] MS A | E16: ="[FAN] " & $B16 -> [FAN] MS A | F16: ="[HUM] " & $B16 -> [HUM] MS A | G16: ="[STL] " & $B16 -> [STL] MS A
B17: MS B | C17: ="[CAM] " & $B17 -> [CAM] MS B | D17: ="[CON] " & $B17 -> [CON] MS B | E17: ="[FAN] " & $B17 -> [FAN] MS B | F17: ="[HUM] " & $B17 -> [HUM] MS B | G17: ="[STL] " & $B17 -> [STL] MS B
B18: WS A | C18: ="[CAM] " & $B18 -> [CAM] WS A | D18: ="[CON] " & $B18 -> [CON] WS A | E18: ="[FAN] " & $B18 -> [FAN] WS A | F18: ="[HUM] " & $B18 -> [HUM] WS A | G18: ="[STL] " & $B18 -> [STL] WS A
B19: WS B | C19: ="[CAM] " & $B19 -> [CAM] WS B | D19: ="[CON] " & $B19 -> [CON] WS B | E19: ="[FAN] " & $B19 -> [FAN] WS B | F19: ="[HUM] " & $B19 -> [HUM] WS B | G19: ="[STL] " & $B19 -> [STL] WS B
B20: MD | C20: ="[CAM] " & $B20 -> [CAM] MD | D20: ="[CON] " & $B20 -> [CON] MD | E20: ="[FAN] " & $B20 -> [FAN] MD | F20: ="[HUM] " & $B20 -> [HUM] MD | G20: ="[STL] " & $B20 -> [STL] MD
B21: WD | C21: ="[CAM] " & $B21 -> [CAM] WD | D21: ="[CON] " & $B21 -> [CON] WD | E21: ="[FAN] " & $B21 -> [FAN] WD | F21: ="[HUM] " & $B21 -> [HUM] WD | G21: ="[STL] " & $B21 -> [STL] WD
B22: XD | C22: ="[CAM] " & $B22 -> [CAM] XD | D22: ="[CON] " & $B22 -> [CON] XD | E22: ="[FAN] " & $B22 -> [FAN] XD | F22: ="[HUM] " & $B22 -> [HUM] XD | G22: ="[STL] " & $B22 -> [STL] XD
B23: COACHES | C23: [Head Coach] Jofray Anto | D23: [Head Coach] Valliappan Padmanabhan | E23: [Head Coach] Steve Ruddach | F23: [Head Coach] Chloe Rowe | G23: [Head Coach] Eric Pattinson
C24: [Asst. Coach] Cameron Duff | D24: [Asst. Coach] Derek Lenos | E24: [Asst. Coach] Thao Le | F24: [Asst. Coach] Calvin Leung
D25: [Asst. Coach] Kevin Jos | E25: [Asst. Coach] San Dang | F25: [Asst. Coach] Airi Moromisato
D26: [Asst. Coach] Liz Duong | E26: [Asst. Coach] Sarah Ruddach

Sheet MS
B1: Men's Singles
C3: Pool A | D3: Tim Lock, HUM | E3: Sebastien Liu, SEN | F3: Ram Ng, FAN | G3: Prabhkirat Singh, CAM | H3: Akashdeep Singh, CON | I3: Dalton Baxter, LAN | K3: Matches Won | L3: Games Won | M3: Games Lost | N3: Point Diff | O3: Rank
B4: (1) | C4: Tim Lock, HUM | E4: 21-4, 21-5 | F4: 21-4, 21-4 | G4: 21-0, 21-2 | H4: 21-3, 21-6 | I4: 21-2, 21-1 | K4: 4 | L4: 8 | M4: 0 | O4: 1
C5: Sebastien Liu, SEN | D5: 4-21, 5-21 | F5: 15-21, 14-21 | G5: 21-7, 21-13 | H5: 21-17, 21-8 | I5: 21-11, 21-8 | K5: 3 | L5: 6 | M5: 4 | O5: 3
C6: Ram Ng, FAN | D6: 4-21, 5-21 | E6: 21-15, 21-14 | G6: 21-5, 21-4 | H6: 21-10, 21-16 | I6: 21-6, 21-8 | K6: 4 | L6: 8 | O6: 2
C7: Prabhkirat Singh, CAM | D7: 0-21, 2-21 | E7: 7-21, 13-21 | F7: 10-21, 16-21 | H7: 7-21, 8-21 | I7: 21-7, 21-7 | K7: 1 | L7: 2 | M7: 8 | O7: 5
C8: Akashdeep Singh, CON | D8: 3-21, 6-21 | E8: 17-21, 8-21 | F8: 5-21, 4-21 | G8: 21-7, 21-8 | I8: 21-7, 21-7 | K8: 2 | L8: 4 | M8: 6 | O8: 4
C9: Dalton Baxter, LAM | D9: 2-21, 1-21 | E9: 11-21, 8-21 | F9: 6-21, 8-21 | G9: 21-15, 18-21, 16-21 | H9: 7-21, 7-21 | K9: 0 | L9: 1 | M9: 10 | O9: 6
C11: Pool B | D11: =C12 -> Arpi Sinha, FAN | E11: =C13 -> Maulik Jain, SEN | F11: =C14 -> Reanbert Valentino, HUM | G11: Daniel Collins, CAM | H11: Thinh Nguyen, CON | I11: Milton Smith, LAM | J11: Grey Pope, BOR | K11: Matches Won | L11: Games Won | M11: Games Lost | N11: Point Diff | O11: Rank
B12: (2) | C12: Arpi Sinha, FAN | E12: 21-9, 21-10 | F12: 21-2, 21-4 | G12: 21-3, 21-7 | H12: 21-2, 21-8 | I12: 21-4, 21-9 | J12: 21-2, 21-4 | K12: 5 | L12: 10 | O12: 1
C13: Maulik Jain, SEN | D13: 9-21, 10-21 | F13: 21-10, 21-9 | G13: 21-10, 21-6 | H13: 21-8, 21-6 | I13: 21-8, 21-10 | J13: 21-7, 21-7 | K13: 4 | L13: 8 | M13: 2 | O13: 2
C14: Reanbert Valentino, HUM | D14: 2-21, 4-21 | E14: 10-21, 9-21 | G14: 21-15, 22-20 | H14: 12-21, 14-21 | I14: 21-18, 21-13 | J14: 21-16, 15-21, 21-18 | K14: 3 | L14: 6 | M14: 3 | O14: 3
C15: Daniel Collins, CAM | D15: 3-21, 7-21 | E15: 10-21, 6-21 | F15: 15-21, 20-22 | H15: 16-21, 19-21 | I15: 21-14, 21-16 | J15: 21-14, 21-10 | K15: 2 | L15: 4 | M15: 6 | O15: 4
C16: Thinh Nguyen, CON | D16: 2-21, 8-21 | E16: 8-21, 6-21 | F16: 21-14, 21-14 | G16: 21-16, 21-19 | I16: 15-21, 12-21 | J16: 21-16, 21-15 | K16: 1 | L16: 2 | M16: 8 | O16: 5
C17: Milton Smith, LAM | D17: 4-21, 9-21 | E17: 8-21, 10-21 | F17: 18-21, 13-21 | G17: 14-21, 16-21 | H17: 21-9, 21-18 | J17: 21-15, 21-12 | K17: 1 | L17: 2 | M17: 8 | O17: 5
C18: Grey Pope, BOR | D18: 2-21, 4-21 | E18: 7-21, 7-21 | F18: 16-21, 21-15, 18-21 | G18: 14-21, 10-21 | H18: 16-21, 15-21 | I18: 9-21, 18-21 | K18: 0 | L18: 1 | M18: 10 | O18: 6
C20: Playoffs | M20: *** If a tie exists, the higher placing shall be awarded to the competitor(s) losing the least number of games between the competitors tied.
B21: Quarterfinals | D21: Semifinals | F21: Gold Finals | H21: Gold Medalist
D24: Tim Lock, HUM
D25: 1st Pool A
F26: Tim Lock, HUM
B27: Maulik Jain, SEN
C28: 2nd Pool B
B29: 3rd Pool A | D29: Maulik Jain, SEN
C30: Sebastien Liu, SEN | H30: Tim Lock, HUM
D32: Arpi Sinha, FAN
D33: 1st Pool B
B35: Ram Ng, FAN | F35: Arpi Sinha, FAN
C36: 2nd Pool A
B37: 3rd Pool B | D37: Ram Ng, FAN
C38: Milton Smith, LAM
C40: Bronze Finals | E40: Bronze Medalist
C42: Maulik Jain, SEN
C43: Loser Top Side Semifinals | E43: Ram Ng, FAN
C44: Ram Ng, FAN
C45: Loser Botton Side Semifinals

Sheet WS
B1: Women's Singles
C3: Pool A | D3: =C4 -> Rachel Chan, HUM | E3: =C5 -> Samantha Darby, FAN | F3: =C6 -> Tiffany Amper, SEN | G3: =C7 -> Chelsea Kennedy, CAM | H3: =C8 -> Alyssa Gagne, BOR | J3: Matches Won | K3: Games Won | L3: Games Lost | M3: Point Diff | N3: Rank
B4: (1) | C4: Rachel Chan, HUM | E4: 21-5, 21-4 | F4: 21-4, 21-3 | G4: 21-1, 21-8 | H4: 21-1, 21-2 | J4: 4 | K4: 8 | L4: 0 | N4: 1
C5: Samantha Darby, FAN | D5: 5-21, 4-21 | F5: 21-10, 21-13 | G5: 21-19, 21-14 | H5: 21-3, 21-5 | J5: 3 | K5: 6 | L5: 2 | N5: 2
C6: Tiffany Amper, SEN | D6: 4-21, 5-21 | E6: 10-21, 13-21 | G6: 24-22, 21-10 | H6: 21-4, 21-7 | J6: 2 | K6: 4 | L6: 4 | N6: 3
C7: Chelsea Kennedy, CAM | D7: 1-21, 8-21 | E7: 19-21, 14-21 | F7: 22-24, 10-21 | H7: 21-9, 21-10 | J7: 2 | K7: 4 | L7: 4 | N7: 4
C8: Alyssa Gagne, BOR | D8: 1-21, 2-21 | E8: 3-21, 5-21 | F8: 4-21, 7-21 | G8: 9-21, 10-21 | J8: 0 | K8: 0 | L8: 6 | N8: 5
C10: Pool B | D10: =C11 -> Elena Meng, HUM | E10: =C12 -> Chincco Lai, SEN | F10: =C13 -> Shubhi Yadav, CON | G10: =C14 -> Rejoice Nwokedi, FAN | H10: =C15 -> Alexa Clark, CAM | I10: =C16 -> Mackenzie Pilon, BOR | J10: Matches Won | K10: Games Won | L10: Games Lost | M10: Point Diff | N10: Rank
B11: (2) | C11: Elena Meng, HUM | E11: 21-16, 19-21, 18-21 | F11: X | G11: 14-21, 0-21 | H11: 21-6, 21-3 | I11: 21-10, 21-3 | J11: 3 | K11: 6 | L11: 1 | N11: 3
C12: Chincco Lai, SEN | D12: 16-21, 21-19, 21-18 | F12: X | G12: 21-12, 21-6 | H12: 21-4, 21-6 | I12: 21-4, 21-5 | J12: 4 | K12: 8 | L12: 1 | N12: 1
C13: Shubhi Yadav, CON | D13: X | E13: X | G13: X | H13: X | I13: X
C14: Rejoice Nwokedi, FAN | D14: 21-14, 21-0 | E14: 12-21, 6-21 | F14: X | H14: 21-10, 21-13 | I14: 21-14, 21-11 | J14: 3 | K14: 6 | L14: 4 | N14: 2
C15: Alexa Clark, CAM | D15: 6-21, 3-21 | E15: 4-21, 6-21 | F15: X | G15: 10-21, 13-21 | I15: 21-9, 21-10 | J15: 0 | K15: 0 | L15: 6 | N15: 4
C16: Mackenzie Pilon, BOR | D16: 10-21, 3-21 | E16: 4-21, 5-21 | F16: X | G16: 14-21, 11-21 | H16: 9-21, 10-21 | J16: 0 | K16: 0 | L16: 8 | N16: 4
C17: Playoffs | N17: *** If a tie exists, the higher placing shall be awarded to the competitor(s) losing the least number of games between the competitors tied.
B18: Quarterfinals | D18: Semifinals | F18: Gold Finals | H18: Gold Medalist
D21: Rachel Chan, HUM
D22: 1st Pool A
F23: Rachel Chan, HUM
B24: Rejoice Nwokedi, FAN
C25: 2nd Pool B
B26: 3rd Pool A | D26: Elena Meng, HUM | H26: Rachel Chan, HUM
C27: Tiffany Amper, SEN
D29: Chincco Lai, SEN
D30: 1st Pool B
B32: Samantha Darby, FAN | F32: Chincco Lai, SEN
C33: 2nd Pool A
B34: 3rd Pool B | D34: Tiffany Amper, SEN
C35: Elena Meng, HUM
C37: Bronze Finals | E37: Bronze Medalist
C39: Elena Meng, HUM
C40: Loser Top Side Semifinals
C41: Tiffany Amper, SEN
C42: Loser Botton Side Semifinals

Sheet WD
B1: Women's Doubles
D3: =C4 -> V. Somaroo & M. Mercier, BOR | E3: =C5 -> A. Janybek & A. Kai, CON | F3: =C6 -> T. Vaidya & N. Kim, FAN | G3: =C7 -> S. Wu & S. Joshi, HUM | H3: =C8 -> S. Godek & L. Goldsack, LAM | I3: A. Xing & V. Lam, SEN | J3: Matches Won | K3: Games Won | L3: Games Lost | M3: Point Diff | N3: Rank
C4: V. Somaroo & M. Mercier, BOR | E4: 21-11, 21-4 | F4: 4-21, 12-21 | G4: 4-21, 5-21 | H4: 22-20, 17-21, 13-21 | I4: 8-21, 5-21 | J4: 0 | K4: 1 | L4: 8 | N4: 6
C5: A. Janybek & A. Kai, CON | D5: 11-21, 4-21 | F5: 4-21, 0-21 | G5: 4-21, 6-21 | H5: 21-18, 21-16 | I5: 5-21, 13-21 | J5: 1 | K5: 2 | L5: 6 | N5: 5
C6: T. Vaidya & N. Kim, FAN | D6: 21-4, 21-12 | E6: 21-4, 21-0 | G6: 6-21, 7-21 | H6: 21-10, 21-11 | I6: 19-21, 21-15, 19-21 | J6: 3 | K6: 7 | L6: 2 | N6: 3
C7: S. Wu & S. Joshi, HUM | D7: 21-4, 21-5 | E7: 21-4, 21-6 | F7: 21-6, 21-7 | H7: 21-4, 21-7 | I7: 21-14, 19-21, 21-14 | J7: 4 | K7: 8 | L7: 1 | N7: 1
C8: S. Godek & L. Goldsack, LAM | D8: 20-22, 21-17, 21-13 | E8: 21-18, 21-6 | F8: 10-21, 11-21 | G8: 4-21, 7-21 | I8: 11-21, 11-21 | J8: 2 | K8: 4 | L8: 6 | N8: 4
C9: A. Xing & V. Lam, SEN | D9: 21-8, 21-5 | E9: 21-5, 21-13 | F9: 21-19, 15-21, 21-19 | G9: 14-21, 21-19, 14-21 | H9: 21-11, 21-11 | J9: 4 | K9: 9 | L9: 3 | N9: 2
C10: Playoffs | M10: *** If a tie exists, the higher placing shall be awarded to the competitor(s) losing the least number of games between the competitors tied.
B11: Semifinals | D11: Gold Finals | F11: Gold Medalist
B13: S. Wu & S. Joshi, HUM
B14: 1st Place
D15: S. Wu & S. Joshi, HUM
B17: S. Godek & L. Goldsack, LAM
B18: 4th Place
F19: S. Wu & S. Joshi, HUM
B21: A. Xing & V. Lam, SEN
B22: 2nd Place
D24: A. Xing & V. Lam, SEN
B25: T. Vaidya & N. Kim, FAN
B26: 3rd Place
B28: Bronze Finals | D28: Bronze Medalist
B30: S. Godek & L. Goldsack, LAM
B31: Loser Top Side Semifinals | D31: T. Vaidya & N. Kim, FAN
B32: T. Vaidya & N. Kim, FAN
B33: Loser Botton Side Semifinals

Sheet MD
B1: Men's Doubles
D3: =C4 -> A. Atkins & E. Leduc, BOR | E3: =C5 -> H. Joshy John & G. Hebner, CAM | F3: =C6 -> M. Barnes & R. Tu, CON | G3: =C7 -> T. Le & T. Nguyen, FAN | H3: =C8 -> T. Vicente-Pereira & Miranda, HUM | I3: G. Clark & L. Aarts, LAM | J3: B. Lai & J. Lau, SEN | K3: Matches Won | L3: Games Won | M3: Games Lost | N3: Point Diff | O3: Rank
C4: A. Atkins & E. Leduc, BOR | E4: 22-24, 14-21 | F4: 13-21, 4-21 | G4: 6-21, 4-21 | H4: 12-21, 15-21 | I4: 21-14, 18-21, 21-15 | J4: 6-21, 3-21 | K4: 2 | L4: 4 | M4: 6
C5: H. Joshy John & G. Hebner, CAM | D5: 24-22, 21-14 | F5: 11-21, 9-21 | G5: 15-21, 5-21 | H5: 19-21, 19-21 | I5: 21-16, 21-13 | J5: 7-21, 6-21 | K5: 2 | L5: 4 | M5: 4
C6: M. Barnes & R. Tu, CON | D6: 21-13, 21-4 | E6: 21-11, 21-19 | G6: 12-21, 10-21 | H6: 21-19, 21-13 | I6: 21-7, 21-12 | J6: 10-21, 12-21 | K6: 2 | L6: 4 | M6: 4
C7: T. Le & T. Nguyen, FAN | D7: 21-6, 21-4 | E7: 21-15, 21-5 | F7: 21-12, 21-10 | H7: 21-17, 21-13 | I7: 21-8, 21-6 | J7: 21-18, 20-22, 12-21 | K7: 5 | L7: 11 | M7: 2 | O7: 2
C8: T. Vicente-Pereira & Miranda, HUM | D8: 21-12, 21-15 | E8: 21-19, 21-19 | F8: 15-21, 13-21 | G8: 17-21, 13-21 | I8: 21-17, 21-13 | J8: 13-21, 9-21 | K8: 3 | L8: 6 | M8: 2 | O8: 3
C9: G. Clark & L. Aarts, LAM | D9: 14-21, 21-18, 15-21 | E9: 16-21, 13-21 | F9: 7-21, 12-21 | G9: 8-21, 6-21 | H9: 7-21, 13-21 | J9: 5-21, 6-21 | K9: 0 | L9: 1 | M9: 10
C10: B. Lai & J. Lau, SEN | D10: 21-6, 21-3 | E10: 21-7, 21-6 | F10: 21-10, 21-12 | G10: 18-21, 22-20, 21-12 | H10: 21-13, 9-13 | I10: 21-5, 21-6 | K10: 6 | L10: 12 | M10: 1 | O10: 1
C11: Playoffs | M11: *** If a tie exists, the higher placing shall be awarded to the competitor(s) losing the least number of games between the competitors tied.
B12: Semifinals | D12: Gold Finals | F12: Gold Medalist
B14: B. Lai & J. Lau, SEN
B15: 1st Place
D16: B. Lai & J. Lau, SEN
B18: T. Vicente-Pereira & Miranda, HUM
B19: 4th Place
F20: B. Lai & J. Lau, SEN
B22: T. Le & T. Nguyen, FAN
B23: 2nd Place
D24: T. Le & T. Nguyen, FAN
B26: M. Barnes & R. Tu, CON
B27: 4th Place
B29: Bronze Finals | D29: Bronze Medalist
B31: T. Vicente-Pereira & Miranda, HUM
B32: Loser Top Side Semifinals | D32: M. Barnes & R. Tu, CON
B33: M. Barnes & R. Tu, CON
B34: Loser Botton Side Semifinals

Sheet XD
B1: Mixed Doubles
D3: =C4 -> J. Atkins & L. Richards, BOR | E3: =C5 -> D. Brunette-Royer & J. Hopkins, CAM | F3: =C6 -> N. Bridge & M. Muqeem, CON | G3: =C7 -> S. Mohammad & X. Niu, FAN | H3: =C8 -> J. Ronahan & C. Choi, HUM | I3: C. Clayton & J. Hillier, LAM | J3: A. Tso & A. Iran, SEN | K3: Matches Won | L3: Games Won | M3: Games Lost | N3: Point Diff | O3: Rank
C4: J. Atkins & L. Richards, BOR | E4: 21-11, 21-8 | F4: 10-21, 5-21 | G4: 8-21, 11-21 | H4: 21-8, 21-5 | I4: 21-18, 18-21, 21-19 | J4: 6-21, 8-21 | K4: 3 | L4: 6 | M4: 5
C5: D. Brunette-Royer & J. Hopkins, CAM | D5: 11-21, 8-21 | F5: 16-21, 20-22 | G5: 12-21, 12-21 | H5: 8-21, 8-21 | I5: 21-8, 21-8 | J5: 15-21, 21-14, 15-21 | K5: 1 | L5: 3 | M5: 8
C6: N. Bridge & M. Muqeem, CON | D6: 21-10, 21-5 | E6: 21-16, 22-20 | G6: 18-21, 15-21 | H6: 4-21, 7-21 | I6: 21-13, 21-15 | J6: 13-21, 7-21 | K6: 3 | L6: 6 | M6: 6 | O6: 4
C7: S. Mohammad & X. Niu, FAN | D7: 21-8, 21-11 | E7: 21-12, 21-12 | F7: 21-18, 21-15 | H7: 14-21, 14-21 | I7: 21-9, 21-8 | J7: 17-21, 9-21 | K7: 4 | L7: 8 | M7: 0 | O7: 3
C8: J. Ronahan & C. Choi, HUM | D8: 21-8, 21-5 | E8: 21-8, 21-8 | F8: 21-4, 21-7 | G8: 21-14, 21-14 | I8: 21-4, 21-8 | J8: 21-14, 21-9 | K8: 6 | L8: 12 | M8: 0 | O8: 1
C9: C. Clayton & J. Hillier, LAM | D9: 18-21, 21-18, 19-21 | E9: 8-21, 8-21 | F9: 13-21, 15-21 | G9: 9-21, 8-21 | H9: 4-21, 8-21 | J9: 7-21, 10-21 | K9: 0 | L9: 1 | M9: 8
C10: A. Tso & A. Iran, SEN | D10: 21-6, 21-8 | E10: 21-15, 14-21, 21-15 | F10: 21-13, 21-7 | G10: 21-17, 21-9 | H10: 14-21, 9-21 | I10: 21-7, 21-10 | K10: 5 | L10: 10 | M10: 3 | O10: 2
C11: Playoffs | M11: *** If a tie exists, the higher placing shall be awarded to the competitor(s) losing the least number of games between the competitors tied.
B12: Semifinals | D12: Gold Finals | F12: Gold Medalist
B14: J. Ronahan & C. Choi, HUM
B15: 1st Place
D16: J. Ronahan & C. Choi, HUM
B18: D. Brunette-Royer & J. Hopkins, CAM
B19: 4th Place
F20: J. Ronahan & C. Choi, HUM
B22: A. Tso & A. Iran, SEN
B23: 2nd Place
D25: A. Tso & A. Iran, SEN
B26: S. Mohammad & X. Niu, FAN
B27: 3rd Place
B29: Bronze Finals | D29: Bronze Medalist
B31: D. Brunette-Royer & J. Hopkins, CAM
B32: Loser Top Side Semifinals | D32: S. Mohammad & X. Niu, FAN
B33: S. Mohammad & X. Niu, FAN
B34: Loser Botton Side Semifinals
